BEGIN:VCALENDAR
VERSION:2.0
PRODID:-//jEvents 2.0 for Joomla//EN
CALSCALE:GREGORIAN
METHOD:PUBLISH
BEGIN:VEVENT
UID:3e108a6cb7a20c464bc172257d854e92
CATEGORIES:Other Fly-In
CREATED:20130528T164542
SUMMARY:EAA 586 Annual Fly-In Breakfast and Young Eagles
LOCATION:Show Low
DESCRIPTION;ENCODING=QUOTED-PRINTABLE:\n\n\n\nClick Here to Download the PDF Flyer\n\n\nExperimental Aircraft Ass
 ociation (EAA) Show Low Chapter 586\nAnnual Fly-In Pancake Breakfast And Yo
 ung Eagles Flights\nSaturday, June 22nd—7 AM to 10 AM\nBreakfast:&nbsp;$4 f
 or Kids 12 and under $6 for Adults Free to military in uniform!\nFree Young
  Eagles introductory flights from 7 AM to 9 AM\nThe EAA Young Eagles progra
 m gives kids from 8 to 17 a free airplane ride, a FAA approved pilot logboo
 k to record this and future flights, a certificate of achievement, and free
  access to the Sportys.com on-line Ground School course of study—an amazing
  $215 value!&nbsp;Must be accompanied by parent or guardian.\nKSOW—Show Low
  Regional Airport \nCTAF 123.00 / AWOS 118.075—(928-532-0379) \nElev.: 6412
 —Runways: 6/24 and 3/21 \n100LL &amp; Jet A available—AVGAS discounted for 
 those \nwho fly-in &amp; buy breakfast. Profits promote General \nAviation 
 and the EAA Young Eagles Program. \nFor information call (928) 925-0755 or 
 (928) 537-7751\n&nbsp;\n
CONTACT:(928) 925-0755 or (928) 537-7751
DTSTAMP:20260420T133937Z
DTSTART;TZID=America/Phoenix:20130622T070000
DTEND;TZID=America/Phoenix:20130622T100000
SEQUENCE:0
TRANSP:OPAQUE
END:VEVENT
END:VCALENDAR