BEGIN:VCALENDAR
VERSION:2.0
PRODID:-//jEvents 2.0 for Joomla//EN
CALSCALE:GREGORIAN
METHOD:PUBLISH
BEGIN:VEVENT
UID:2172ee494113c0948871feab3c331ad3
CATEGORIES:Safety
CREATED:20130929T165915
SUMMARY:TUS Safety Seminar by Fred Gibbs
LOCATION:TUS Pima Community College
DESCRIPTION;ENCODING=QUOTED-PRINTABLE:TUS Safety Seminar by Fred Gibbs\nOctober 21st, 10am at Pima Community Coll
 ege\n\n\nMore details will be posted here as they are available.\n
CONTACT:Fred Gibbs 928-2166-0112 This email address is being protected from spambots. You need JavaScript enabled to view it.
				document.getElementById('cloaka22ab2bd0187cee55b0b056a3b04e707').innerHTML = '';
				var prefix = '&#109;a' + 'i&#108;' + '&#116;o';
				var path = 'hr' + 'ef' + '=';
				var addya22ab2bd0187cee55b0b056a3b04e707 = 'fr&#101;dg&#105;bbs' + '&#64;';
				addya22ab2bd0187cee55b0b056a3b04e707 = addya22ab2bd0187cee55b0b056a3b04e707 + 'npgc&#97;bl&#101;' + '&#46;' + 'c&#111;m';
				var addy_texta22ab2bd0187cee55b0b056a3b04e707 = 'fr&#101;dg&#105;bbs' + '&#64;' + 'npgc&#97;bl&#101;' + '&#46;' + 'c&#111;m';document.getElementById('cloaka22ab2bd0187cee55b0b056a3b04e707').innerHTML += ''+addy_texta22ab2bd0187cee55b0b056a3b04e707+'';
		
DTSTAMP:20260420T064154Z
DTSTART;TZID=America/Phoenix:20131021T100000
SEQUENCE:0
TRANSP:OPAQUE
END:VEVENT
END:VCALENDAR