BEGIN:VCALENDAR
VERSION:2.0
PRODID:-//jEvents 2.0 for Joomla//EN
CALSCALE:GREGORIAN
METHOD:PUBLISH
BEGIN:VEVENT
UID:c06f6314f032813b65eb53ea133946c8
CATEGORIES:Backcountry
CREATED:20140527T140919
SUMMARY:Grapevine Monthly Fly-In Weekend
LOCATION:Grapevine (E75) near Roosevelt Lake
DESCRIPTION;ENCODING=QUOTED-PRINTABLE:\n&nbsp;\nThe camp host for this month is:\n~ Mike Andresen ~\n&nbsp;\n\n\n
 Come out and enjoy the newly installed shades and fire ring. Stay for the d
 ay, or camp out for a night or two.\n&nbsp;\n\n\nSaturday: Hot Dog lunch, P
 otluck Dinner\n\n\n\n\n&nbsp;\nAs always,\nNo landing Fees\nFree Airplane P
 arking\nFree Camping\nFree Black Labrador Petting Zoo\nHiking\nPlenty of Su
 nshine\n\nClick for weather forecast&nbsp;\nThe Dates Have Changed!!!\nGrap
 evine is now open on the&nbsp;FOURTH&nbsp;weekend&nbsp;of each month, Fri t
 hrough Sat.\nClick here for the GRAPEVINE SAFETY BULLETIN\n&nbsp;\nPlease e
 mail&nbsp;This email address is being protected from spambots. You need Jav
 aScript enabled to view it.
				document.getElementById('cloak03309ead5b2b6
 21b2658b131e771c49d').innerHTML = '';
				var prefix = '&#109;a' + 'i&#108;
 ' + '&#116;o';
				var path = 'hr' + 'ef' + '=';
				var addy03309ead5b2b62
 1b2658b131e771c49d = 'msp&#101;nc&#101;r' + '&#64;';
				addy03309ead5b2b62
 1b2658b131e771c49d = addy03309ead5b2b621b2658b131e771c49d + 'th&#101;r&#97;
 f' + '&#46;' + '&#111;rg?cc=t&#101;th&#111;m&#97;s&#111;n';
				var addy_te
 xt03309ead5b2b621b2658b131e771c49d = 'M&#97;rk &#111;r T&#111;mmy';document
 .getElementById('cloak03309ead5b2b621b2658b131e771c49d').innerHTML += ''+ad
 dy_text03309ead5b2b621b2658b131e771c49d+'';
		&nbsp;for more info or if you
  are interested in volunteering.\n&nbsp;\n\n\n\n\n\n\n\n\n\n\n\n
CONTACT:Tommy Thomason This email address is being protected from spambots. You need JavaScript enabled to view it.
				document.getElementById('cloake4eacf5cbb938df541755500a31da036').innerHTML = '';
				var prefix = '&#109;a' + 'i&#108;' + '&#116;o';
				var path = 'hr' + 'ef' + '=';
				var addye4eacf5cbb938df541755500a31da036 = 't&#101;th&#111;m&#97;s&#111;n' + '&#64;';
				addye4eacf5cbb938df541755500a31da036 = addye4eacf5cbb938df541755500a31da036 + '&#97;zp&#105;l&#111;ts' + '&#46;' + '&#111;rg';
				var addy_texte4eacf5cbb938df541755500a31da036 = 't&#101;th&#111;m&#97;s&#111;n' + '&#64;' + '&#97;zp&#105;l&#111;ts' + '&#46;' + '&#111;rg';document.getElementById('cloake4eacf5cbb938df541755500a31da036').innerHTML += ''+addy_texte4eacf5cbb938df541755500a31da036+'';
		 602-708-2040
DTSTAMP:20260419T121727Z
DTSTART;TZID=America/Phoenix;VALUE=DATE:20150522
DTEND;TZID=America/Phoenix;VALUE=DATE:20150525
SEQUENCE:0
TRANSP:OPAQUE
END:VEVENT
END:VCALENDAR