BEGIN:VCALENDAR
VERSION:2.0
PRODID:-//jEvents 2.0 for Joomla//EN
CALSCALE:GREGORIAN
METHOD:PUBLISH
BEGIN:VEVENT
UID:38e2562299d647b9718758b44ae2157b
CATEGORIES:Meetings
CREATED:20170823T113741
SUMMARY:VMC Club "Introductory" Meeting at Chandler
LOCATION:2380 S Stinson Way, Chandler, Arizona 85286
DESCRIPTION;ENCODING=QUOTED-PRINTABLE:VMC Club "Introductory" Meeting\nHosted by EAA VMC Club Arizona\n2380 S Sti
 nson Way, Chandler, Arizona 85286\nTuesday, October 3 at 6 PM - 7 PM MST\n\
 n\n&nbsp;\nAlso check out our Facebook page at www.facebook.com/azvmcclub.\
 nEmail us at This email address is being protected from spambots. You need 
 JavaScript enabled to view it.
				document.getElementById('cloaka3f2653439
 4d84147c1e61a18562e66f').innerHTML = '';
				var prefix = '&#109;a' + 'i&#1
 08;' + '&#116;o';
				var path = 'hr' + 'ef' + '=';
				var addya3f26534394
 d84147c1e61a18562e66f = '&#97;zvmccl&#117;b' + '&#64;';
				addya3f26534394
 d84147c1e61a18562e66f = addya3f26534394d84147c1e61a18562e66f + '&#105;cl&#1
 11;&#117;d' + '&#46;' + 'c&#111;m';
				var addy_texta3f26534394d84147c1e61
 a18562e66f = '&#97;zvmccl&#117;b' + '&#64;' + '&#105;cl&#111;&#117;d' + '&#
 46;' + 'c&#111;m';document.getElementById('cloaka3f26534394d84147c1e61a1856
 2e66f').innerHTML += ''+addy_texta3f26534394d84147c1e61a18562e66f+'';
		\n\
 n\n&nbsp;\n\n\nMeetings are sponsored by Jeppsen and EAA, and open to all p
 ilots regardless of membership and there is no cost or membership fee. \nMo
 re information can be found on the EAA website www.eaa.org/vmcclub\n\n\n&nb
 sp;\n\n\nThe VMC Club is modeled after the popular IMC Club concept which p
 rovides organized &ldquo;hangar flying&rdquo; focused on building proficien
 cy in instrument flying. The VMC Club will do the same, but for pilots who 
 are not instrument rated and fly primarily under visual flight rules in VMC
 . Meetings are held once a month at the Chandler Municipal Airport Terminal
  and open to all pilots free of charge.\nVMC Meetings will have been schedu
 led for first Tuesday of every month&nbsp;6-8pm&nbsp;in the terminal buildi
 ng at Chandler Municipal Airport. First meeting is&nbsp;Tuesday October 3rd
 .&nbsp;Meeting room can accommodate up to 35 pilots so hopefully that will 
 be adequate without having to require reservations.&nbsp;We also started a 
 Facebook page&nbsp;www.facebook.com/azvmcclub&nbsp;and the email will be&nb
 sp;This email address is being protected from spambots. You need JavaScript
  enabled to view it.
				document.getElementById('cloak67142f3d016f6e00814c
 763b81e4cf7f').innerHTML = '';
				var prefix = '&#109;a' + 'i&#108;' + '&#
 116;o';
				var path = 'hr' + 'ef' + '=';
				var addy67142f3d016f6e00814c7
 63b81e4cf7f = '&#97;zvmccl&#117;b' + '&#64;';
				addy67142f3d016f6e00814c7
 63b81e4cf7f = addy67142f3d016f6e00814c763b81e4cf7f + '&#105;cl&#111;&#117;d
 ' + '&#46;' + 'c&#111;m';
				var addy_text67142f3d016f6e00814c763b81e4cf7f
  = '&#97;zvmccl&#117;b' + '&#64;' + '&#105;cl&#111;&#117;d' + '&#46;' + 'c&
 #111;m';document.getElementById('cloak67142f3d016f6e00814c763b81e4cf7f').in
 nerHTML += ''+addy_text67142f3d016f6e00814c763b81e4cf7f+'';
		&nbsp;Meeting
 s are sponsored by Jeppsen and EAA, and open to all pilots regardless of me
 mbership and there is no cost or membership fee. More information can be fo
 und on the EAA website&nbsp;www.eaa.org/vmcclub
CONTACT:(480) 982-6043 This email address is being protected from spambots. You need JavaScript enabled to view it.
				document.getElementById('cloakdba5a8187ee40604873df4f0ce7f2739').innerHTML = '';
				var prefix = '&#109;a' + 'i&#108;' + '&#116;o';
				var path = 'hr' + 'ef' + '=';
				var addydba5a8187ee40604873df4f0ce7f2739 = '&#97;zvmccl&#117;b' + '&#64;';
				addydba5a8187ee40604873df4f0ce7f2739 = addydba5a8187ee40604873df4f0ce7f2739 + '&#105;cl&#111;&#117;d' + '&#46;' + 'c&#111;m';
				var addy_textdba5a8187ee40604873df4f0ce7f2739 = '&#97;zvmccl&#117;b' + '&#64;' + '&#105;cl&#111;&#117;d' + '&#46;' + 'c&#111;m';document.getElementById('cloakdba5a8187ee40604873df4f0ce7f2739').innerHTML += ''+addy_textdba5a8187ee40604873df4f0ce7f2739+'';
		
DTSTAMP:20260419T142540Z
DTSTART;TZID=America/Phoenix:20171003T180000
DTEND;TZID=America/Phoenix:20171003T190000
SEQUENCE:0
TRANSP:OPAQUE
END:VEVENT
END:VCALENDAR