BEGIN:VCALENDAR
VERSION:2.0
PRODID:-//jEvents 2.0 for Joomla//EN
CALSCALE:GREGORIAN
METHOD:PUBLISH
BEGIN:VEVENT
UID:3482808b442449b69595394e535249dd
CATEGORIES:Other Fly-In
CREATED:20170919T144547
SUMMARY:Sierra Vista Open House Young Eagles Breakfast Fly-In
LOCATION:Sierra Vista KFHU
DESCRIPTION;ENCODING=QUOTED-PRINTABLE:\n\n\n\n\n&nbsp;\n\n\n&nbsp;\n
CONTACT:This email address is being protected from spambots. You need JavaScript enabled to view it.
				document.getElementById('cloak19316b8a2d84d824562d23f3510ed20b').innerHTML = '';
				var prefix = '&#109;a' + 'i&#108;' + '&#116;o';
				var path = 'hr' + 'ef' + '=';
				var addy19316b8a2d84d824562d23f3510ed20b = 'yv&#101;tt&#101;.m&#97;tth&#105;&#97;s' + '&#64;';
				addy19316b8a2d84d824562d23f3510ed20b = addy19316b8a2d84d824562d23f3510ed20b + 's&#105;&#101;rr&#97;v&#105;st&#97;&#97;z' + '&#46;' + 'g&#111;v';
				var addy_text19316b8a2d84d824562d23f3510ed20b = 'yv&#101;tt&#101;.m&#97;tth&#105;&#97;s' + '&#64;' + 's&#105;&#101;rr&#97;v&#105;st&#97;&#97;z' + '&#46;' + 'g&#111;v';document.getElementById('cloak19316b8a2d84d824562d23f3510ed20b').innerHTML += ''+addy_text19316b8a2d84d824562d23f3510ed20b+'';
		 or Carole Van Vleet (520) 378-2517
DTSTAMP:20260419T112642Z
DTSTART;TZID=America/Phoenix:20171104T073000
DTEND;TZID=America/Phoenix:20171104T103000
SEQUENCE:0
TRANSP:OPAQUE
END:VEVENT
END:VCALENDAR