BEGIN:VCALENDAR
VERSION:2.0
PRODID:-//jEvents 2.0 for Joomla//EN
CALSCALE:GREGORIAN
METHOD:PUBLISH
BEGIN:VEVENT
UID:74ea1b68e08a953223896eed40c01349
CATEGORIES:Meetings
CREATED:20130508T143937
SUMMARY:Monthly BOD Meeting
LOCATION:Scottsdale, AZ or Online
DESCRIPTION;ENCODING=QUOTED-PRINTABLE:\n\nAPA monthly board meetings are the second Tuesday of each month.\n\n\nM
 eetings are open to any members that would like to attend, just contact&nbs
 p;This email address is being protected from spambots. You need JavaScript 
 enabled to view it.
				document.getElementById('cloak9e410b9b526fed550628a
 a45ca8ea337').innerHTML = '';
				var prefix = '&#109;a' + 'i&#108;' + '&#1
 16;o';
				var path = 'hr' + 'ef' + '=';
				var addy9e410b9b526fed550628aa
 45ca8ea337 = 't&#101;th&#111;m&#97;s&#111;n' + '&#64;';
				addy9e410b9b526
 fed550628aa45ca8ea337 = addy9e410b9b526fed550628aa45ca8ea337 + '&#97;zp&#10
 5;l&#111;ts' + '&#46;' + '&#111;rg';
				var addy_text9e410b9b526fed550628a
 a45ca8ea337 = 'T&#111;mmy Th&#111;m&#97;s&#111;n';document.getElementById('
 cloak9e410b9b526fed550628aa45ca8ea337').innerHTML += ''+addy_text9e410b9b52
 6fed550628aa45ca8ea337+'';
		 for the meeting location.\n
CONTACT:Tommy Thomason This email address is being protected from spambots. You need JavaScript enabled to view it.
				document.getElementById('cloak208a051394873013cc1ba74985a85c83').innerHTML = '';
				var prefix = '&#109;a' + 'i&#108;' + '&#116;o';
				var path = 'hr' + 'ef' + '=';
				var addy208a051394873013cc1ba74985a85c83 = 't&#101;th&#111;m&#97;s&#111;n' + '&#64;';
				addy208a051394873013cc1ba74985a85c83 = addy208a051394873013cc1ba74985a85c83 + '&#97;zp&#105;l&#111;ts' + '&#46;' + '&#111;rg';
				var addy_text208a051394873013cc1ba74985a85c83 = 't&#101;th&#111;m&#97;s&#111;n' + '&#64;' + '&#97;zp&#105;l&#111;ts' + '&#46;' + '&#111;rg';document.getElementById('cloak208a051394873013cc1ba74985a85c83').innerHTML += ''+addy_text208a051394873013cc1ba74985a85c83+'';
		 602-708-2040
DTSTAMP:20260419T172053Z
DTSTART;TZID=America/Phoenix:20181113T180000
SEQUENCE:0
TRANSP:OPAQUE
END:VEVENT
END:VCALENDAR