BEGIN:VCALENDAR
VERSION:2.0
PRODID:-//jEvents 2.0 for Joomla//EN
CALSCALE:GREGORIAN
METHOD:PUBLISH
BEGIN:VEVENT
UID:74ea1b68e08a953223896eed40c01349
CATEGORIES:Meetings
CREATED:20130508T143937
SUMMARY:Monthly BOD Meeting
LOCATION:Scottsdale, AZ or Online
DESCRIPTION;ENCODING=QUOTED-PRINTABLE:\n\nAPA monthly board meetings are the second Tuesday of each month.\n\n\nM
 eetings are open to any members that would like to attend, just contact&nbs
 p;This email address is being protected from spambots. You need JavaScript 
 enabled to view it.
				document.getElementById('cloak22a64469404c9be368c4c
 49d01781fd3').innerHTML = '';
				var prefix = '&#109;a' + 'i&#108;' + '&#1
 16;o';
				var path = 'hr' + 'ef' + '=';
				var addy22a64469404c9be368c4c4
 9d01781fd3 = 't&#101;th&#111;m&#97;s&#111;n' + '&#64;';
				addy22a64469404
 c9be368c4c49d01781fd3 = addy22a64469404c9be368c4c49d01781fd3 + '&#97;zp&#10
 5;l&#111;ts' + '&#46;' + '&#111;rg';
				var addy_text22a64469404c9be368c4c
 49d01781fd3 = 'T&#111;mmy Th&#111;m&#97;s&#111;n';document.getElementById('
 cloak22a64469404c9be368c4c49d01781fd3').innerHTML += ''+addy_text22a6446940
 4c9be368c4c49d01781fd3+'';
		 for the meeting location.\n
CONTACT:Tommy Thomason This email address is being protected from spambots. You need JavaScript enabled to view it.
				document.getElementById('cloakddafeb91c6fb1a28b0dded1214374662').innerHTML = '';
				var prefix = '&#109;a' + 'i&#108;' + '&#116;o';
				var path = 'hr' + 'ef' + '=';
				var addyddafeb91c6fb1a28b0dded1214374662 = 't&#101;th&#111;m&#97;s&#111;n' + '&#64;';
				addyddafeb91c6fb1a28b0dded1214374662 = addyddafeb91c6fb1a28b0dded1214374662 + '&#97;zp&#105;l&#111;ts' + '&#46;' + '&#111;rg';
				var addy_textddafeb91c6fb1a28b0dded1214374662 = 't&#101;th&#111;m&#97;s&#111;n' + '&#64;' + '&#97;zp&#105;l&#111;ts' + '&#46;' + '&#111;rg';document.getElementById('cloakddafeb91c6fb1a28b0dded1214374662').innerHTML += ''+addy_textddafeb91c6fb1a28b0dded1214374662+'';
		 602-708-2040
DTSTAMP:20260420T171709Z
DTSTART;TZID=America/Phoenix:20201013T180000
SEQUENCE:0
TRANSP:OPAQUE
END:VEVENT
END:VCALENDAR