BEGIN:VCALENDAR
VERSION:2.0
PRODID:-//jEvents 2.0 for Joomla//EN
CALSCALE:GREGORIAN
METHOD:PUBLISH
BEGIN:VEVENT
UID:74ea1b68e08a953223896eed40c01349
CATEGORIES:Meetings
CREATED:20130508T143937
SUMMARY:Monthly BOD Meeting
LOCATION:Scottsdale, AZ or Online
DESCRIPTION;ENCODING=QUOTED-PRINTABLE:\n\nAPA monthly board meetings are the second Tuesday of each month.\n\n\nM
 eetings are open to any members that would like to attend, just contact&nbs
 p;This email address is being protected from spambots. You need JavaScript 
 enabled to view it.
				document.getElementById('cloak6ac4d55189fcfcb3d4f82
 b8d08266c04').innerHTML = '';
				var prefix = '&#109;a' + 'i&#108;' + '&#1
 16;o';
				var path = 'hr' + 'ef' + '=';
				var addy6ac4d55189fcfcb3d4f82b
 8d08266c04 = 't&#101;th&#111;m&#97;s&#111;n' + '&#64;';
				addy6ac4d55189f
 cfcb3d4f82b8d08266c04 = addy6ac4d55189fcfcb3d4f82b8d08266c04 + '&#97;zp&#10
 5;l&#111;ts' + '&#46;' + '&#111;rg';
				var addy_text6ac4d55189fcfcb3d4f82
 b8d08266c04 = 'T&#111;mmy Th&#111;m&#97;s&#111;n';document.getElementById('
 cloak6ac4d55189fcfcb3d4f82b8d08266c04').innerHTML += ''+addy_text6ac4d55189
 fcfcb3d4f82b8d08266c04+'';
		 for the meeting location.\n
CONTACT:Tommy Thomason This email address is being protected from spambots. You need JavaScript enabled to view it.
				document.getElementById('cloak72a6842143029aa124ae4e3bf84435ca').innerHTML = '';
				var prefix = '&#109;a' + 'i&#108;' + '&#116;o';
				var path = 'hr' + 'ef' + '=';
				var addy72a6842143029aa124ae4e3bf84435ca = 't&#101;th&#111;m&#97;s&#111;n' + '&#64;';
				addy72a6842143029aa124ae4e3bf84435ca = addy72a6842143029aa124ae4e3bf84435ca + '&#97;zp&#105;l&#111;ts' + '&#46;' + '&#111;rg';
				var addy_text72a6842143029aa124ae4e3bf84435ca = 't&#101;th&#111;m&#97;s&#111;n' + '&#64;' + '&#97;zp&#105;l&#111;ts' + '&#46;' + '&#111;rg';document.getElementById('cloak72a6842143029aa124ae4e3bf84435ca').innerHTML += ''+addy_text72a6842143029aa124ae4e3bf84435ca+'';
		 602-708-2040
DTSTAMP:20260421T113405Z
DTSTART;TZID=America/Phoenix:20230110T180000
SEQUENCE:0
TRANSP:OPAQUE
END:VEVENT
END:VCALENDAR