BEGIN:VCALENDAR
VERSION:2.0
PRODID:-//jEvents 2.0 for Joomla//EN
CALSCALE:GREGORIAN
METHOD:PUBLISH
BEGIN:VEVENT
UID:74ea1b68e08a953223896eed40c01349
CATEGORIES:Meetings
CREATED:20130508T143937
SUMMARY:Monthly BOD Meeting
LOCATION:Scottsdale, AZ or Online
DESCRIPTION;ENCODING=QUOTED-PRINTABLE:\n\nAPA monthly board meetings are the second Tuesday of each month.\n\n\nM
 eetings are open to any members that would like to attend, just contact&nbs
 p;This email address is being protected from spambots. You need JavaScript 
 enabled to view it.
				document.getElementById('cloakc6b0a18defee76a990dc7
 c8c85b105f8').innerHTML = '';
				var prefix = '&#109;a' + 'i&#108;' + '&#1
 16;o';
				var path = 'hr' + 'ef' + '=';
				var addyc6b0a18defee76a990dc7c
 8c85b105f8 = 't&#101;th&#111;m&#97;s&#111;n' + '&#64;';
				addyc6b0a18defe
 e76a990dc7c8c85b105f8 = addyc6b0a18defee76a990dc7c8c85b105f8 + '&#97;zp&#10
 5;l&#111;ts' + '&#46;' + '&#111;rg';
				var addy_textc6b0a18defee76a990dc7
 c8c85b105f8 = 'T&#111;mmy Th&#111;m&#97;s&#111;n';document.getElementById('
 cloakc6b0a18defee76a990dc7c8c85b105f8').innerHTML += ''+addy_textc6b0a18def
 ee76a990dc7c8c85b105f8+'';
		 for the meeting location.\n
CONTACT:Tommy Thomason This email address is being protected from spambots. You need JavaScript enabled to view it.
				document.getElementById('cloaka07220fb490edf39d3d4874d889c138b').innerHTML = '';
				var prefix = '&#109;a' + 'i&#108;' + '&#116;o';
				var path = 'hr' + 'ef' + '=';
				var addya07220fb490edf39d3d4874d889c138b = 't&#101;th&#111;m&#97;s&#111;n' + '&#64;';
				addya07220fb490edf39d3d4874d889c138b = addya07220fb490edf39d3d4874d889c138b + '&#97;zp&#105;l&#111;ts' + '&#46;' + '&#111;rg';
				var addy_texta07220fb490edf39d3d4874d889c138b = 't&#101;th&#111;m&#97;s&#111;n' + '&#64;' + '&#97;zp&#105;l&#111;ts' + '&#46;' + '&#111;rg';document.getElementById('cloaka07220fb490edf39d3d4874d889c138b').innerHTML += ''+addy_texta07220fb490edf39d3d4874d889c138b+'';
		 602-708-2040
DTSTAMP:20260422T083020Z
DTSTART;TZID=America/Phoenix:20230711T180000
SEQUENCE:0
TRANSP:OPAQUE
END:VEVENT
END:VCALENDAR