BEGIN:VCALENDAR
VERSION:2.0
PRODID:-//jEvents 2.0 for Joomla//EN
CALSCALE:GREGORIAN
METHOD:PUBLISH
BEGIN:VEVENT
UID:74ea1b68e08a953223896eed40c01349
CATEGORIES:Meetings
CREATED:20130508T143937
SUMMARY:Monthly BOD Meeting
LOCATION:Scottsdale, AZ or Online
DESCRIPTION;ENCODING=QUOTED-PRINTABLE:\n\nAPA monthly board meetings are the second Tuesday of each month.\n\n\nM
 eetings are open to any members that would like to attend, just contact&nbs
 p;This email address is being protected from spambots. You need JavaScript 
 enabled to view it.
				document.getElementById('cloak98ed01752fc85bebecf16
 3b7917d16c6').innerHTML = '';
				var prefix = '&#109;a' + 'i&#108;' + '&#1
 16;o';
				var path = 'hr' + 'ef' + '=';
				var addy98ed01752fc85bebecf163
 b7917d16c6 = 't&#101;th&#111;m&#97;s&#111;n' + '&#64;';
				addy98ed01752fc
 85bebecf163b7917d16c6 = addy98ed01752fc85bebecf163b7917d16c6 + '&#97;zp&#10
 5;l&#111;ts' + '&#46;' + '&#111;rg';
				var addy_text98ed01752fc85bebecf16
 3b7917d16c6 = 'T&#111;mmy Th&#111;m&#97;s&#111;n';document.getElementById('
 cloak98ed01752fc85bebecf163b7917d16c6').innerHTML += ''+addy_text98ed01752f
 c85bebecf163b7917d16c6+'';
		 for the meeting location.\n
CONTACT:Tommy Thomason This email address is being protected from spambots. You need JavaScript enabled to view it.
				document.getElementById('cloak598cd2d847522780f87052aa49d2075d').innerHTML = '';
				var prefix = '&#109;a' + 'i&#108;' + '&#116;o';
				var path = 'hr' + 'ef' + '=';
				var addy598cd2d847522780f87052aa49d2075d = 't&#101;th&#111;m&#97;s&#111;n' + '&#64;';
				addy598cd2d847522780f87052aa49d2075d = addy598cd2d847522780f87052aa49d2075d + '&#97;zp&#105;l&#111;ts' + '&#46;' + '&#111;rg';
				var addy_text598cd2d847522780f87052aa49d2075d = 't&#101;th&#111;m&#97;s&#111;n' + '&#64;' + '&#97;zp&#105;l&#111;ts' + '&#46;' + '&#111;rg';document.getElementById('cloak598cd2d847522780f87052aa49d2075d').innerHTML += ''+addy_text598cd2d847522780f87052aa49d2075d+'';
		 602-708-2040
DTSTAMP:20260419T095617Z
DTSTART;TZID=America/Phoenix:20270914T180000
SEQUENCE:0
TRANSP:OPAQUE
END:VEVENT
END:VCALENDAR