BEGIN:VCALENDAR
VERSION:2.0
PRODID:-//jEvents 2.0 for Joomla//EN
CALSCALE:GREGORIAN
METHOD:PUBLISH
BEGIN:VEVENT
UID:24c2618a567fef0fe4e72da6c862919a
CATEGORIES:Safety
CREATED:20180926T131052
SUMMARY:ASI Investigates Weather Accidents  at Tucson
LOCATION:Doubletree Reid Park 445 S. Alvernon Way Tucson, AZ 85711
DESCRIPTION;ENCODING=QUOTED-PRINTABLE:ASI Investigates Weather Accidents\n\n\n&nbsp;\n\n\nTuesday, October 23, 20
 18, starting at 19:00 Mountain Daylight Time\n\n\n&nbsp;\n\n\nSpeaker(s): A
 OPA ASI Presenter\n\n\n&nbsp;\n\n\nBrief Description:\nWeather is often bla
 med as the cause of accidents when, in reality, it’s poor decision making t
 hat’s the culprit. Arm yourself to make the right weather choices at crucia
 l moments before and during flight.\n\n\nHere’s what you’ll learn:\n\n\nWhy
  getting the big weather picture is important\nHow to improve your go/no-go
  decision-making process\nTips to “weatherize” your mindset and avoid traps
  like flying VFR into IMC\nWhy technology can be a great tool and your wors
 t enemy in weather flying\n\n\n&nbsp;\n\n\nSelect Number: NR0384474\n\n\n&n
 bsp;\n\n\nLocation of Seminar:\nDoubletree Reid Park\n445 S. Alvernon Way\n
 Tucson, AZ 85711\n\n\n&nbsp;\n\n\nDirections to Venue:\nFREE AOPA Safety Se
 minar. There is no pre-registration for this seminar.\n\n\n\nFly-in Seminar
 ?: No\n\n\n&nbsp;\n\n\nSeating: Check Additional event Information below fo
 r possible registration requirements.\n\n\n&nbsp;\n\n\nSponsoring Division:
  AOPA Air Safety Institute\n\n\n&nbsp;\n\n\nContact Information: Robin Shar
 itz\nPhone: 3016952175\nThis email address is being protected from spambots
 . You need JavaScript enabled to view it.
				document.getElementById('cloa
 k1672ade569907cbcde1e5fed66611e74').innerHTML = '';
				var prefix = '&#109
 ;a' + 'i&#108;' + '&#116;o';
				var path = 'hr' + 'ef' + '=';
				var addy
 1672ade569907cbcde1e5fed66611e74 = 'R&#111;b&#105;n.Sh&#97;r&#105;tz' + '&#
 64;';
				addy1672ade569907cbcde1e5fed66611e74 = addy1672ade569907cbcde1e5f
 ed66611e74 + '&#97;&#111;p&#97;' + '&#46;' + '&#111;rg';
				var addy_text1
 672ade569907cbcde1e5fed66611e74 = 'R&#111;b&#105;n.Sh&#97;r&#105;tz' + '&#6
 4;' + '&#97;&#111;p&#97;' + '&#46;' + '&#111;rg';document.getElementById('c
 loak1672ade569907cbcde1e5fed66611e74').innerHTML += ''+addy_text1672ade5699
 07cbcde1e5fed66611e74+'';
		\n\n\n&nbsp;\n\n\nAdditional Event Information 
 &amp; Acknowledgement of Industry Sponsor(s):\nThis seminar is brought to y
 ou by the AOPA Air Safety Institute and SiriusXM Aviation. AOPA.OR/SIRIUSXM
 .\n\n\n&nbsp;\n\n\nEqual Access Information:\nThe FAA Safety Team (FAASTeam
 ) is committed to providing equal access to this meeting/event for all part
 icipants. If you need alternative formats or services because of a disabili
 ty, please communicate your request as soon as possible with the person in 
 the “Contact Information” area of the meeting/event notice. Note that two w
 eeks is usually required to arrange services.\n\n\n&nbsp;\n\n\nCredit Appli
 cability:\n1 Credit for Basic Knowledge Topic 3\n\n\n&nbsp;\n\n\n&nbsp;\n
CONTACT:Robin Sharitz Phone: 3016952175 This email address is being protected from spambots. You need JavaScript enabled to view it.
				document.getElementById('cloak3cceee6d42c03ab882f1c6f6b7c0ef5f').innerHTML = '';
				var prefix = '&#109;a' + 'i&#108;' + '&#116;o';
				var path = 'hr' + 'ef' + '=';
				var addy3cceee6d42c03ab882f1c6f6b7c0ef5f = 'R&#111;b&#105;n.Sh&#97;r&#105;tz' + '&#64;';
				addy3cceee6d42c03ab882f1c6f6b7c0ef5f = addy3cceee6d42c03ab882f1c6f6b7c0ef5f + '&#97;&#111;p&#97;' + '&#46;' + '&#111;rg';
				var addy_text3cceee6d42c03ab882f1c6f6b7c0ef5f = 'R&#111;b&#105;n.Sh&#97;r&#105;tz' + '&#64;' + '&#97;&#111;p&#97;' + '&#46;' + '&#111;rg';document.getElementById('cloak3cceee6d42c03ab882f1c6f6b7c0ef5f').innerHTML += ''+addy_text3cceee6d42c03ab882f1c6f6b7c0ef5f+'';
		
DTSTAMP:20260419T075217Z
DTSTART;TZID=America/Phoenix:20181023T190000
SEQUENCE:0
TRANSP:OPAQUE
END:VEVENT
END:VCALENDAR