BEGIN:VCALENDAR
VERSION:2.0
PRODID:-//jEvents 2.0 for Joomla//EN
CALSCALE:GREGORIAN
METHOD:PUBLISH
BEGIN:VEVENT
UID:914d49e072030689638eb3f706ab9c6e
CATEGORIES:Safety
CREATED:20180926T133108
SUMMARY:VMC Club Meeting - Mastering the Art of Aviation
LOCATION:Chandler Municipal Airport Terminal Building Meeting Room 2380 S Stinson Wa
 y Chandler, AZ 85286
DESCRIPTION;ENCODING=QUOTED-PRINTABLE:\n\nVMC Club Meeting - Mastering the Art of Aviation&nbsp;\n\n\n&nbsp;\n\n\
 nScenario Based Discussion: Organized &ldquo;Hangar Flying&rdquo; Focused O
 n Building Proficiency In General Aviation\n\n\n&nbsp;\n\n\nBrief Descripti
 on:\n\n\n\nEAA/VMC Club, through the EAA's global Chapter structure, provid
 es organized "hangar flying" focused on building flying knowledge and skill
 s. The program's network promotes a safety culture through continued educat
 ion and believes that we develop safety and proficiency through education a
 nd real life experience. Monthly meetings offer an opportunity to share in-
 flight experiences and valuable safety tips. Through the FAA Safety Program
 , aviation professionals provide informative WINGS presentations. Membershi
 p in theEAA/VMC Club is encouraged but not required to participate in this 
 meeting. For more information and to take part in this event, click the lin
 k below and register TODAY!\n\n\n&nbsp;\n\n\nLocation of Seminar:\n\n\n&nbs
 p;\n\n\nChandler Municipal Airport Terminal Building Meeting Room\n2380 S S
 tinson Way\nChandler, AZ 85286\n\n\n&nbsp;\n\n\nDirections to Venue:\nPark 
 in front of the main terminal building. Entrance to the meeting room is fro
 m the outside on the left side of the main terminal door.\n\n\n&nbsp;\n\n\n
 Sponsoring Division: FAA Safety Team\n\n\n&nbsp;\n\n\nContact Information: 
 Alexander Pe&ntilde;a\nPhone: 480-982-6043\nThis email address is being pro
 tected from spambots. You need JavaScript enabled to view it.
				document.
 getElementById('cloak3a9fc213197ead92eba7ea99c9cb520c').innerHTML = '';
			
 	var prefix = '&#109;a' + 'i&#108;' + '&#116;o';
				var path = 'hr' + 'ef'
  + '=';
				var addy3a9fc213197ead92eba7ea99c9cb520c = '&#97;zvmccl&#117;b'
  + '&#64;';
				addy3a9fc213197ead92eba7ea99c9cb520c = addy3a9fc213197ead92
 eba7ea99c9cb520c + '&#105;cl&#111;&#117;d' + '&#46;' + 'c&#111;m';
				var 
 addy_text3a9fc213197ead92eba7ea99c9cb520c = '&#97;zvmccl&#117;b' + '&#64;' 
 + '&#105;cl&#111;&#117;d' + '&#46;' + 'c&#111;m';document.getElementById('c
 loak3a9fc213197ead92eba7ea99c9cb520c').innerHTML += ''+addy_text3a9fc213197
 ead92eba7ea99c9cb520c+'';
		\n\n\n&nbsp;\n\n\nAdditional Event Information 
 &amp; Acknowledgement of Industry Sponsor(s):\nThis event is sponsored and 
 hosted by the Local EAA/VMC Club and the FAA Safety Team.\n\n\n&nbsp;\n\n\n
 What is the EAA/VMC Club?\n\n\n&nbsp;\n\n\nThe EAA/VMC Club is modeled afte
 r the popular IMC Club concept which provides organized &ldquo;hangar flyin
 g&rdquo; focused on building proficiency in instrument flying. The EAA/VMC 
 Club will do the same, but for pilots who are not instrument rated and fly 
 primarily under visual flight rules and VMC.\n\n\n&nbsp;\n\n\nWhat is the p
 urpose of EAA/VMC Club?\n\n\n&nbsp;\n\n\nAt EAA/VMC Club, our aim is to pro
 mote VFR flying, proficiency, and safety. Along with monthly local meetings
 , we offer a resource-rich website which provides an electronic experience 
 base.\n\n\n&nbsp;\n\n\nOur intent is to create a community of pilots to sha
 re information, provide recognition, foster communications, promote safety 
 and build proficiency in general aviation. EAA/VMC Club offers monthly meet
 ings in which pilots can network and share knowledge and experiences.\n\n\n
 &nbsp;\n\n\nDo you need to bring anything?\n\n\n&nbsp;\n\n\nFirst, bring yo
 ur thoughts or story and be willing to share them with the group. This meet
 ing is very interactive. Participation by the group is a fundamental elemen
 t of the EAA/VMC Club meeting.\n\n\n&nbsp;\n\n\nOthers have found it helpfu
 l to bring along a copy of their flight manual, GPS manual, and charts. If 
 you navigate with an iPad, bring it along.\n\n\n&nbsp;\n\n\nWho can attend?
 \n\n\n&nbsp;\n\n\nThis meeting is open to all current, non-current, and fut
 ure pilots.\n\n\n&nbsp;\n\n\nFor more information about the EAA/VMC Club, p
 lease visit http://www.eaa.org/VMCclub\n\n\n&nbsp;\n\n\nEqual Access Inform
 ation:\nThe FAA Safety Team (FAASTeam) is committed to providing equal acce
 ss to this meeting/event for all participants. If you need alternative form
 ats or services because of a disability, please communicate your request as
  soon as possible with the person in the &ldquo;Contact Information&rdquo; 
 area of the meeting/event notice. Note that two weeks is usually required t
 o arrange services.\n\n\n&nbsp;\n\n\nCredit Applicability:\n1 Credit for Ba
 sic Knowledge Topic 3\n\n\n&nbsp;\n
CONTACT:Alexander Peña Phone: 480-982-6043  This email address is being protected from spambots. You need JavaScript enabled to view it.
				document.getElementById('cloak5cb936cc64474dc8665cca14645cf9f3').innerHTML = '';
				var prefix = '&#109;a' + 'i&#108;' + '&#116;o';
				var path = 'hr' + 'ef' + '=';
				var addy5cb936cc64474dc8665cca14645cf9f3 = '&#97;zvmccl&#117;b' + '&#64;';
				addy5cb936cc64474dc8665cca14645cf9f3 = addy5cb936cc64474dc8665cca14645cf9f3 + '&#105;cl&#111;&#117;d' + '&#46;' + 'c&#111;m';
				var addy_text5cb936cc64474dc8665cca14645cf9f3 = '&#97;zvmccl&#117;b' + '&#64;' + '&#105;cl&#111;&#117;d' + '&#46;' + 'c&#111;m';document.getElementById('cloak5cb936cc64474dc8665cca14645cf9f3').innerHTML += ''+addy_text5cb936cc64474dc8665cca14645cf9f3+'';
		
DTSTAMP:20260419T092855Z
DTSTART;TZID=America/Phoenix:20181002T183000
SEQUENCE:0
TRANSP:OPAQUE
END:VEVENT
END:VCALENDAR