BEGIN:VCALENDAR
VERSION:2.0
PRODID:-//jEvents 2.0 for Joomla//EN
CALSCALE:GREGORIAN
METHOD:PUBLISH
BEGIN:VEVENT
UID:7341c507a3c673bb7821dd054a271e07
CATEGORIES:Safety
CREATED:20181010T115530
SUMMARY:Aircraft Airworthiness requirements under 14CFR for General Aviation Pilots and Mechanics at Phoenix
LOCATION:AEROGUARD 530 W. Deer Valley Rd. East Classroom Building Phoenix, AZ 85027
DESCRIPTION;ENCODING=QUOTED-PRINTABLE:Aircraft Airworthiness requirements under 14CFR for General Aviation Pilots
  and Mechanics\n\nRegulatory and Safety Airworthiness requirements under 14
  CFR, Parts 91,43, 45, 39. and 65.\n\n\n&nbsp;\n\n\nDate and Time: Saturday
 , October 13, 2018, starting at 09:30 Arizona&nbsp;\n\n\n&nbsp;\n\n\nSpeake
 r(s): Ed Daror\n\n\n&nbsp;\n\n\nBrief Description:\nPresentation and discus
 sion of Regulatory and Safety requirements, responsibilities and considerat
 ions related to aircraft Operation, Ownership and Maintenance and Record ke
 eping for Pilots, Owners and Mechanics of General Aviation.\n\n\n&nbsp;\n\n
 \nSelect Number: WP0785806\n\n\n&nbsp;\n\n\nLocation of Seminar:\nAEROGUARD
 \n530 W. Deer Valley Rd.\nEast Classroom Building\nPhoenix, AZ 85027\n\n\n&
 nbsp;\n\n\nDirections to Venue:\nEnter Deer Valley Airport from 7th Ave.at 
 Deer Valley Rd. and park in the Parking lot or proceed from flight line to 
 walk to Aeroguard on the east side of the parking lot. Proceed on a road be
 tween Aeroguard and the Deer Valley street fence, going East to a small par
 king lot on your left and into the entrance of the Classroom Building.\n\n\
 nView Map\n\n\n&nbsp;\n\n\nFly-in Seminar?: Yes KDVT\n\n\n&nbsp;\n\n\nSeati
 ng: 60 seats at the facility\n\n\n&nbsp;\n\n\nRegistration Information:\nCl
 ick here to register online now!\n\n\n&nbsp;\n\n\nSponsoring Division: FAAS
 Team of Scottsdale FSDO\n\n\n&nbsp;\n\n\nContact Information: EDWARD SAMUEL
  DAROR\nPhone: (623) 869-6728\nThis email address is being protected from s
 pambots. You need JavaScript enabled to view it.
				document.getElementByI
 d('cloak03f07057200999a99fa5428ca191f3f8').innerHTML = '';
				var prefix =
  '&#109;a' + 'i&#108;' + '&#116;o';
				var path = 'hr' + 'ef' + '=';
				v
 ar addy03f07057200999a99fa5428ca191f3f8 = '72&#97;&#101;' + '&#64;';
				ad
 dy03f07057200999a99fa5428ca191f3f8 = addy03f07057200999a99fa5428ca191f3f8 +
  'c&#111;x' + '&#46;' + 'n&#101;t';
				var addy_text03f07057200999a99fa542
 8ca191f3f8 = '72&#97;&#101;' + '&#64;' + 'c&#111;x' + '&#46;' + 'n&#101;t';
 document.getElementById('cloak03f07057200999a99fa5428ca191f3f8').innerHTML 
 += ''+addy_text03f07057200999a99fa5428ca191f3f8+'';
		\n\n\n&nbsp;\n\n\nAdd
 itional Event Information &amp; Acknowledgement of Industry Sponsor(s):\nTh
 e Arizona FAASTeam invites Pilots of all ratings and Students to participat
 e in this informative Safety Seminar, aimed to enhance safety of flight and
  Aircraft Maintenance, while complying with applicable Regulations. Many th
 anks to Management and Personnel of Aeroguard for the generous use of their
  Classroom and other amenities.\n\n\nEqual Access Information:\nThe FAA Saf
 ety Team (FAASTeam) is committed to providing equal access to this meeting/
 event for all participants. If you need alternative formats or services bec
 ause of a disability, please communicate your request as soon as possible w
 ith the person in the “Contact Information” area of the meeting/event notic
 e. Note that two weeks is usually required to arrange services.\n\n\n&nbsp;
 \n\n\nCredit Applicability:\n1 Credit for Basic Knowledge Topic 3\n1 Hour T
 otal for AMT\n
CONTACT:EDWARD SAMUEL DAROR Phone: (623) 869-6728 This email address is being protected from spambots. You need JavaScript enabled to view it.
				document.getElementById('cloak4e02b43325f62792399ce4707405fc47').innerHTML = '';
				var prefix = '&#109;a' + 'i&#108;' + '&#116;o';
				var path = 'hr' + 'ef' + '=';
				var addy4e02b43325f62792399ce4707405fc47 = '72&#97;&#101;' + '&#64;';
				addy4e02b43325f62792399ce4707405fc47 = addy4e02b43325f62792399ce4707405fc47 + 'c&#111;x' + '&#46;' + 'n&#101;t';
				var addy_text4e02b43325f62792399ce4707405fc47 = '72&#97;&#101;' + '&#64;' + 'c&#111;x' + '&#46;' + 'n&#101;t';document.getElementById('cloak4e02b43325f62792399ce4707405fc47').innerHTML += ''+addy_text4e02b43325f62792399ce4707405fc47+'';
		
DTSTAMP:20260419T092850Z
DTSTART;TZID=America/Phoenix:20181013T093000
SEQUENCE:0
TRANSP:OPAQUE
END:VEVENT
END:VCALENDAR