BEGIN:VCALENDAR
VERSION:2.0
PRODID:-//jEvents 2.0 for Joomla//EN
CALSCALE:GREGORIAN
METHOD:PUBLISH
BEGIN:VEVENT
UID:f62983fe5a05151e617c13b6b56f477d
CATEGORIES:Safety
CREATED:20181010T115746
SUMMARY:Winslow AZ Airport Day Safety Program
LOCATION:Wiseman Aviation Hangar 701 Airport Road Winslow, AZ 86047
DESCRIPTION;ENCODING=QUOTED-PRINTABLE:Winslow AZ Airport Day Safety Program\n&nbsp;\nRisk Management and The Agin
 g Pilot issue\n\n\n&nbsp;\n\n\nDate and Time: Saturday, October 13, 2018, s
 tarting at 10:00 Arizona&nbsp;\n\n\n&nbsp;\n\n\nSpeaker(s): Fred Gibbs, APA
 \n\n\n&nbsp;\n\n\nBrief Description:\nManaging and mitigating the risks of 
 General Aviation flying, and a discussion on the impact(s) of aging on the 
 pilot community.\n\n\n&nbsp;\n\n\n&nbsp;\n\n\nSelect Number: WP0785908\n\n\
 n&nbsp;\n\n\nLocation of Seminar:\nWiseman Aviation Hangar\n701 Airport Roa
 d\nWinslow, AZ 86047\n\n\n&nbsp;\n\n\nDirections to Venue:\nDriving: From t
 own, go south on Rte. 87, take 2nd right onto Airport road, follow signs to
  parking.\n\n\nFlying - aircraft parking open on the main ramp.\n\n\n&nbsp;
 \n\n\n\nFly-in Seminar?: Yes KINW\n\n\n&nbsp;\n\n\nSeating: 30 seats at the
  facility\n\n\n&nbsp;\n\n\nRegistration Information:\nClick here to registe
 r online now!\n\n\n&nbsp;\n\n\nSponsoring Division: SDL FSDO FAASTeam\n\n\n
 &nbsp;\n\n\nContact Information: FRED L. GIBBS\nPhone: 928-266-0112\nThis e
 mail address is being protected from spambots. You need JavaScript enabled 
 to view it.
				document.getElementById('cloak7379097104afc8d99f17cc6edc8cd
 4f8').innerHTML = '';
				var prefix = '&#109;a' + 'i&#108;' + '&#116;o';
	
 			var path = 'hr' + 'ef' + '=';
				var addy7379097104afc8d99f17cc6edc8cd4
 f8 = 'fr&#101;dg&#105;bbs' + '&#64;';
				addy7379097104afc8d99f17cc6edc8cd
 4f8 = addy7379097104afc8d99f17cc6edc8cd4f8 + 'npgc&#97;bl&#101;' + '&#46;' 
 + 'c&#111;m';
				var addy_text7379097104afc8d99f17cc6edc8cd4f8 = 'fr&#101;
 dg&#105;bbs' + '&#64;' + 'npgc&#97;bl&#101;' + '&#46;' + 'c&#111;m';documen
 t.getElementById('cloak7379097104afc8d99f17cc6edc8cd4f8').innerHTML += ''+a
 ddy_text7379097104afc8d99f17cc6edc8cd4f8+'';
		\n\n\n&nbsp;\n\n\nAdditional
  Event Information &amp; Acknowledgement of Industry Sponsor(s):\nAirport D
 ay, Fly-in breakfast and car show. Sponsored by the city of Winslow, hosted
  by Wiseman Aviation and presented by the Arizona Pilots Association and th
 e FAA's FAAST Team Safety Program.\n\n\n&nbsp;\n\n\n&nbsp;\n\n\nEqual Acces
 s Information:\nThe FAA Safety Team (FAASTeam) is committed to providing eq
 ual access to this meeting/event for all participants. If you need alternat
 ive formats or services because of a disability, please communicate your re
 quest as soon as possible with the person in the &ldquo;Contact Information
 &rdquo; area of the meeting/event notice. Note that two weeks is usually re
 quired to arrange services.\n\n\n&nbsp;\n\n\nCredit Applicability:\n1 Credi
 t for Basic Knowledge Topic 3\n1 Credit for Advanced Knowledge Topic 1\n1 C
 redit for Master Knowledge Topic 2\n
CONTACT:FRED L. GIBBS Phone: 928-266-0112 This email address is being protected from spambots. You need JavaScript enabled to view it.
				document.getElementById('cloak6cf627f278c2c291dfc93131f34d5af3').innerHTML = '';
				var prefix = '&#109;a' + 'i&#108;' + '&#116;o';
				var path = 'hr' + 'ef' + '=';
				var addy6cf627f278c2c291dfc93131f34d5af3 = 'fr&#101;dg&#105;bbs' + '&#64;';
				addy6cf627f278c2c291dfc93131f34d5af3 = addy6cf627f278c2c291dfc93131f34d5af3 + 'npgc&#97;bl&#101;' + '&#46;' + 'c&#111;m';
				var addy_text6cf627f278c2c291dfc93131f34d5af3 = 'fr&#101;dg&#105;bbs' + '&#64;' + 'npgc&#97;bl&#101;' + '&#46;' + 'c&#111;m';document.getElementById('cloak6cf627f278c2c291dfc93131f34d5af3').innerHTML += ''+addy_text6cf627f278c2c291dfc93131f34d5af3+'';
		
DTSTAMP:20260419T092615Z
DTSTART;TZID=America/Phoenix:20181013T100000
SEQUENCE:0
TRANSP:OPAQUE
END:VEVENT
END:VCALENDAR