BEGIN:VCALENDAR
VERSION:2.0
PRODID:-//jEvents 2.0 for Joomla//EN
CALSCALE:GREGORIAN
METHOD:PUBLISH
BEGIN:VEVENT
UID:32149ebbcd4736b02b0f82ec66e80c76
CATEGORIES:Backcountry
CREATED:20181010T131241
SUMMARY:Backcountry at Double Circle AZ66
LOCATION:Double Circle AZ66
DESCRIPTION;ENCODING=QUOTED-PRINTABLE:Double Circle AZ66\n\n\nNovember 2-4\n\n\nRunway work, brush clearing, and 
 log preservation on the lodge.\n&nbsp;\n\n\n\n\n\nFor all you backcountry a
 dventurers, we’ll have weekend fly-ins this fall with a purpose! We made su
 ch great strides over the last few years re-opening our backcountry to avia
 tion, and had lots of fun and friendship in the process! Each of these airs
 trips needs a little TLC to keep them in safe condition for all, and with a
  little effort from all, this TLC is made light work. There are many unsung
  heroes out there that have taken on regular maintenance of some of our mor
 e remote airstrips, for example Red Creek, and our thanks go out to those f
 olks who have unselfishly given of themselves to keep these strips groomed 
 for all of us. So take a look at the schedule Tommy has put together for th
 is fall, join us at one of the TLC weekends this fall.\n\n\n&nbsp;\nJoin us
  at the old Double Circle Ranch (Z66) for fun and camping. We will be will 
 be serving lunch on Saturday, and bring your potluck dish for Saturday even
 ing.\nWatch our&nbsp;Facebook&nbsp;page for last minute updates.&nbsp;\n&nb
 sp;\n\n\nDownload the safety brief here.\n&nbsp;\n\n&nbsp;\n\n\n\n&nbsp;\n\
 n\n\n&nbsp;\n\n\n\n\n\n\n\n\n&nbsp;\n\n\n\n
CONTACT:Mark Spencer 602-708-1599  This email address is being protected from spambots. You need JavaScript enabled to view it.
				document.getElementById('cloak57ec50ece0e5143cbac2b29292347a8e').innerHTML = '';
				var prefix = '&#109;a' + 'i&#108;' + '&#116;o';
				var path = 'hr' + 'ef' + '=';
				var addy57ec50ece0e5143cbac2b29292347a8e = 'msp&#101;nc&#101;r' + '&#64;';
				addy57ec50ece0e5143cbac2b29292347a8e = addy57ec50ece0e5143cbac2b29292347a8e + '&#97;zp&#105;l&#111;ts' + '&#46;' + '&#111;rg';
				var addy_text57ec50ece0e5143cbac2b29292347a8e = 'msp&#101;nc&#101;r' + '&#64;' + '&#97;zp&#105;l&#111;ts' + '&#46;' + '&#111;rg';document.getElementById('cloak57ec50ece0e5143cbac2b29292347a8e').innerHTML += ''+addy_text57ec50ece0e5143cbac2b29292347a8e+'';
		
DTSTAMP:20260419T172052Z
DTSTART;TZID=America/Phoenix;VALUE=DATE:20181102
DTEND;TZID=America/Phoenix;VALUE=DATE:20181105
SEQUENCE:0
TRANSP:OPAQUE
END:VEVENT
END:VCALENDAR