BEGIN:VCALENDAR
VERSION:2.0
PRODID:-//jEvents 2.0 for Joomla//EN
CALSCALE:GREGORIAN
METHOD:PUBLISH
BEGIN:VEVENT
UID:89ba55255696d9eff05f6caf0792fe6c
CATEGORIES:Safety
CREATED:20181010T131454
SUMMARY:AFTW (Arizona Flight Training Workgroup) Meeting at Scottsdale
LOCATION:Scottsdale FSDO 17777 N Perimeter Dr. 101 Scottsdale, AZ 85255
DESCRIPTION;ENCODING=QUOTED-PRINTABLE:AFTW (Arizona Flight Training Workgroup) Meeting\n&nbsp;\nFactors Instructo
 rs and Schools consider for flight training safety in Arizona. Scheduled 09
 :30 to 11:30.\n\n\n&nbsp;\n\n\nDate and Time: Wednesday, November 14, 2018,
  starting at 09:30 Arizona\n\n\n&nbsp;\n\n\nSpeaker(s): CFI, DPE, and schoo
 l representatives\n\n\n&nbsp;\n\n\nBrief Description:\nInstructors and scho
 ol representatives meet to address risks and safety management issues when 
 conducting flight instruction in Arizona. Standing topics are: airports, ai
 rspace, Airmen Certification and Practical Test Standards tasks and element
 s, and other flight training and pilot testing issues\n\n\n&nbsp;\n\n\n&nbs
 p;\n\n\nSelect Number: WP0785473\n\n\n&nbsp;\n\n\nLocation of Seminar:\nSco
 ttsdale FSDO\n17777 N Perimeter Dr.\n101\nScottsdale, AZ 85255\n\n\n&nbsp;\
 n\n\nDirections to Venue:\nCheck in at the reception desk\n\n\n&nbsp;\n\n\n
 \nFly-in Seminar?: No\n\n\n&nbsp;\n\n\nSeating: 40 seats at the facility\n\
 n\n&nbsp;\n\n\nRegistration Information:\nClick here to register online now
 !\n\n\n&nbsp;\n\n\nSponsoring Division: Scottsdale FSDO\n\n\n&nbsp;\n\n\nCo
 ntact Information: TINA BUSKIRK\nPhone: 480-284-7434\nThis email address is
  being protected from spambots. You need JavaScript enabled to view it.
			
 	document.getElementById('cloakc4269d10c8d1f8db6e5a9586606f5aeb').innerHTML
  = '';
				var prefix = '&#109;a' + 'i&#108;' + '&#116;o';
				var path = '
 hr' + 'ef' + '=';
				var addyc4269d10c8d1f8db6e5a9586606f5aeb = 't&#105;n&
 #97;.b.b&#117;sk&#105;rk' + '&#64;';
				addyc4269d10c8d1f8db6e5a9586606f5a
 eb = addyc4269d10c8d1f8db6e5a9586606f5aeb + 'f&#97;&#97;' + '&#46;' + 'g&#1
 11;v';
				var addy_textc4269d10c8d1f8db6e5a9586606f5aeb = 't&#105;n&#97;.b
 .b&#117;sk&#105;rk' + '&#64;' + 'f&#97;&#97;' + '&#46;' + 'g&#111;v';docume
 nt.getElementById('cloakc4269d10c8d1f8db6e5a9586606f5aeb').innerHTML += ''+
 addy_textc4269d10c8d1f8db6e5a9586606f5aeb+'';
		\n\n\n&nbsp;\n\n\nAdditiona
 l Event Information &amp; Acknowledgement of Industry Sponsor(s):\nSee addi
 tional information at www.AFTW.org\n\n\n&nbsp;\n\n\n&nbsp;\n\n\nEqual Acces
 s Information:\nThe FAA Safety Team (FAASTeam) is committed to providing eq
 ual access to this meeting/event for all participants. If you need alternat
 ive formats or services because of a disability, please communicate your re
 quest as soon as possible with the person in the &ldquo;Contact Information
 &rdquo; area of the meeting/event notice. Note that two weeks is usually re
 quired to arrange services.\n\n\n&nbsp;\n\n\nCredit Applicability:\n1 Credi
 t for Basic Knowledge Topic 2\n1 Credit for Advanced Knowledge Topic 2\n
CONTACT:TINA BUSKIRK Phone: 480-284-7434 This email address is being protected from spambots. You need JavaScript enabled to view it.
				document.getElementById('cloakd78c35f159ffde407f91e1b0d03f3aa2').innerHTML = '';
				var prefix = '&#109;a' + 'i&#108;' + '&#116;o';
				var path = 'hr' + 'ef' + '=';
				var addyd78c35f159ffde407f91e1b0d03f3aa2 = 't&#105;n&#97;.b.b&#117;sk&#105;rk' + '&#64;';
				addyd78c35f159ffde407f91e1b0d03f3aa2 = addyd78c35f159ffde407f91e1b0d03f3aa2 + 'f&#97;&#97;' + '&#46;' + 'g&#111;v';
				var addy_textd78c35f159ffde407f91e1b0d03f3aa2 = 't&#105;n&#97;.b.b&#117;sk&#105;rk' + '&#64;' + 'f&#97;&#97;' + '&#46;' + 'g&#111;v';document.getElementById('cloakd78c35f159ffde407f91e1b0d03f3aa2').innerHTML += ''+addy_textd78c35f159ffde407f91e1b0d03f3aa2+'';
		
DTSTAMP:20260419T171820Z
DTSTART;TZID=America/Phoenix:20181114T093000
DTEND;TZID=America/Phoenix:20181114T113000
SEQUENCE:0
TRANSP:OPAQUE
END:VEVENT
END:VCALENDAR