BEGIN:VCALENDAR
VERSION:2.0
PRODID:-//jEvents 2.0 for Joomla//EN
CALSCALE:GREGORIAN
METHOD:PUBLISH
BEGIN:VEVENT
UID:1e705be50255c73c6875138d0ec0569e
CATEGORIES:Other Fly-In
CREATED:20181018T160433
SUMMARY:Sierra Vista Open House and Young Eagles
LOCATION:2100 Airport Avenue, Sierra Vista, AZ
DESCRIPTION;ENCODING=QUOTED-PRINTABLE:\n\n\n&nbsp;\n\n\nHave your kids become “Young Eagles” at the\nSierra Vista
  Municipal Airport. The first 200\nchildren, ages 8 through 17, can take an
  exciting\nairplane flight for free! Each child must have a\nsigned permiss
 ion slip from a parent or guardian\nto become a young eagle. Permission sli
 ps will be\navailable at the event. This event will also feature\naviation 
 displays and a pancake breakfast.\nPANCAKE BREAKFAST\n7:00 – 10:00 am\n$7 A
 dults\n$4 Children under 12\n\n\n\nYOUNG EAGLE CONTACT\nCarole Van Vleet\n(
 520) 378-2517\nSponsored by Chapter\n776 of the Experimental\nAircraft Asso
 ciation and\nthe City of Sierra Vista.\n
CONTACT:Carole Van Vleet (520) 378-2517 This email address is being protected from spambots. You need JavaScript enabled to view it.
				document.getElementById('cloakf4dd9152b0a6d31e0367a12b63114b52').innerHTML = '';
				var prefix = '&#109;a' + 'i&#108;' + '&#116;o';
				var path = 'hr' + 'ef' + '=';
				var addyf4dd9152b0a6d31e0367a12b63114b52 = 'ccv&#97;nvl&#101;' + '&#64;';
				addyf4dd9152b0a6d31e0367a12b63114b52 = addyf4dd9152b0a6d31e0367a12b63114b52 + 'm&#105;ndspr&#105;ng' + '&#46;' + 'c&#111;m';
				var addy_textf4dd9152b0a6d31e0367a12b63114b52 = 'ccv&#97;nvl&#101;' + '&#64;' + 'm&#105;ndspr&#105;ng' + '&#46;' + 'c&#111;m';document.getElementById('cloakf4dd9152b0a6d31e0367a12b63114b52').innerHTML += ''+addy_textf4dd9152b0a6d31e0367a12b63114b52+'';
		
DTSTAMP:20260419T103215Z
DTSTART;TZID=America/Phoenix:20181103T073000
DTEND;TZID=America/Phoenix:20181103T223000
SEQUENCE:0
TRANSP:OPAQUE
END:VEVENT
END:VCALENDAR