BEGIN:VCALENDAR
VERSION:2.0
PRODID:-//jEvents 2.0 for Joomla//EN
CALSCALE:GREGORIAN
METHOD:PUBLISH
BEGIN:VEVENT
UID:040d04008d39439b2d4402c363912d54
CATEGORIES:Other Fly-In
CREATED:20181020T072547
SUMMARY:Falcon Field Monthly Fly-In
LOCATION:Falcon Warbirds Hangar at Falcon Field
DESCRIPTION;ENCODING=QUOTED-PRINTABLE:&nbsp;\n&nbsp;\nCome hungry to Falcon Field Airport this Saturday morning f
 or the first pancake breakfast and classic car show of the 2018-2019 season
  hosted by the Falcon Warbirds in collaboration with Impala Bob’s and Civil
  Air Patrol Falcon Squadron 305.\nSaturday, October 20, 2018\n7:30-11:00 a.
 m.\n4626 E. Fighter Aces Drive\nMesa, Arizona 85215\nVisit with the pilots 
 &amp; car owners, share stories, and see their restored vehicles! Enjoy a h
 earty breakfast of pancakes, scrambled eggs, sausage, orange juice and coff
 ee! Tickets are $8 per plate, and proceeds support EAA Warbird Squadron 50 
 and Civil Air Patrol programs.\nFor the safety of your furry friends, pleas
 e leave dogs at home (except for service animals)! Dogs and airplanes do no
 t mix well!\nThe Falcon Warbirds host breakfast from 7:30-11:00 a.m. on the
  third Saturday of each month from October-May. For more information about 
 the 2018-2019 season, visit www.falconwarbirds.com or call Scott at 602-705
 -4413 or Dick at 602-549-8892.\n\n\n&nbsp;\n\n&nbsp;\nFalcoln Field Monthly
  Fly-In\nCruise-In Breakfast &amp; Fly Market\n&nbsp;\nFly in, or bring you
 r classic car, family, and friends for a hot and hearty breakfast of steami
 ng panacakes, fluffy scrambled eggs, sizzling sausage, coffee, and orange j
 uice served up by the EAA Warbrds Squadron 50 and the Civil Air Patrol at F
 alcon Field. Starting October 20, 2018, and on every third Saturday through
  May 19, 2019 at the Falcon Warbirds Hangar at Falcon Field.\n&nbsp;\nDates
 : Oct 20, Nov 17, Dec 15, Jan 19, Feb 16, Mar 16, April 20, and May 18\nTim
 e: 7:30-11:00 AM\nCost: $8.00 (Additional donations are welcome!)\nProceeds
  go to the EAA Warbirds Squadron 50 and the Civil Air Patrol Cadets. Ticket
 s are available at the door.\nClassic cars, meet us at Impala Bob's at 7:45
  am and we will cruise over to the Falcon Warbirds Hanger just down the str
 eet,\n&nbsp;\nFor More Information:\n&nbsp;\nFalcon Warbirds Hangar\n4626 E
  Fighter Aces Drive\nMesa, AZ 85215\nFalconWarbirds.com\n602-705-4413\n&nbs
 p;\nImpala Bob's\n4753 E Falcon Drive\nMesa, AZ 85215\nImpalas.com\n480-981
 -1600\n&nbsp;\n
CONTACT: Scott at 602-705-4413 or Dick at 602-549-8892
DTSTAMP:20260419T171751Z
DTSTART;TZID=America/Phoenix:20181020T073000
DTEND;TZID=America/Phoenix:20181020T110000
SEQUENCE:0
TRANSP:OPAQUE
END:VEVENT
END:VCALENDAR