BEGIN:VCALENDAR
VERSION:2.0
PRODID:-//jEvents 2.0 for Joomla//EN
CALSCALE:GREGORIAN
METHOD:PUBLISH
BEGIN:VEVENT
UID:040d04008d39439b2d4402c363912d54
CATEGORIES:Other Fly-In
CREATED:20181020T072547
SUMMARY:Falcon Field Monthly Breakfast Fly-In
LOCATION:Falcon Warbirds Hangar at Falcon Field
DESCRIPTION;ENCODING=QUOTED-PRINTABLE:\n&nbsp;\nFalcoln Field Monthly Fly-In\nCruise-In Breakfast &amp; Fly Marke
 t\n&nbsp;\nFly in, or bring your classic car, family, and friends for a hot
  and hearty breakfast of steaming panacakes, fluffy scrambled eggs, sizzlin
 g sausage, coffee, and orange juice served up by the EAA Warbrds Squadron 5
 0 and the Civil Air Patrol at Falcon Field. Starting October 20, 2018, and 
 on every third Saturday through May 19, 2019 at the Falcon Warbirds Hangar 
 at Falcon Field.\n&nbsp;\nDates: Oct 20, Nov 17, Dec 15, Jan 19, Feb 16, Ma
 r 16, April 20, and May 18\nTime: 7:30-11:00 AM\nCost: $8.00 (Additional do
 nations are welcome!)\nProceeds go to the EAA Warbirds Squadron 50 and the 
 Civil Air Patrol Cadets. Tickets are available at the door.\nClassic cars, 
 meet us at Impala Bob's at 7:45 am and we will cruise over to the Falcon Wa
 rbirds Hanger just down the street,\n&nbsp;\nFor More Information:\n&nbsp;\
 nFalcon Warbirds Hangar\n4626 E Fighter Aces Drive\nMesa, AZ 85215\nFalconW
 arbirds.com\n602-705-4413\n&nbsp;\nImpala Bob's\n4753 E Falcon Drive\nMesa,
  AZ 85215\nImpalas.com\n480-981-1600\n&nbsp;\n
CONTACT: Scott at 602-705-4413 or Dick at 602-549-8892
DTSTAMP:20260419T153416Z
DTSTART;TZID=America/Phoenix:20181117T073000
DTEND;TZID=America/Phoenix:20181117T110000
SEQUENCE:0
TRANSP:OPAQUE
END:VEVENT
END:VCALENDAR