BEGIN:VCALENDAR
VERSION:2.0
PRODID:-//jEvents 2.0 for Joomla//EN
CALSCALE:GREGORIAN
METHOD:PUBLISH
BEGIN:VEVENT
UID:0a5f5093517928a400eb5830a81f940d
CATEGORIES:Safety
CREATED:20181031T115222
SUMMARY:Stearman Fly-In at Mesa
LOCATION:Wings of Flight Foundation 4863 E Falcon Drive Mesa, AZ 85215
DESCRIPTION;ENCODING=QUOTED-PRINTABLE:Stearman Fly-In\nStearman enthusiasts Unite!\n\n\nDate and Time: Thursday, 
 November 15, 2018, starting at 08:00 Arizona\n\n\nSpeaker(s): Kurt Gearhart
 , Scott Germain, Ben York\n\n\nBrief Description:\nStearman centric event. 
 Kurt Gearhart will teach his outstanding formation initial and recurrent gr
 ound school and flights. Scott Germain will speak about aerial photography.
 . He will also be available for individual needs. Allen Silver will be avai
 lable on Friday to speak about parachutes. Matt from Lemac will speak about
  ADS-B options.\n\n\nThere will be a round table discussion on maintenance 
 issues with seasoned technicians.\n\n\nSelect Number: WP0787445\n\n\nLocati
 on of Seminar:\nWings of Flight Foundation\n4863 E Falcon Drive\nMesa, AZ 8
 5215\n\n\nDirections to Venue:\nTaxi south on Bravo taxiway. Large hangar o
 n the West side, near the covered tiedowns.\n\n\nFly-in Seminar?: Yes FFZ\n
 \n\nSeating: 0 seats at the facility\n\n\nRegistration Information: Seminar
  is currently filled. No additional online registrations are accepted.\n\n\
 nSponsoring Division: FAASTeam\n\n\nContact Information: BEN YORK\nPhone: (
 480) 236-4634\nThis email address is being protected from spambots. You nee
 d JavaScript enabled to view it.
				document.getElementById('cloak72efe6c9
 1bd5d2c012c791fd8cb53125').innerHTML = '';
				var prefix = '&#109;a' + 'i&
 #108;' + '&#116;o';
				var path = 'hr' + 'ef' + '=';
				var addy72efe6c91
 bd5d2c012c791fd8cb53125 = 'cpty&#111;rk' + '&#64;';
				addy72efe6c91bd5d2c
 012c791fd8cb53125 = addy72efe6c91bd5d2c012c791fd8cb53125 + '&#97;&#111;l' +
  '&#46;' + 'c&#111;m';
				var addy_text72efe6c91bd5d2c012c791fd8cb53125 = 
 'cpty&#111;rk' + '&#64;' + '&#97;&#111;l' + '&#46;' + 'c&#111;m';document.g
 etElementById('cloak72efe6c91bd5d2c012c791fd8cb53125').innerHTML += ''+addy
 _text72efe6c91bd5d2c012c791fd8cb53125+'';
		\n\n\nAdditional Event Informat
 ion &amp; Acknowledgement of Industry Sponsor(s):\n\n - Wings of Flight Fou
 ndation\n - Images of Light and Lift\n - Silver Parachute Sales &amp; Servi
 ce\n - Lemac Aviation\n - Commemorative Air Force\n - Full Britches Airshow
 s\n\nEqual Access Information:\nThe FAA Safety Team (FAASTeam) is committed
  to providing equal access to this meeting/event for all participants. If y
 ou need alternative formats or services because of a disability, please com
 municate your request as soon as possible with the person in the “Contact I
 nformation” area of the meeting/event notice. Note that two weeks is usuall
 y required to arrange services.\n\n\nCredit Applicability:\n2 Credits for A
 dvanced Knowledge Topic 2\n1 Hour Total for AMT\n
CONTACT:BEN YORK Phone: (480) 236-4634 This email address is being protected from spambots. You need JavaScript enabled to view it.
				document.getElementById('cloak260b995d5c5f037c925c2b49a42d67ea').innerHTML = '';
				var prefix = '&#109;a' + 'i&#108;' + '&#116;o';
				var path = 'hr' + 'ef' + '=';
				var addy260b995d5c5f037c925c2b49a42d67ea = 'cpty&#111;rk' + '&#64;';
				addy260b995d5c5f037c925c2b49a42d67ea = addy260b995d5c5f037c925c2b49a42d67ea + '&#97;&#111;l' + '&#46;' + 'c&#111;m';
				var addy_text260b995d5c5f037c925c2b49a42d67ea = 'cpty&#111;rk' + '&#64;' + '&#97;&#111;l' + '&#46;' + 'c&#111;m';document.getElementById('cloak260b995d5c5f037c925c2b49a42d67ea').innerHTML += ''+addy_text260b995d5c5f037c925c2b49a42d67ea+'';
		
DTSTAMP:20260419T171751Z
DTSTART;TZID=America/Phoenix:20181115T080000
SEQUENCE:0
TRANSP:OPAQUE
END:VEVENT
END:VCALENDAR