BEGIN:VCALENDAR
VERSION:2.0
PRODID:-//jEvents 2.0 for Joomla//EN
CALSCALE:GREGORIAN
METHOD:PUBLISH
BEGIN:VEVENT
UID:2404ae5ba972915a2ace5900d8517fd0
CATEGORIES:Safety
CREATED:20181031T115711
SUMMARY:Bail-Out Seminar at Mesa
LOCATION:Wings of Flight Foundation 4863 E Falcon Dr Mesa, AZ 85215
DESCRIPTION;ENCODING=QUOTED-PRINTABLE:Bail-Out Seminar\nBail-out seminar for Stearman pilots\n\n\nDate and Time: 
 Friday, November 16, 2018, starting at 13:00 Arizona&nbsp;\n\n\nSpeaker(s):
  Allen Silver\n\n\nBrief Description:\nWings of Flight Foundation is hostin
 g a Stearman fly-in. During our event we are hosting Allen Silverman from S
 ilver Paracute Sales and Service. Silverman specializes in pilot emergency 
 parachutes\n\n\nSelect Number: WP0786386\n\n\nLocation of Seminar:\nWings o
 f Flight Foundation\n4863 E Falcon Dr\nMesa, AZ 85215\n\n\nDirections to Ve
 nue:\nFrom McKellips turn north on Falcon Drive. At gate 5 which is abeam I
 mpala Bob’s (4753 E Falcon Drive) on the east side of Falcon Drive. At the 
 gate enter #010 on keypad, this rings the hangar for us to give you access.
  Wings of Flight Foundation hangar is on the Bravo taxiway near the covered
  tie downs\n\n\nView Map\n\n\nFly-in Seminar?: Yes FFZ\n\n\nSeating: 50 sea
 ts at the facility\n\n\nRegistration Information:\nClick here to register o
 nline now!\n\n\nSponsoring Division: FAASTeam\n\n\nContact Information: BEN
  YORK\nPhone: (480) 236-4634\nThis email address is being protected from sp
 ambots. You need JavaScript enabled to view it.
				document.getElementById
 ('cloak088f1c8e370246a3c7b663abc573583b').innerHTML = '';
				var prefix = 
 '&#109;a' + 'i&#108;' + '&#116;o';
				var path = 'hr' + 'ef' + '=';
				va
 r addy088f1c8e370246a3c7b663abc573583b = 'cpty&#111;rk' + '&#64;';
				addy
 088f1c8e370246a3c7b663abc573583b = addy088f1c8e370246a3c7b663abc573583b + '
 &#97;&#111;l' + '&#46;' + 'c&#111;m';
				var addy_text088f1c8e370246a3c7b6
 63abc573583b = 'cpty&#111;rk' + '&#64;' + '&#97;&#111;l' + '&#46;' + 'c&#11
 1;m';document.getElementById('cloak088f1c8e370246a3c7b663abc573583b').inner
 HTML += ''+addy_text088f1c8e370246a3c7b663abc573583b+'';
		\n\n\nAdditional
  Event Information &amp; Acknowledgement of Industry Sponsor(s):\nWings of 
 Flight Foundation is hosting Silver Parachute Sales and Service for a Bail-
 Out seminar. The event is focused for Stearman pilots. However, it will be 
 great information for all who wear an emergency parachute.\n\n\nEqual Acces
 s Information:\nThe FAA Safety Team (FAASTeam) is committed to providing eq
 ual access to this meeting/event for all participants. If you need alternat
 ive formats or services because of a disability, please communicate your re
 quest as soon as possible with the person in the “Contact Information” area
  of the meeting/event notice. Note that two weeks is usually required to ar
 range services.\n\n\nCredit Applicability:\n1 Credit for Advanced Knowledge
  Topic 2\n
CONTACT:BEN YORK Phone: (480) 236-4634 This email address is being protected from spambots. You need JavaScript enabled to view it.
				document.getElementById('cloak955b25ab8cce9ce888d947d165efab03').innerHTML = '';
				var prefix = '&#109;a' + 'i&#108;' + '&#116;o';
				var path = 'hr' + 'ef' + '=';
				var addy955b25ab8cce9ce888d947d165efab03 = 'cpty&#111;rk' + '&#64;';
				addy955b25ab8cce9ce888d947d165efab03 = addy955b25ab8cce9ce888d947d165efab03 + '&#97;&#111;l' + '&#46;' + 'c&#111;m';
				var addy_text955b25ab8cce9ce888d947d165efab03 = 'cpty&#111;rk' + '&#64;' + '&#97;&#111;l' + '&#46;' + 'c&#111;m';document.getElementById('cloak955b25ab8cce9ce888d947d165efab03').innerHTML += ''+addy_text955b25ab8cce9ce888d947d165efab03+'';
		
DTSTAMP:20260419T172053Z
DTSTART;TZID=America/Phoenix:20181116T130000
SEQUENCE:0
TRANSP:OPAQUE
END:VEVENT
END:VCALENDAR