BEGIN:VCALENDAR
VERSION:2.0
PRODID:-//jEvents 2.0 for Joomla//EN
CALSCALE:GREGORIAN
METHOD:PUBLISH
BEGIN:VEVENT
UID:6b15af2368d3395cc05d6db884886fc2
CATEGORIES:Safety
CREATED:20181031T120406
SUMMARY:Airspace 101 at Yuma
LOCATION:Yuma Int'l Airport 2191 E. 32nd St. Board Roon, 2nd floor Yuma, AZ 85365
DESCRIPTION;ENCODING=QUOTED-PRINTABLE:Airspace 101\nAIRSPACE 101 &amp; RISK MANAGEMENT\n\n\nDate and Time: Saturd
 ay, November 17, 2018, starting at 09:00 Arizona\n\n\nSpeaker(s): Fred Gibb
 s, APA Safety Director-at-Large\n\n\nBrief Description:\nA refresher progra
 m on the airspace makeup, categories and operating requirements, plus a rev
 iew of risk management and the APA's Four 9's Safety program and goals.\n\n
 \nSelect Number: WP0787554\n\n\nLocation of Seminar:\nYuma Int'l Airport\n2
 191 E. 32nd St.\nBoard Roon, 2nd floor\nYuma, AZ 85365\n\n\nDirections to V
 enue:\nDriving Directions:\nFrom Interstate 8 going East\nTake Exit 2 onto 
 Highway 95 (16th St) going east, turn right on Pacific Ave. Cross 32nd Stre
 et to enter the Airport Parking Lot.\nFrom Interstate 8 going West\nTake Ex
 it 3, turn south (left) onto Ave 3E. Turn right on 32nd Street. One mile, a
 t Pacific Ave, turn left into the Airport Parking Lot.\nFlying in: park at 
 Million Air\nFrom the parking lot, turn right on Burch Way, right on Gillas
 pie Place. At the stop sign turn right on Arizona Ave.\nAt the stop light, 
 turn right on 32nd St and right into the airport's parking lot.\nView Map\n
 \n\nFly-in Seminar?: Yes KNYL\n\n\nSeating: 25 seats at the facility\n\n\nR
 egistration Information:\nClick here to register online now!\n\n\nSponsorin
 g Division: SDL FSDO FAASTeam\n\n\nContact Information: FRED L. GIBBS\nPhon
 e: (928) 266-0112\nThis email address is being protected from spambots. You
  need JavaScript enabled to view it.
				document.getElementById('cloak0eeb
 a3c58878b16217e5d8f632ae1ae1').innerHTML = '';
				var prefix = '&#109;a' +
  'i&#108;' + '&#116;o';
				var path = 'hr' + 'ef' + '=';
				var addy0eeba
 3c58878b16217e5d8f632ae1ae1 = 'fr&#101;dg&#105;bbs' + '&#64;';
				addy0eeb
 a3c58878b16217e5d8f632ae1ae1 = addy0eeba3c58878b16217e5d8f632ae1ae1 + 'npgc
 &#97;bl&#101;' + '&#46;' + 'c&#111;m';
				var addy_text0eeba3c58878b16217e
 5d8f632ae1ae1 = 'fr&#101;dg&#105;bbs' + '&#64;' + 'npgc&#97;bl&#101;' + '&#
 46;' + 'c&#111;m';document.getElementById('cloak0eeba3c58878b16217e5d8f632a
 e1ae1').innerHTML += ''+addy_text0eeba3c58878b16217e5d8f632ae1ae1+'';
		\n\
 n\nAdditional Event Information &amp; Acknowledgement of Industry Sponsor(s
 ):\nPresented by the Arizona Pilots Association (APA) Safety Program, and s
 ponsored and hosted by the Yuma International Airport\n\n\nEqual Access Inf
 ormation:\nThe FAA Safety Team (FAASTeam) is committed to providing equal a
 ccess to this meeting/event for all participants. If you need alternative f
 ormats or services because of a disability, please communicate your request
  as soon as possible with the person in the “Contact Information” area of t
 he meeting/event notice. Note that two weeks is usually required to arrange
  services.\n\n\nCredit Applicability:\n1 Credit for Basic Knowledge Topic 3
 \n1 Credit for Advanced Knowledge Topic 2\n
CONTACT:FRED L. GIBBS Phone: (928) 266-0112 This email address is being protected from spambots. You need JavaScript enabled to view it.
				document.getElementById('cloakad3f1c8de40c981a3b4f4e0eaf023495').innerHTML = '';
				var prefix = '&#109;a' + 'i&#108;' + '&#116;o';
				var path = 'hr' + 'ef' + '=';
				var addyad3f1c8de40c981a3b4f4e0eaf023495 = 'fr&#101;dg&#105;bbs' + '&#64;';
				addyad3f1c8de40c981a3b4f4e0eaf023495 = addyad3f1c8de40c981a3b4f4e0eaf023495 + 'npgc&#97;bl&#101;' + '&#46;' + 'c&#111;m';
				var addy_textad3f1c8de40c981a3b4f4e0eaf023495 = 'fr&#101;dg&#105;bbs' + '&#64;' + 'npgc&#97;bl&#101;' + '&#46;' + 'c&#111;m';document.getElementById('cloakad3f1c8de40c981a3b4f4e0eaf023495').innerHTML += ''+addy_textad3f1c8de40c981a3b4f4e0eaf023495+'';
		
DTSTAMP:20260419T171820Z
DTSTART;TZID=America/Phoenix:20181117T090000
SEQUENCE:0
TRANSP:OPAQUE
END:VEVENT
END:VCALENDAR