BEGIN:VCALENDAR
VERSION:2.0
PRODID:-//jEvents 2.0 for Joomla//EN
CALSCALE:GREGORIAN
METHOD:PUBLISH
BEGIN:VEVENT
UID:8a43f22f46e4618084214d2ef764f36f
CATEGORIES:Safety
CREATED:20181031T120858
SUMMARY:Sharing the NAS with the military - Mid Air Collision Avoidance at Casa Grande
LOCATION:Casa Grande Municipal Airport- Terminal Buliding 3225 N. Lear Ave, Casa Gra
 nde, AZ
DESCRIPTION;ENCODING=QUOTED-PRINTABLE:Sharing the NAS with the military - Mid Air Collision Avoidance\nGA and the
  military sharing the National Airspace System (NAS).\n\n\nDate and Time: S
 aturday, November 17, 2018, starting at 10:00 Arizona\n\n\nSpeaker(s): Terr
 y C Hansen, USMC,William Gillies, Luke AFB\n\n\nBrief Description:\nThe bri
 efing will cover how GA and the military can safely share the NAS in Arizon
 a and southern California, and the types of training missions conducted in 
 each type of Special Use Airspace.\n\n\nSelect Number: WP0786287\n\n\nLocat
 ion of Seminar:\nCasa Grande Municipal Airport- Terminal Buliding\n3225 N. 
 Lear Ave, Casa Grande, AZ\n\n\nTerminal\nCasa Grande, AZ 85122\n\n\nDirecti
 ons to Venue:\nIn main terminal.\n\n\nFly-in Seminar?: Yes KCGZ\n\n\nSeatin
 g: 60 seats at the facility\n\n\nRegistration Information:\nClick here to r
 egister online now!\n\n\nSponsoring Division: Scottsdale FAASTeam\n\n\nCont
 act Information: terry hansen\nPhone: (760) 215-0145\nThis email address is
  being protected from spambots. You need JavaScript enabled to view it.
			
 	document.getElementById('cloakcd03cd82b0065d45f73ef7ec4d28f477').innerHTML
  = '';
				var prefix = '&#109;a' + 'i&#108;' + '&#116;o';
				var path = '
 hr' + 'ef' + '=';
				var addycd03cd82b0065d45f73ef7ec4d28f477 = 't&#101;rr
 ych&#97;ns&#101;n' + '&#64;';
				addycd03cd82b0065d45f73ef7ec4d28f477 = ad
 dycd03cd82b0065d45f73ef7ec4d28f477 + 'gm&#97;&#105;l' + '&#46;' + 'c&#111;m
 ';
				var addy_textcd03cd82b0065d45f73ef7ec4d28f477 = 't&#101;rrych&#97;ns
 &#101;n' + '&#64;' + 'gm&#97;&#105;l' + '&#46;' + 'c&#111;m';document.getEl
 ementById('cloakcd03cd82b0065d45f73ef7ec4d28f477').innerHTML += ''+addy_tex
 tcd03cd82b0065d45f73ef7ec4d28f477+'';
		\n\n\nAdditional Event Information 
 &amp; Acknowledgement of Industry Sponsor(s):\nMembers form the U.S.M.C and
  Luke AFB will brief on the military aviation mission in the area, how GA a
 nd the military can share the NAS and the types of missions conducted by th
 e military in the different types of SUA's.\n\n\nEqual Access Information:\
 nThe FAA Safety Team (FAASTeam) is committed to providing equal access to t
 his meeting/event for all participants. If you need alternative formats or 
 services because of a disability, please communicate your request as soon a
 s possible with the person in the “Contact Information” area of the meeting
 /event notice. Note that two weeks is usually required to arrange services.
 \n\n\nCredit Applicability:\n1 Credit for Basic Knowledge Topic 3\n1 Credit
  for Advanced Knowledge Topic 2\n
CONTACT:terry hansen Phone: (760) 215-0145 This email address is being protected from spambots. You need JavaScript enabled to view it.
				document.getElementById('cloakff37721ba7307305129f8e7a1b9ae9b5').innerHTML = '';
				var prefix = '&#109;a' + 'i&#108;' + '&#116;o';
				var path = 'hr' + 'ef' + '=';
				var addyff37721ba7307305129f8e7a1b9ae9b5 = 't&#101;rrych&#97;ns&#101;n' + '&#64;';
				addyff37721ba7307305129f8e7a1b9ae9b5 = addyff37721ba7307305129f8e7a1b9ae9b5 + 'gm&#97;&#105;l' + '&#46;' + 'c&#111;m';
				var addy_textff37721ba7307305129f8e7a1b9ae9b5 = 't&#101;rrych&#97;ns&#101;n' + '&#64;' + 'gm&#97;&#105;l' + '&#46;' + 'c&#111;m';document.getElementById('cloakff37721ba7307305129f8e7a1b9ae9b5').innerHTML += ''+addy_textff37721ba7307305129f8e7a1b9ae9b5+'';
		
DTSTAMP:20260420T001516Z
DTSTART;TZID=America/Phoenix:20181117T100000
SEQUENCE:0
TRANSP:OPAQUE
END:VEVENT
END:VCALENDAR