BEGIN:VCALENDAR
VERSION:2.0
PRODID:-//jEvents 2.0 for Joomla//EN
CALSCALE:GREGORIAN
METHOD:PUBLISH
BEGIN:VEVENT
UID:3277f9d52eba576d73f57d55cbb5463b
CATEGORIES:Safety
CREATED:20181031T121442
SUMMARY:sUAS/Drones for Public Safety at Tucson
LOCATION:SARA House (Southern Arizona Rescue Association) 5990 N Sabino Canyon Rd Tu
 cson, AZ 85750
DESCRIPTION;ENCODING=QUOTED-PRINTABLE:sUAS/Drones for Public Safety\nThe use of sUAS for First Responders, Law En
 forcement, Search &amp; Rescue, and other public services.\n\n\nDate and Ti
 me: Saturday, November 17, 2018, starting at 10:00 Mountain Standard Time\n
 \n\nSpeaker(s): Sarah Nilsson, Esq; Tina Buskirk, Scottsdale FSDO; Ernie Co
 peland, Scottsdale FSDO; Prof. David G. Iadevaia\n\n\nBrief Description:\nT
 he proper use of sUAS in public safety is sometimes hindered by differences
  in familiarity concerning which technology is appropriate for a specific u
 se, as well as the legal and regulatory requirements that must be met. This
  seminar will examine such requirements as they apply directly to the publi
 c safety arena. Specifically, Search &amp; Rescue, First Responder usage, a
 nd tasks that assist local law enforcement will be discussed. Several types
  of sUAS will be explained and displayed to illustrate what technology is a
 ppropriate for each purpose.\n\n\nFor reference https://www.faa.gov/uas/res
 ources/uas_regulations_policy/\n\n\nThank you to Tucson Airport Authority, 
 Airlines, Airport Tenants, Arizona Air National Guard, FAA, FAA FAASTeam Pr
 ogram Managers- Scottsdale, FAA Tucson Air Traffic Control Tower, Junaid Ad
 il (Aircraft Owners and Pilots Association (AOPA) Airport Support Network V
 olunteer - Tucson International Airport) and the Tucson FAASTeam for the ne
 w KTUS Airport and Runway Safety video. For helpful statewide information f
 rom Arizona Flight Training Workgroup, including the new KTUS Airport and R
 unway Safety video, click here: http://aftw.org/tus-releases-runway-safety-
 video/\n\n\nPlease see "Additional Event Documents" for more information.\n
 \n\nSelect Number: WP0785797\n\n\nLocation of Seminar:\nSARA House (Souther
 n Arizona Rescue Association)\n5990 N Sabino Canyon Rd\nTucson, AZ 85750\n\
 n\nDirections to Venue:\nDirections to Venue: I-10 E to Orange Grove Exit. 
 Orange Grove Rd, exit #250, to Skyline. (6.7 miles). Right (East) on Skylin
 e (Skyline blends into, becoming Sunrise Drive) to Sabino Canyon Rd. (7.3 m
 iles). Left (North) at Sabino Canyon Rd to FS 805 road (0.4 mile)--take a r
 ight on FS 805 road marked with Seminar sign. Bear left to SARA House.\n\n\
 nAlternately, I-10 E to Speedway, exit #257, follow Speedway East (8.4 mile
 s). Left (North) on Kolb (0.3 mile) to Sabino Canyon Rd. Take easy right (N
 orth) on Sabino Canyon Rd direct to FS 805 Rd. (0.4 mile) Right on FS 805 R
 d. Bear left to SARA House.\n\n\nGPS Coordinates: N 32° 19.048’, W 110° 49.
 318’\n\n\nEl Tour De Tucson bicycling event also takes place on November 17
 , 2018. Here is the map for your reference:\n\n\nhttp://www.perimeterbicycl
 ing.com/el-tour-de-tucson/files/2018/10/2018-ETT-Route-MapColor-9-25.pdf\n\
 n\nFly-in Seminar?: No\nSeating: 55 seats at the facility\n\n\nRegistration
  Information:\nClick here to register online now!\n\n\nSponsoring Division:
  Scottsdale FSDO FAASTeam\n\n\nContact Information: Lee Unger\nPhone: (520)
  990-3792\nThis email address is being protected from spambots. You need Ja
 vaScript enabled to view it.
				document.getElementById('cloak75fe417426bc
 a0fa643b1fa9b10c1852').innerHTML = '';
				var prefix = '&#109;a' + 'i&#108
 ;' + '&#116;o';
				var path = 'hr' + 'ef' + '=';
				var addy75fe417426bca
 0fa643b1fa9b10c1852 = '&#117;ng&#101;rs' + '&#64;';
				addy75fe417426bca0f
 a643b1fa9b10c1852 = addy75fe417426bca0fa643b1fa9b10c1852 + 'd&#97;k&#111;t&
 #97;c&#111;m' + '&#46;' + 'n&#101;t';
				var addy_text75fe417426bca0fa643b
 1fa9b10c1852 = '&#117;ng&#101;rs' + '&#64;' + 'd&#97;k&#111;t&#97;c&#111;m'
  + '&#46;' + 'n&#101;t';document.getElementById('cloak75fe417426bca0fa643b1
 fa9b10c1852').innerHTML += ''+addy_text75fe417426bca0fa643b1fa9b10c1852+'';
 
		\n\n\nAdditional Event Information &amp; Acknowledgement of Industry Spo
 nsor(s):\nOur thanks to the Southern Arizona Rescue Association (SARA) for 
 hosting this seminar!\n\n\nThank you also to FAA Scottsdale Flight Standard
 s District Office (FSDO) and our Speakers:\n\n\nTina Buskirk, Aviation Safe
 ty Acting Front Line Manager, Scottsdale FSDO, FAASTeam Program Manager\n\n
 \nErnest R. Copeland, FAA Safety Team Program Manager (Airworthiness) Feder
 al Aviation Administration, Scottsdale Flight Standards District Office\n\n
 \nFAASTeam Representative Dr. Sarah J. Nilsson Esq. JD, PhD, MAS, ATP, CFI,
  CFII, MEI, AGI, IGI; UAS Consultant http://www.sarahnilsson.org/\n\n\nFAAS
 Team Representative Prof. David G. Iadevaia, Airborne Precision Imaging – A
 Z, retired professor of Astronomy and Physics with a technical background i
 n electronics, an interest in aviation and a life long experimenter. http:/
 /www.davidiadevaia.com/\n\n\nA special thanks to FAASTeam Representative Pr
 of. David Iadevaia for planning this seminar.\n\n\nThis events runs from 10
 :00 till 13:00.\n\n\nEqual Access Information:\nThe FAA Safety Team (FAASTe
 am) is committed to providing equal access to this meeting/event for all pa
 rticipants. If you need alternative formats or services because of a disabi
 lity, please communicate your request as soon as possible with the person i
 n the “Contact Information” area of the meeting/event notice. Note that two
  weeks is usually required to arrange services.\n\n\nCredit Applicability:\
 n½ Credit for Basic Knowledge Topic 1\n½ Credit for Basic Knowledge Topic 2
 \n1 Credit for Basic Knowledge Topic 1\n1 Credit for Basic Knowledge Topic 
 3\n
CONTACT:Lee Unger Phone: (520) 990-3792 This email address is being protected from spambots. You need JavaScript enabled to view it.
				document.getElementById('cloakb0866861282641c494c259b68f3d8edd').innerHTML = '';
				var prefix = '&#109;a' + 'i&#108;' + '&#116;o';
				var path = 'hr' + 'ef' + '=';
				var addyb0866861282641c494c259b68f3d8edd = '&#117;ng&#101;rs' + '&#64;';
				addyb0866861282641c494c259b68f3d8edd = addyb0866861282641c494c259b68f3d8edd + 'd&#97;k&#111;t&#97;c&#111;m' + '&#46;' + 'n&#101;t';
				var addy_textb0866861282641c494c259b68f3d8edd = '&#117;ng&#101;rs' + '&#64;' + 'd&#97;k&#111;t&#97;c&#111;m' + '&#46;' + 'n&#101;t';document.getElementById('cloakb0866861282641c494c259b68f3d8edd').innerHTML += ''+addy_textb0866861282641c494c259b68f3d8edd+'';
		
DTSTAMP:20260419T171752Z
DTSTART;TZID=America/Phoenix:20181117T100000
DTEND;TZID=America/Phoenix:20181117T130000
SEQUENCE:0
TRANSP:OPAQUE
END:VEVENT
END:VCALENDAR