BEGIN:VCALENDAR
VERSION:2.0
PRODID:-//jEvents 2.0 for Joomla//EN
CALSCALE:GREGORIAN
METHOD:PUBLISH
BEGIN:VEVENT
UID:5b0c873e7e2b43034f68ac117649e261
CATEGORIES:Other Fly-In
CREATED:20181101T141309
SUMMARY:Deer Valley Pilots Association Pancake Breakfast
LOCATION:DVT
DESCRIPTION;ENCODING=QUOTED-PRINTABLE:DVPA is holding a Fall Pancake Breakfast on November 3rd&nbsp;Fall Membersh
 ip Pancake Breakfast - Saturday November 3rd 2018&nbsp;\nPancakes, sausage 
 and beverages for Members compliments of DVPA,&nbsp;8am to 10am on Saturday
 , November 3 at the North Ramp Wash Rack.&nbsp;\n\nThe DVPA Raffle is back!
  Win a case of oil, dinner at the Deer Valley Restaurant, or an AVGAS gift 
 card. Must be present to win. There is no cost to DVPA members and $10 for 
 non-members, but an annual membership is included in the $10 raffle/donatio
 n.\n\nEd Faron, our Airport Manager, will be present to share the status an
 d proposed content of the new GA Handbook, the hanagar use policies for our
  airport. The recent changes in FAA policy on Hangar Use will bring some ch
 anges for DVT Tenants!\n\nYour Board of Directors will be present to hear f
 rom you about your ideas to improve our airport.\n\nWe will have a number o
 f aircraft on display, and we would like to see yours, too. Let us know so 
 we have enough room.CONTACT:&nbsp;Jeff Flaherty This email address is being
  protected from spambots. You need JavaScript enabled to view it.
				docum
 ent.getElementById('cloakadd8885f5dee6139aede61f991250f8a').innerHTML = '';
 
				var prefix = '&#109;a' + 'i&#108;' + '&#116;o';
				var path = 'hr' + 
 'ef' + '=';
				var addyadd8885f5dee6139aede61f991250f8a = 'j&#101;ff.fl&#9
 7;h&#101;rty212' + '&#64;';
				addyadd8885f5dee6139aede61f991250f8a = addy
 add8885f5dee6139aede61f991250f8a + 'gm&#97;&#105;l' + '&#46;' + 'c&#111;m';
 
				var addy_textadd8885f5dee6139aede61f991250f8a = 'j&#101;ff.fl&#97;h&#1
 01;rty212' + '&#64;' + 'gm&#97;&#105;l' + '&#46;' + 'c&#111;m';document.get
 ElementById('cloakadd8885f5dee6139aede61f991250f8a').innerHTML += ''+addy_t
 extadd8885f5dee6139aede61f991250f8a+'';
		&nbsp;
CONTACT: Jeff Flaherty  This email address is being protected from spambots. You need JavaScript enabled to view it.
				document.getElementById('cloak9bbf250b4cc89b3d92b975a2dd5217fa').innerHTML = '';
				var prefix = '&#109;a' + 'i&#108;' + '&#116;o';
				var path = 'hr' + 'ef' + '=';
				var addy9bbf250b4cc89b3d92b975a2dd5217fa = 'j&#101;ff.fl&#97;h&#101;rty212' + '&#64;';
				addy9bbf250b4cc89b3d92b975a2dd5217fa = addy9bbf250b4cc89b3d92b975a2dd5217fa + 'gm&#97;&#105;l' + '&#46;' + 'c&#111;m';
				var addy_text9bbf250b4cc89b3d92b975a2dd5217fa = 'j&#101;ff.fl&#97;h&#101;rty212' + '&#64;' + 'gm&#97;&#105;l' + '&#46;' + 'c&#111;m';document.getElementById('cloak9bbf250b4cc89b3d92b975a2dd5217fa').innerHTML += ''+addy_text9bbf250b4cc89b3d92b975a2dd5217fa+'';
		
DTSTAMP:20260419T104442Z
DTSTART;TZID=America/Phoenix:20181103T080000
DTEND;TZID=America/Phoenix:20181103T100000
SEQUENCE:0
TRANSP:OPAQUE
END:VEVENT
END:VCALENDAR