BEGIN:VCALENDAR
VERSION:2.0
PRODID:-//jEvents 2.0 for Joomla//EN
CALSCALE:GREGORIAN
METHOD:PUBLISH
BEGIN:VEVENT
UID:d221addf77c37aa47418b93ce150d2d0
CATEGORIES:Other Fly-In
CREATED:20181112T133206
SUMMARY:Coolidge Airport (P08) Monthly Fly-In Breakfast
LOCATION:Coolidge Airport (P08)
DESCRIPTION;ENCODING=QUOTED-PRINTABLE:Please Note: We have stopped the fly in breakfast until next fall.\n\n&nbsp
 ;\nCoolidge Airport (P08) Monthly Fly-In BreakfastThe first Saturday of eve
 ry month there is a fly in breakfast at Coolidge Airport (P08). \nTime: 8:0
 0 to 12:00 noon.\n\n\n&nbsp;\nMonthly Fly-in Breakfast\n\nOn the first Satu
 rday of every month (except June, July, August and September), the Fly-ins 
 are now sponsored by the City of Coolidge.&nbsp; Breakfast is served by the
  Coolidge Lion’s Club in front of the main hangar (you know, the 1940’s han
 gar with the orange roof!) at the airport.&nbsp; The event usually starts a
 bout 8:00 a.m. and ends around 12:00 p.m.&nbsp; JetA and 100LL fuel is avai
 lable at the “self-serve” pump.&nbsp; If you have any questions about the f
 ly-in please feel free to contact us.\n\nJames Myers - Building Official\nC
 ity of Coolidge\n131 W Pinkely Ave\nP&nbsp;520-723-6075\nF&nbsp;520-723-607
 9\nThis email address is being protected from spambots. You need JavaScript
  enabled to view it.
				document.getElementById('cloak87c03c06686925aca8f5
 c62acb41d9bb').innerHTML = '';
				var prefix = '&#109;a' + 'i&#108;' + '&#
 116;o';
				var path = 'hr' + 'ef' + '=';
				var addy87c03c06686925aca8f5c
 62acb41d9bb = 'j&#97;m&#101;sm' + '&#64;';
				addy87c03c06686925aca8f5c62a
 cb41d9bb = addy87c03c06686925aca8f5c62acb41d9bb + 'c&#111;&#111;l&#105;dg&#
 101;&#97;z' + '&#46;' + 'c&#111;m';
				var addy_text87c03c06686925aca8f5c6
 2acb41d9bb = 'j&#97;m&#101;sm' + '&#64;' + 'c&#111;&#111;l&#105;dg&#101;&#9
 7;z' + '&#46;' + 'c&#111;m';document.getElementById('cloak87c03c06686925aca
 8f5c62acb41d9bb').innerHTML += ''+addy_text87c03c06686925aca8f5c62acb41d9bb
 +'';
		\n\n
CONTACT:James Myers 520-723-6075 This email address is being protected from spambots. You need JavaScript enabled to view it.
				document.getElementById('cloakaf129dfa3e63f06afec73eaee5071c55').innerHTML = '';
				var prefix = '&#109;a' + 'i&#108;' + '&#116;o';
				var path = 'hr' + 'ef' + '=';
				var addyaf129dfa3e63f06afec73eaee5071c55 = 'j&#97;m&#101;sm' + '&#64;';
				addyaf129dfa3e63f06afec73eaee5071c55 = addyaf129dfa3e63f06afec73eaee5071c55 + 'c&#111;&#111;l&#105;dg&#101;&#97;z' + '&#46;' + 'c&#111;m';
				var addy_textaf129dfa3e63f06afec73eaee5071c55 = 'j&#97;m&#101;sm' + '&#64;' + 'c&#111;&#111;l&#105;dg&#101;&#97;z' + '&#46;' + 'c&#111;m';document.getElementById('cloakaf129dfa3e63f06afec73eaee5071c55').innerHTML += ''+addy_textaf129dfa3e63f06afec73eaee5071c55+'';
		
DTSTAMP:20260419T134950Z
DTSTART;TZID=America/Phoenix:20181006T080000
DTEND;TZID=America/Phoenix:20181006T120000
SEQUENCE:0
TRANSP:OPAQUE
END:VEVENT
END:VCALENDAR