BEGIN:VCALENDAR
VERSION:2.0
PRODID:-//jEvents 2.0 for Joomla//EN
CALSCALE:GREGORIAN
METHOD:PUBLISH
BEGIN:VEVENT
UID:d221addf77c37aa47418b93ce150d2d0
CATEGORIES:Other Fly-In
CREATED:20181112T133206
SUMMARY:Coolidge Airport (P08) Monthly Fly-In Breakfast
LOCATION:Coolidge Airport (P08)
DESCRIPTION;ENCODING=QUOTED-PRINTABLE:Please Note: We have stopped the fly in breakfast until next fall.\n\n&nbsp
 ;\nCoolidge Airport (P08) Monthly Fly-In BreakfastThe first Saturday of eve
 ry month there is a fly in breakfast at Coolidge Airport (P08). \nTime: 8:0
 0 to 12:00 noon.\n\n\n&nbsp;\nMonthly Fly-in Breakfast\n\nOn the first Satu
 rday of every month (except June, July, August and September), the Fly-ins 
 are now sponsored by the City of Coolidge.&nbsp; Breakfast is served by the
  Coolidge Lion’s Club in front of the main hangar (you know, the 1940’s han
 gar with the orange roof!) at the airport.&nbsp; The event usually starts a
 bout 8:00 a.m. and ends around 12:00 p.m.&nbsp; JetA and 100LL fuel is avai
 lable at the “self-serve” pump.&nbsp; If you have any questions about the f
 ly-in please feel free to contact us.\n\nJames Myers - Building Official\nC
 ity of Coolidge\n131 W Pinkely Ave\nP&nbsp;520-723-6075\nF&nbsp;520-723-607
 9\nThis email address is being protected from spambots. You need JavaScript
  enabled to view it.
				document.getElementById('cloak61ed6d73058513291c7a
 dd7f06613411').innerHTML = '';
				var prefix = '&#109;a' + 'i&#108;' + '&#
 116;o';
				var path = 'hr' + 'ef' + '=';
				var addy61ed6d73058513291c7ad
 d7f06613411 = 'j&#97;m&#101;sm' + '&#64;';
				addy61ed6d73058513291c7add7f
 06613411 = addy61ed6d73058513291c7add7f06613411 + 'c&#111;&#111;l&#105;dg&#
 101;&#97;z' + '&#46;' + 'c&#111;m';
				var addy_text61ed6d73058513291c7add
 7f06613411 = 'j&#97;m&#101;sm' + '&#64;' + 'c&#111;&#111;l&#105;dg&#101;&#9
 7;z' + '&#46;' + 'c&#111;m';document.getElementById('cloak61ed6d73058513291
 c7add7f06613411').innerHTML += ''+addy_text61ed6d73058513291c7add7f06613411
 +'';
		\n\n
CONTACT:James Myers 520-723-6075 This email address is being protected from spambots. You need JavaScript enabled to view it.
				document.getElementById('cloak6fa9e70969d903c5cae69bebce9219bc').innerHTML = '';
				var prefix = '&#109;a' + 'i&#108;' + '&#116;o';
				var path = 'hr' + 'ef' + '=';
				var addy6fa9e70969d903c5cae69bebce9219bc = 'j&#97;m&#101;sm' + '&#64;';
				addy6fa9e70969d903c5cae69bebce9219bc = addy6fa9e70969d903c5cae69bebce9219bc + 'c&#111;&#111;l&#105;dg&#101;&#97;z' + '&#46;' + 'c&#111;m';
				var addy_text6fa9e70969d903c5cae69bebce9219bc = 'j&#97;m&#101;sm' + '&#64;' + 'c&#111;&#111;l&#105;dg&#101;&#97;z' + '&#46;' + 'c&#111;m';document.getElementById('cloak6fa9e70969d903c5cae69bebce9219bc').innerHTML += ''+addy_text6fa9e70969d903c5cae69bebce9219bc+'';
		
DTSTAMP:20260419T103648Z
DTSTART;TZID=America/Phoenix:20181103T080000
DTEND;TZID=America/Phoenix:20181103T120000
SEQUENCE:0
TRANSP:OPAQUE
END:VEVENT
END:VCALENDAR