BEGIN:VCALENDAR
VERSION:2.0
PRODID:-//jEvents 2.0 for Joomla//EN
CALSCALE:GREGORIAN
METHOD:PUBLISH
BEGIN:VEVENT
UID:db8f7964dc62de0ca4b934e633d6483c
CATEGORIES:Safety
CREATED:20181127T115050
SUMMARY:IMC Club Meeting - Mastering the Art of Instrument Navigation at Chandler
LOCATION:Chandler Municipal Airport Terminal Meeting Room 2380 S Stinson Way Chandle
 r, AZ 85286
DESCRIPTION;ENCODING=QUOTED-PRINTABLE:IMC Club Meeting - Mastering the Art of Instrument Navigation\nScenario Bas
 ed Discussion: Organized “Hangar Flying” Focused On Building Proficiency In
  Instrument Flying\n\n\nDate and Time: Tuesday, December 4, 2018, starting 
 at 19:45 Arizona\n\n\nSpeaker(s): None\n\n\nBrief Description:\nEAA/IMC Clu
 b, through the EAA's global Chapter structure, provides organized "hangar f
 lying" focused on building instrument flying knowledge and skills. The prog
 ram's network promotes a safety culture through continued education and bel
 ieves that we develop safety and proficiency through education and real lif
 e experience. Monthly meetings offer an opportunity to share in-flight expe
 riences and valuable safety tips. Through the FAA Safety Program, aviation 
 professionals provide informative WINGS presentations. You do not have to b
 e an instrument rated pilot to attend. Membership in theEAA/IMC Club is enc
 ouraged but not required to participate in this meeting. For more informati
 on and to take part in this event, click the link below and register TODAY!
 \n\n\nSelect Number: WP0787893\n\n\nLocation of Seminar:\nChandler Municipa
 l Airport Terminal Meeting Room\n2380 S Stinson Way\nChandler, AZ 85286\n\n
 \nDirections to Venue:\nPark in front of the main terminal building. Entran
 ce to the meeting room is from the outside on the left side of the main ter
 minal door.\n\n\nView Map\n\n\nFly-in Seminar?: Yes KCHD\n\n\nSeating: 35 s
 eats at the facility\n\n\nRegistration Information:\nClick here to register
  online now!\n\n\nSponsoring Division: FAA Safety Team\n\n\nContact Informa
 tion: Alexander Peña\nPhone: 4809826043\nThis email address is being protec
 ted from spambots. You need JavaScript enabled to view it.
				document.get
 ElementById('cloak21b2b110b651bc35a4c2b82e5cc80793').innerHTML = '';
				va
 r prefix = '&#109;a' + 'i&#108;' + '&#116;o';
				var path = 'hr' + 'ef' + 
 '=';
				var addy21b2b110b651bc35a4c2b82e5cc80793 = '&#97;l&#101;x&#97;nd&#
 101;rp&#101;n&#97;' + '&#64;';
				addy21b2b110b651bc35a4c2b82e5cc80793 = a
 ddy21b2b110b651bc35a4c2b82e5cc80793 + 'm&#97;c' + '&#46;' + 'c&#111;m';
			
 	var addy_text21b2b110b651bc35a4c2b82e5cc80793 = '&#97;l&#101;x&#97;nd&#101
 ;rp&#101;n&#97;' + '&#64;' + 'm&#97;c' + '&#46;' + 'c&#111;m';document.getE
 lementById('cloak21b2b110b651bc35a4c2b82e5cc80793').innerHTML += ''+addy_te
 xt21b2b110b651bc35a4c2b82e5cc80793+'';
		\n\n\nAdditional Event Information
  &amp; Acknowledgement of Industry Sponsor(s):\nThis event is sponsored and
  hosted by the Local EAA/IMC Club Chapter and the FAA Safety Team.\n\n\nWha
 t is the EAA/IMC Club?\nEAA/IMC Club is the brainchild of Radek Wyrzykowski
 , Instrument and Multi-Engine Instructor. As a flight instructor in Norwood
 , Massachusetts, Radek developed a volunteer mentor program to help instrum
 ent pilots improve their proficiency, and they loved it.\n\n\nWhat is the p
 urpose of EAA/IMC Club?\nAt EAA/IMC Club, our aim is to promote instrument 
 flying, proficiency, and safety. Along with IFR flying and monthly local me
 etings, we offer a resource-rich website which provides an electronic exper
 ience base.\nOur intent is to create a community of pilots to share informa
 tion, provide recognition, foster communications, promote safety and build 
 proficiency in instrument flying. EAA/IMC Club offer monthly meetings in wh
 ich pilots can network and share knowledge and experiences.\n\n\nDo you nee
 d to bring anything?\nFirst, bring your thoughts or story and be willing to
  share them with the group. This meeting is very interactive. Participation
  by the group is a fundamental element to the EAA/IMC Club meeting.\nOthers
  have found it helpful to bring along a copy of their flight manual, GPS ma
 nual, and charts. If you navigate with an iPad, bring it along.\n\n\nWho ca
 n attend?\nYou don't need an instrument rating to attend. This meeting is o
 pen to all current, non-current, and future instrument pilots.\n\n\nFor mor
 e information about the EAA/IMC Club, please visit http://www.eaa.org/imccl
 ub\n\n\nEqual Access Information:\nThe FAA Safety Team (FAASTeam) is commit
 ted to providing equal access to this meeting/event for all participants. I
 f you need alternative formats or services because of a disability, please 
 communicate your request as soon as possible with the person in the “Contac
 t Information” area of the meeting/event notice. Note that two weeks is usu
 ally required to arrange services.\n\n\nCredit Applicability:\n1 Credit for
  Basic Knowledge Topic 3\n
CONTACT:Alexander Peña Phone: 4809826043 This email address is being protected from spambots. You need JavaScript enabled to view it.
				document.getElementById('cloaka60d63173eb5ec531a9ae3a89f8e67ad').innerHTML = '';
				var prefix = '&#109;a' + 'i&#108;' + '&#116;o';
				var path = 'hr' + 'ef' + '=';
				var addya60d63173eb5ec531a9ae3a89f8e67ad = '&#97;l&#101;x&#97;nd&#101;rp&#101;n&#97;' + '&#64;';
				addya60d63173eb5ec531a9ae3a89f8e67ad = addya60d63173eb5ec531a9ae3a89f8e67ad + 'm&#97;c' + '&#46;' + 'c&#111;m';
				var addy_texta60d63173eb5ec531a9ae3a89f8e67ad = '&#97;l&#101;x&#97;nd&#101;rp&#101;n&#97;' + '&#64;' + 'm&#97;c' + '&#46;' + 'c&#111;m';document.getElementById('cloaka60d63173eb5ec531a9ae3a89f8e67ad').innerHTML += ''+addy_texta60d63173eb5ec531a9ae3a89f8e67ad+'';
		
DTSTAMP:20260420T070838Z
DTSTART;TZID=America/Phoenix:20181204T194500
SEQUENCE:0
TRANSP:OPAQUE
END:VEVENT
END:VCALENDAR