BEGIN:VCALENDAR
VERSION:2.0
PRODID:-//jEvents 2.0 for Joomla//EN
CALSCALE:GREGORIAN
METHOD:PUBLISH
BEGIN:VEVENT
UID:ba1fbb7c3cc2fbe67f40f4db5551d3c1
CATEGORIES:Other Fly-In
CREATED:20191012T170616
SUMMARY:**CANCELLED**  Falcon Field Monthly Fly-In Cruise-In Breakfast & Fly Market
LOCATION:Location - Falcon Warbirds Hangar at Falcon Field
DESCRIPTION;ENCODING=QUOTED-PRINTABLE:Notice: Construction is complete!\nThe Falcon Field EAA Warbirds Squadron f
 ly-in breakfast and car show is resuming on the third Saturday of the month
 . \n\nThe City of Mesa repainted the warbird hangar inside, and the contrac
 tor FINALLY finished. The breakfast date is Saturday, March 21.&nbsp;&nbsp;
 \n\n\n&nbsp;\n\n\n&nbsp;\n\n\n\n&nbsp;\nFalcoln Field Monthly Fly-In\nCruis
 e-In Breakfast &amp; Fly Market\nFly in, or bring your classic car, family,
  and friends for a hot and hearty breakfast of steaming panacakes, fluffy s
 crambled eggs, sizzling sausage, coffee, and orange juice served up by the 
 EAA Warbrds Squadron 50 and the Civil Air Patrol at Falcon Field. It's on e
 very third Saturday through May 16, 2020, at the Falcon Warbirds Hangar at 
 Falcon Field.\n\n\n&nbsp;\n&nbsp;\n
CONTACT:https://falconwarbirds.com/
DTSTAMP:20260420T171320Z
DTSTART;TZID=America/Phoenix;VALUE=DATE:20200516
DTEND;TZID=America/Phoenix;VALUE=DATE:20200517
SEQUENCE:0
TRANSP:OPAQUE
END:VEVENT
END:VCALENDAR