BEGIN:VCALENDAR
VERSION:2.0
PRODID:-//jEvents 2.0 for Joomla//EN
CALSCALE:GREGORIAN
METHOD:PUBLISH
BEGIN:VEVENT
UID:ccd558ce1b5e4ad18f8ae609a24a9db0
CATEGORIES:Backcountry
CREATED:20190902T131029
SUMMARY:Grapevine Monthly Fly-In Weekend
LOCATION:Grapevine (E75) near Roosevelt Lake
DESCRIPTION;ENCODING=QUOTED-PRINTABLE:\n&nbsp;\n&nbsp;\nThe camp host for this month is:\n~ Volunteer, it could b
 e you!&nbsp;~\n\n\nFriday night: Camp out under the stars\n\n\nSaturday: BB
 Q Lunch this month but airport is open to visit.\n\n\nSaturday Night: &nbsp
 ;Join us to camp under the stars and tell stories around the group campfire
 !\n\n\nSunday: Most folks depart by noon\nATTN: Please, no motor vehicles, 
 other than APA and USFS support vehicles, are permitted past the gate at th
 e highway. This is a closed area and only aircraft access is allowed. Help 
 us keep our commitment to the USFS!\n\n\n\n\n\nAs always,\nPort-A-John on s
 ite\nFree Airplane Parking\nFree Camping\nFree Black Labrador Petting Zoo\n
 Hiking\nPlenty of Sunshine\n\nClick for weather forecast&nbsp;&nbsp;Grapevi
 ne is open full time now, but the third Saturday of each month is a special
  time with lunch served on Saturday. Come an camp for the weekend!\n&nbsp;\
 nClick here for the GRAPEVINE SAFETY BULLETIN\n&nbsp;\nPlease email&nbsp;Th
 is email address is being protected from spambots. You need JavaScript enab
 led to view it.
				document.getElementById('cloak83c7e787e6875c3ab9803e599
 42e9798').innerHTML = '';
				var prefix = '&#109;a' + 'i&#108;' + '&#116;o
 ';
				var path = 'hr' + 'ef' + '=';
				var addy83c7e787e6875c3ab9803e5994
 2e9798 = 'AzCl&#111;&#117;dFly&#101;r' + '&#64;';
				addy83c7e787e6875c3ab
 9803e59942e9798 = addy83c7e787e6875c3ab9803e59942e9798 + '&#101;&#97;rthl&#
 105;nk' + '&#46;' + 'n&#101;t&amp;s&#117;bj&#101;ct=Gr&#97;p&#101;v&#105;n&
 #101;';
				var addy_text83c7e787e6875c3ab9803e59942e9798 = 'M&#105;k&#101;
  Andr&#101;s&#101;n';document.getElementById('cloak83c7e787e6875c3ab9803e59
 942e9798').innerHTML += ''+addy_text83c7e787e6875c3ab9803e59942e9798+'';
		
 &nbsp;for more info or if you are interested in volunteering.\n&nbsp;\n\n\n
 \n\n\n\n\n\n\n\n\n
CONTACT:Mike Andresen  This email address is being protected from spambots. You need JavaScript enabled to view it.
				document.getElementById('cloaka2f4a0b0adc7b72662a8933d70b060de').innerHTML = '';
				var prefix = '&#109;a' + 'i&#108;' + '&#116;o';
				var path = 'hr' + 'ef' + '=';
				var addya2f4a0b0adc7b72662a8933d70b060de = 'm&#105;k&#101;' + '&#64;';
				addya2f4a0b0adc7b72662a8933d70b060de = addya2f4a0b0adc7b72662a8933d70b060de + '&#97;zp&#105;l&#111;ts' + '&#46;' + '&#111;rg';
				var addy_texta2f4a0b0adc7b72662a8933d70b060de = 'm&#105;k&#101;' + '&#64;' + '&#97;zp&#105;l&#111;ts' + '&#46;' + '&#111;rg';document.getElementById('cloaka2f4a0b0adc7b72662a8933d70b060de').innerHTML += ''+addy_texta2f4a0b0adc7b72662a8933d70b060de+'';
		
DTSTAMP:20260420T053130Z
DTSTART;TZID=America/Phoenix;VALUE=DATE:20200215
DTEND;TZID=America/Phoenix;VALUE=DATE:20200216
SEQUENCE:0
TRANSP:OPAQUE
END:VEVENT
END:VCALENDAR