BEGIN:VCALENDAR
VERSION:2.0
PRODID:-//jEvents 2.0 for Joomla//EN
CALSCALE:GREGORIAN
METHOD:PUBLISH
BEGIN:VEVENT
UID:ccd558ce1b5e4ad18f8ae609a24a9db0
CATEGORIES:Backcountry
CREATED:20190902T131029
SUMMARY:Grapevine Monthly Fly-In Weekend
LOCATION:Grapevine (E75) near Roosevelt Lake
DESCRIPTION;ENCODING=QUOTED-PRINTABLE:\n\nUpdate 3/17/2020: In light of the current events, we will not have any 
 group potluck meals, lunch or dinner, this month at Grapevine.\n\n\n&nbsp;\
 n\n&nbsp;\n&nbsp;\nThe camp host for this month is:\n~ RAF Wyoming ~\n\n\nF
 riday night: Camp out under the stars\n\n\nSaturday: NO BBQ - LUNCH CANCELL
 ED&nbsp;but airport is open to visit.\n\n\nSaturday Night: NO DINNER - POTL
 UCK CANCELLED. \n\n\nJoin us to camp under the stars and tell stories aroun
 d the campfire.\n\n\nSunday: Most folks depart by noon\nATTN: Please, no mo
 tor vehicles, other than APA and USFS support vehicles, are permitted past 
 the gate at the highway. This is a closed area and only aircraft access is 
 allowed. Help us keep our commitment to the USFS!\n\n\n\n\n\nAs always,\nPo
 rt-A-John on site\nFree Airplane Parking\nFree Camping\nHiking\nPlenty of S
 unshine\n\nClick for weather forecast&nbsp;&nbsp;Grapevine is open full tim
 e now, but the third Saturday of each month is a special time. Come an camp
  for the weekend!\n&nbsp;\nClick here for the GRAPEVINE SAFETY BULLETIN\n&n
 bsp;\nPlease email&nbsp;This email address is being protected from spambots
 . You need JavaScript enabled to view it.
				document.getElementById('cloa
 kb224b0d01de50c8b993ed3766aec9021').innerHTML = '';
				var prefix = '&#109
 ;a' + 'i&#108;' + '&#116;o';
				var path = 'hr' + 'ef' + '=';
				var addy
 b224b0d01de50c8b993ed3766aec9021 = 'AzCl&#111;&#117;dFly&#101;r' + '&#64;';
 
				addyb224b0d01de50c8b993ed3766aec9021 = addyb224b0d01de50c8b993ed3766ae
 c9021 + '&#101;&#97;rthl&#105;nk' + '&#46;' + 'n&#101;t&amp;s&#117;bj&#101;
 ct=Gr&#97;p&#101;v&#105;n&#101;';
				var addy_textb224b0d01de50c8b993ed376
 6aec9021 = 'M&#105;k&#101; Andr&#101;s&#101;n';document.getElementById('clo
 akb224b0d01de50c8b993ed3766aec9021').innerHTML += ''+addy_textb224b0d01de50
 c8b993ed3766aec9021+'';
		&nbsp;for more info or if you are interested in v
 olunteering.\n&nbsp;\n\n\n\n\n\n\n\n\n\n\n\n
CONTACT:Mike Andresen  This email address is being protected from spambots. You need JavaScript enabled to view it.
				document.getElementById('cloakcef3050d598d069bcbab888688af616d').innerHTML = '';
				var prefix = '&#109;a' + 'i&#108;' + '&#116;o';
				var path = 'hr' + 'ef' + '=';
				var addycef3050d598d069bcbab888688af616d = 'm&#105;k&#101;' + '&#64;';
				addycef3050d598d069bcbab888688af616d = addycef3050d598d069bcbab888688af616d + '&#97;zp&#105;l&#111;ts' + '&#46;' + '&#111;rg';
				var addy_textcef3050d598d069bcbab888688af616d = 'm&#105;k&#101;' + '&#64;' + '&#97;zp&#105;l&#111;ts' + '&#46;' + '&#111;rg';document.getElementById('cloakcef3050d598d069bcbab888688af616d').innerHTML += ''+addy_textcef3050d598d069bcbab888688af616d+'';
		
DTSTAMP:20260420T071532Z
DTSTART;TZID=America/Phoenix;VALUE=DATE:20200321
DTEND;TZID=America/Phoenix;VALUE=DATE:20200322
SEQUENCE:0
TRANSP:OPAQUE
END:VEVENT
END:VCALENDAR