BEGIN:VCALENDAR
VERSION:2.0
PRODID:-//jEvents 2.0 for Joomla//EN
CALSCALE:GREGORIAN
METHOD:PUBLISH
BEGIN:VEVENT
UID:cfc884cbe24901cc22a993cba1fa85e4
CATEGORIES:Other Fly-In
CREATED:20200313T140320
SUMMARY:Wings & Wheels Spring Break Extravaganza at Millar Field
LOCATION:Millar Airport 53510 W. McDavid Road Maricopa, AZ
DESCRIPTION;ENCODING=QUOTED-PRINTABLE:\n\n\n&nbsp;\nSpring Break Extravaganza\n\nLucky # 13\nSaturday March 14, 2
 020\nMillar Airfield\nMaricopa, AZ\n\n - $20 Entry Fee for Vehicle Particip
 ants\n - 19 Car, Truck, and Bike Classes\n - Registration is at 8:00 am\n -
  Trophies presented at 1:30 PM\n - All Spectators are FREE\n - 50/50 Raffle
  Proceeds to Shriners International\n - Door Prizes\n - Hay Ride\n - Live M
 usic\n - Food and Drink\n - Fun For the Family!For more info contact Mike a
 t 480.766.6913 or email This email address is being protected from spambots
 . You need JavaScript enabled to view it.
				document.getElementById('cloa
 k6e443b6132db0cc4e2c67b284662473f').innerHTML = '';
				var prefix = '&#109
 ;a' + 'i&#108;' + '&#116;o';
				var path = 'hr' + 'ef' + '=';
				var addy
 6e443b6132db0cc4e2c67b284662473f = '&#97;fxdr&#97;gst&#101;r' + '&#64;';
		
 		addy6e443b6132db0cc4e2c67b284662473f = addy6e443b6132db0cc4e2c67b28466247
 3f + '&#97;&#111;l' + '&#46;' + 'c&#111;m';
				var addy_text6e443b6132db0c
 c4e2c67b284662473f = '&#97;fxdr&#97;gst&#101;r' + '&#64;' + '&#97;&#111;l' 
 + '&#46;' + 'c&#111;m';document.getElementById('cloak6e443b6132db0cc4e2c67b
 284662473f').innerHTML += ''+addy_text6e443b6132db0cc4e2c67b284662473f+'';

 		\nwww.facebook.com/maricopawingsnandwheels\n\n\n&nbsp;\nCar Show/Flyin\nM
 illar Airfield\n53511 W. McDavid Road&nbsp; Maricopa, AZ\n14 March 2020\nCo
 ntact: Colonel Chuck Millar 602-571-1059\n\n\nAnnual Spring Car Show/Flyin/
  and Miliatary Vehicle event. Vehicle traffic use west gate. Vehicles do no
 t cross runway. Aircraft traffic use runway 34 only. No landings on 16 due 
 to power lines. Aircraft stay east of Hidden Valley Road. Use 122.9 for rad
 io traffic. No high speed passes. Aircraft parking. Parallel to northwest e
 nd of runway. Keep the dust down. Use caution for high traffic volume. Atte
 nd at your own risk.\n\n\n&nbsp;\n\n\n\n\n\n&nbsp;\n\n\n&nbsp;\n\n\n&nbsp;\
 n
CONTACT:Chuck Millar 602-571-1059  Mike at 480.766.6913 or email This email address is being protected from spambots. You need JavaScript enabled to view it.
				document.getElementById('cloake35e12c75ffda3992e6edbeb38932bd7').innerHTML = '';
				var prefix = '&#109;a' + 'i&#108;' + '&#116;o';
				var path = 'hr' + 'ef' + '=';
				var addye35e12c75ffda3992e6edbeb38932bd7 = '&#97;fxdr&#97;gst&#101;r' + '&#64;';
				addye35e12c75ffda3992e6edbeb38932bd7 = addye35e12c75ffda3992e6edbeb38932bd7 + '&#97;&#111;l' + '&#46;' + 'c&#111;m';
				var addy_texte35e12c75ffda3992e6edbeb38932bd7 = '&#97;fxdr&#97;gst&#101;r' + '&#64;' + '&#97;&#111;l' + '&#46;' + 'c&#111;m';document.getElementById('cloake35e12c75ffda3992e6edbeb38932bd7').innerHTML += ''+addy_texte35e12c75ffda3992e6edbeb38932bd7+'';
		 www.facebook.com/maricopawingsnandwheels
DTSTAMP:20260420T171321Z
DTSTART;TZID=America/Phoenix:20200314T080000
DTEND;TZID=America/Phoenix:20200314T140000
SEQUENCE:0
TRANSP:OPAQUE
END:VEVENT
END:VCALENDAR