BEGIN:VCALENDAR
VERSION:2.0
PRODID:-//jEvents 2.0 for Joomla//EN
CALSCALE:GREGORIAN
METHOD:PUBLISH
BEGIN:VEVENT
UID:b9bcda7c9d0689b839e356af7924caa3
CATEGORIES:Out of State
CREATED:20200513T131206
SUMMARY:**CANCELLED**  Gallup Fly-In
LOCATION:Gallup, NM
DESCRIPTION;ENCODING=QUOTED-PRINTABLE:\n\n\n&nbsp;\n\n\nGALLUP FLY-IN\n\n\nLocation: Gallup, NM\n\n\nDale: June 1
 9-21, 2020\n\n\nHost: Bill Gust\n\n\nGallup is a small city in New Mexico, 
 on historic Route 66. To the east, red sandstone cliffs dominate Red Rock P
 ark, home to Anasazi archaeological sites from around 300 A.D. Here, Red Ro
 ck Museum focuses on Anasazi heritage, with displays of pottery and silver.
  In the city, Gallup Cultural Center has Native American crafts and cultura
 l exhibits. The Rex Museum covers local history, including railroad and min
 ing.\n\n\nFor registration or additional information, please visit: https:/
 /tinyurl.com/tuyxue6\n
CONTACT:For registration or additional information, please visit: https://tinyurl.com/tuyxue6
DTSTAMP:20260420T171710Z
DTSTART;TZID=America/Phoenix;VALUE=DATE:20200619
DTEND;TZID=America/Phoenix;VALUE=DATE:20200622
SEQUENCE:0
TRANSP:OPAQUE
END:VEVENT
END:VCALENDAR