BEGIN:VCALENDAR
VERSION:2.0
PRODID:-//jEvents 2.0 for Joomla//EN
CALSCALE:GREGORIAN
METHOD:PUBLISH
BEGIN:VEVENT
UID:a3c26151d19caddaab5325901b03fc8b
CATEGORIES:Out of State
CREATED:20200513T141256
SUMMARY:CANCELLED Trinity Fly-In
LOCATION:Truth or Consequences, NM & Socorro, NM
DESCRIPTION;ENCODING=QUOTED-PRINTABLE:CANCELED\n&nbsp;\n\n\n\n&nbsp;\n\n\nTRINITY FLY-IN\n\n\nLocation: Truth or 
 Consequences, NM &amp; Socorro, NM\n\n\nDate: October 2-4, 2020\n\n\nHost: 
 Bill Marvel\n\n\nJoin our trip both back in time and forward into the futur
 e the weekend of October 2-4, 2020. We will be visiting two venues -- Richa
 rd Branson's futuristic Spaceport America launch facility from with space t
 ourists will venture into earth orbit and also Trinity site, where the worl
 d's first atom bomb was detonated on July 16, 1945.\n\n\nFor registration o
 r additional information, please visit: https://tinyurl.com/ttwkbxl\n
CONTACT:For registration or additional information, please visit: https://tinyurl.com/ttwkbxl
DTSTAMP:20260420T171736Z
DTSTART;TZID=America/Phoenix;VALUE=DATE:20201002
DTEND;TZID=America/Phoenix;VALUE=DATE:20201005
SEQUENCE:0
TRANSP:OPAQUE
END:VEVENT
END:VCALENDAR