BEGIN:VCALENDAR
VERSION:2.0
PRODID:-//jEvents 2.0 for Joomla//EN
CALSCALE:GREGORIAN
METHOD:PUBLISH
BEGIN:VEVENT
UID:b344a46cbad4d4eb86b5f43efc191346
CATEGORIES:Other Fly-In
CREATED:20200609T170338
SUMMARY:Flyin' Food Drive at Holbrook
LOCATION: Holbrook Municipal Airport
DESCRIPTION;ENCODING=QUOTED-PRINTABLE:\n\n\n&nbsp;\nFlyin' Food Drive\nBenefitting Wings of Faith\nHolbrook Munic
 ipal Airport\nSaturday, June 20th - 7:00 A.M. - 11:00 A.M.\n\n\n&nbsp;\nFri
 ends,Many of you may recall that I participate in an annual Christmas event
 &nbsp;for the Navajo Nation&nbsp;where we fly used clothing up Gallup, NM.&
 nbsp;&nbsp;This isn't that&nbsp;... although the Navajo Nation will be the 
 recipient!&nbsp; As you're probably aware, the Coronavirus pandemic has bee
 n particularly gruesome for Navajos living in AZ.&nbsp; Besides having an o
 verwhelmed medical support system and sometimes lacking basics such as elec
 tricity and running water,&nbsp;they're sorely short of food supplies!&nbsp
 ; To address the food shortage,&nbsp;Sunland Asphalt&nbsp;and&nbsp;Wings of
  Faith&nbsp;are co-sponsoring a&nbsp;food drive in Holbrook, AZ on June&nbs
 p;20th.&nbsp; It will be held at the airport, and I volunteered to organize
  a group of pilots to collect donations and deliver them that morning -&nbs
 p;ref. attached flyer.&nbsp; Currently, we have 12 pilots that are soliciti
 ng donations and plan to deliver them.&nbsp; I am one of the 12.So, once ag
 ain, I'm asking for your help on a humanitarian mission.&nbsp; Like most of
  the pilots, I will be flying solo that morning to maximize the amount of f
 ood I can carry; I'm asking for your assistance to fill my plane.&nbsp; (Th
 ere's no such thing as "too much"!&nbsp; We have 1-2 standby aircraft who c
 an take any excess items.)&nbsp;&nbsp;How can you assist?\n - Purchase and 
 donate food supplies (e.g., bulk pinto beans, flour, rice, cooking oil, can
 ned meats, dried fruits, etc. per the flyer's suggestions)\n - I will be am
 assing food supplies during the week of 6/14 and am willing to coordinate p
 ickups throughout the Phoenix Valley.&nbsp; If you are willing to drop off 
 donations, my friend (and fellow pilot) Alan Fitzgerald has graciously dona
 ted the use of his photography gallery&nbsp;Art Intersection&nbsp;in downto
 wn Gilbert.&nbsp; The gallery is located at 207 N. Gilbert Rd., #201, Gilbe
 rt, AZ&nbsp; 85234.&nbsp; Alan and I will eventually transfer all supplies 
 to our hangars at the Chandler Municipal Airport.\n - If you plan to purcha
 se things yourself, consider shopping at&nbsp;American Discount Foods.&nbsp
 ; They are working with Doug Diehl, another of our airlift pilots, putting 
 together some of the bulk&nbsp;items and providing deep discounts on pricin
 g.&nbsp; In addition, any other items in the store will be discounted 15% f
 or this humanitarian mission.&nbsp;&nbsp;Please ask for&nbsp;Dave&nbsp;or&n
 bsp;Josh, the store managers, and they will assist you.&nbsp; Be sure and t
 ake the "Navajo Donation" flyer with you to identify yourself as part of ou
 r food drive.&nbsp; Here's some store info:&nbsp;&nbsp;American Discount Fo
 ods, 1360 W Southern Avenue (North of Fiesta Mall), Mesa, AZ 85202, 480-649
 -4495,&nbsp;https://www.americandiscountfoodsaz.com/&nbsp;\n - Make a monet
 ary donation.\n - You can send me a check, and I will purchase supplies dur
 ing the week of 6/14.&nbsp; (Alan and I plan to shop during the week of 6/1
 4.)&nbsp; My contact info is:&nbsp; Craig Albright, 733 E. Redfield Rd., Gi
 lbert, AZ 85234.&nbsp;&nbsp;If you want to do things electronically, contac
 t me directly, and perhaps we can use Venmo or PayPal.&nbsp; I have account
 s with both of them.&nbsp;&nbsp;\n - Or, you can donate directly to the cau
 se through the&nbsp;Winds of Faith&nbsp;website:&nbsp;www.flywithwings.org&
 nbsp;.Regardless of how you participate,&nbsp;all donations are tax-deducti
 ble.&nbsp;&nbsp;Wings of Faith&nbsp;is a 501(c)3, charitable organization.&
 nbsp; And, all pilots will receive a form to authenticate their participati
 on when they deliver the supplies on Saturday morning.&nbsp; In turn, I wil
 l email copies of that form to you.\nQuestions?&nbsp; Please contact me via
  phone, text, or email.Thanks for your consideration.Sincerely,&nbsp;Craig\
 n&nbsp;Craig Albright480-776-9358 (cell)This email address is being protect
 ed from spambots. You need JavaScript enabled to view it.
				document.getE
 lementById('cloakf59fac84b14ba3c326a28979618167d9').innerHTML = '';
				var
  prefix = '&#109;a' + 'i&#108;' + '&#116;o';
				var path = 'hr' + 'ef' + '
 =';
				var addyf59fac84b14ba3c326a28979618167d9 = 'fc&#97;lbr&#105;ghtAZ' 
 + '&#64;';
				addyf59fac84b14ba3c326a28979618167d9 = addyf59fac84b14ba3c32
 6a28979618167d9 + 'gm&#97;&#105;l' + '&#46;' + 'c&#111;m';
				var addy_tex
 tf59fac84b14ba3c326a28979618167d9 = 'fc&#97;lbr&#105;ghtAZ' + '&#64;' + 'gm
 &#97;&#105;l' + '&#46;' + 'c&#111;m';document.getElementById('cloakf59fac84
 b14ba3c326a28979618167d9').innerHTML += ''+addy_textf59fac84b14ba3c326a2897
 9618167d9+'';
		\n\n&nbsp;\n
CONTACT:Craig Albright 480-776-9358 (cell) This email address is being protected from spambots. You need JavaScript enabled to view it.
				document.getElementById('cloak44e899b1eba7a30df72adab4993ed511').innerHTML = '';
				var prefix = '&#109;a' + 'i&#108;' + '&#116;o';
				var path = 'hr' + 'ef' + '=';
				var addy44e899b1eba7a30df72adab4993ed511 = 'fc&#97;lbr&#105;ghtAZ' + '&#64;';
				addy44e899b1eba7a30df72adab4993ed511 = addy44e899b1eba7a30df72adab4993ed511 + 'gm&#97;&#105;l' + '&#46;' + 'c&#111;m';
				var addy_text44e899b1eba7a30df72adab4993ed511 = 'fc&#97;lbr&#105;ghtAZ' + '&#64;' + 'gm&#97;&#105;l' + '&#46;' + 'c&#111;m';document.getElementById('cloak44e899b1eba7a30df72adab4993ed511').innerHTML += ''+addy_text44e899b1eba7a30df72adab4993ed511+'';
		
DTSTAMP:20260420T224524Z
DTSTART;TZID=America/Phoenix:20200620T070000
DTEND;TZID=America/Phoenix:20200620T230000
SEQUENCE:0
TRANSP:OPAQUE
END:VEVENT
END:VCALENDAR