BEGIN:VCALENDAR
VERSION:2.0
PRODID:-//jEvents 2.0 for Joomla//EN
CALSCALE:GREGORIAN
METHOD:PUBLISH
BEGIN:VEVENT
UID:aa97cff6f3a76a08afd3d000c0ed8ed9
CATEGORIES:Backcountry
CREATED:20220818T075713
SUMMARY:Grapevine Monthly Camping Weekend
LOCATION:Grapevine (AZ88) near Roosevelt Lake
DESCRIPTION;ENCODING=QUOTED-PRINTABLE:\n&nbsp;\n&nbsp;\nThe camp host for this month is:\n~ Mark &amp; Stef Spenc
 er ~\n\n\nNOTE: Grapevine is the weekend of the 2nd Saturday \ndue to the&n
 bsp; BUCKEYE AIR FAIR / COPPERSTATE \non February 17-19, 2023.\n\n\n&nbsp;\
 nFriday night: Camp out under the stars!\n\n\nSaturday Night: &nbsp;Join us
  to camp under the stars and tell stories around the group campfire!&nbsp;C
 amp host will prepare the main course. Campers, please bring&nbsp;a side di
 sh or dessert to share.&nbsp;\n\n\nSunday: Most folks depart by noon\nATTN:
  Please, no motor vehicles, other than APA and USFS support vehicles, are p
 ermitted past the gate at the highway. This is a closed area and only aircr
 aft access is allowed. Help us keep our commitment to the USFS!\n\n\nThe Ar
 izona Pilots Association has done an incredible job saving and rehabilitati
 ng Grapevine Airstrip (88AZ).&nbsp; Located on the south shore of Roosevelt
  Lake, the approach to runway 17 is beautiful.&nbsp; It gives the boaters o
 n the lake a close-up view of many different aircraft as they land on the f
 antastic asphalt runway.&nbsp; At 3,800 feet long, this allows most aircraf
 t to check it out.&nbsp;\n\n\nI am here to invite those interested to enjoy
  the backcountry flying, camping, and great camaraderie.&nbsp; On the third
  Saturday of the month from October to April, Grapevine has a hosted weeken
 d fly in and camping.&nbsp; Although not everyone is able to come in on Fri
 day, there are a few of us that wouldn’t miss it.&nbsp; I am glad to tell t
 he Friday crowd that the restaurant in Roosevelt is open again and under ne
 w management.\n\n\nOn Saturday, there are plenty of members and non-members
  that fly in and love to talk planes, airstrips, and other exciting adventu
 res!&nbsp; I want to encourage everyone to come out and join us.&nbsp; Watc
 h out for Mike Andresen, there is always something to clean up or work on, 
 and the Grapevine airstrip is maintained only though donations and voluntee
 r help.\n\n\nAlso, why not stay overnight?&nbsp; The weekend host(s) will p
 rovide the dinner’s main meal and the sides are brought by the other camper
 s.&nbsp; This results in a fantastic, scrumptious, heavenly, yummy, lusciou
 s, divine, tasty, mouth-watering meal with beautiful scenery and wonderful 
 sunsets.&nbsp; In September, Jupiter was rising over the eastern mountain r
 ange, competing with Venus in the western sky.\n\n\nThere will be some addi
 tions to the weekend.&nbsp; Coming this year, we will have corn hole compet
 itions and other fun activities.&nbsp; Also, how good are you at making a p
 aper airplane?&nbsp; Will it fly?&nbsp; How well will it fly?&nbsp;&nbsp; W
 on’t you come and join us?&nbsp; Want to be a host?&nbsp; I’ve had many oth
 er suggestions, but I would love to hear from you, too.\n\n\nThis email add
 ress is being protected from spambots. You need JavaScript enabled to view 
 it.
				document.getElementById('cloak91e9cde7533e6640150e192f4a008080').in
 nerHTML = '';
				var prefix = '&#109;a' + 'i&#108;' + '&#116;o';
				var p
 ath = 'hr' + 'ef' + '=';
				var addy91e9cde7533e6640150e192f4a008080 = 'l&
 #101;&#97;nn&#101;' + '&#64;';
				addy91e9cde7533e6640150e192f4a008080 = a
 ddy91e9cde7533e6640150e192f4a008080 + '&#97;zp&#105;l&#111;ts' + '&#46;' + 
 '&#111;rg?s&#117;bj&#101;ct=Gr&#97;p&#101;v&#105;n&#101;';
				var addy_tex
 t91e9cde7533e6640150e192f4a008080 = 'L&#101;&#97;nn&#101;';document.getElem
 entById('cloak91e9cde7533e6640150e192f4a008080').innerHTML += ''+addy_text9
 1e9cde7533e6640150e192f4a008080+'';
		\n\n\n&nbsp;\n\n\n\n\nAs always,\nPor
 t-A-John on site\nFree Airplane Parking\nFree Camping\nFree Black Labrador 
 Petting Zoo\nHiking\nPlenty of Sunshine\n&nbsp;&nbsp;&nbsp;Grapevine is ope
 n full time now, but the third Saturday of each month is a special time for
  a group camp dinner on Saturday evening. Come and camp for the weekend!\n&
 nbsp;\nClick here for the GRAPEVINE SAFETY BULLETIN\n&nbsp;\nPlease email&n
 bsp;This email address is being protected from spambots. You need JavaScrip
 t enabled to view it.
				document.getElementById('cloakb7418dd64adcb7725cf
 4b0b59c8e4f04').innerHTML = '';
				var prefix = '&#109;a' + 'i&#108;' + '&
 #116;o';
				var path = 'hr' + 'ef' + '=';
				var addyb7418dd64adcb7725cf4
 b0b59c8e4f04 = 'AzCl&#111;&#117;dFly&#101;r' + '&#64;';
				addyb7418dd64ad
 cb7725cf4b0b59c8e4f04 = addyb7418dd64adcb7725cf4b0b59c8e4f04 + '&#101;&#97;
 rthl&#105;nk' + '&#46;' + 'n&#101;t&amp;s&#117;bj&#101;ct=Gr&#97;p&#101;v&#
 105;n&#101;';
				var addy_textb7418dd64adcb7725cf4b0b59c8e4f04 = 'M&#105;k
 &#101; Andr&#101;s&#101;n';document.getElementById('cloakb7418dd64adcb7725c
 f4b0b59c8e4f04').innerHTML += ''+addy_textb7418dd64adcb7725cf4b0b59c8e4f04+
 '';
		&nbsp;for more info or if you are interested in volunteering.\n&nbsp;
 \n\n\n\n\n\n\n\n\n\n\n\n&nbsp;\n
CONTACT:Leanne - This email address is being protected from spambots. You need JavaScript enabled to view it.
				document.getElementById('cloak125118ebe2f6628199910694dcc84583').innerHTML = '';
				var prefix = '&#109;a' + 'i&#108;' + '&#116;o';
				var path = 'hr' + 'ef' + '=';
				var addy125118ebe2f6628199910694dcc84583 = 'l&#101;&#97;nn&#101;' + '&#64;';
				addy125118ebe2f6628199910694dcc84583 = addy125118ebe2f6628199910694dcc84583 + '&#97;zp&#105;l&#111;ts' + '&#46;' + '&#111;rg';
				var addy_text125118ebe2f6628199910694dcc84583 = 'l&#101;&#97;nn&#101;' + '&#64;' + '&#97;zp&#105;l&#111;ts' + '&#46;' + '&#111;rg';document.getElementById('cloak125118ebe2f6628199910694dcc84583').innerHTML += ''+addy_text125118ebe2f6628199910694dcc84583+'';
		
DTSTAMP:20260421T100834Z
DTSTART;TZID=America/Phoenix;VALUE=DATE:20230217
DTEND;TZID=America/Phoenix;VALUE=DATE:20230213
SEQUENCE:0
TRANSP:OPAQUE
END:VEVENT
END:VCALENDAR