BEGIN:VCALENDAR
VERSION:2.0
PRODID:-//jEvents 2.0 for Joomla//EN
CALSCALE:GREGORIAN
METHOD:PUBLISH
BEGIN:VEVENT
UID:a27cd545fb9d352e59ecb5b0fd8abd23
CATEGORIES:Other Fly-In
CREATED:20220928T182744
SUMMARY:Buckeye Air Fair AOPA Fly-In
LOCATION:Buckeye Municipal Airport 3000 South Palo Verde Road Buckeye, AZ 85326
DESCRIPTION;ENCODING=QUOTED-PRINTABLE:Join us for a weekend of fun for the entire family featuring an Air Show, v
 intage and military aircraft, action-packed demonstrations, AZ SciTech exhi
 bitions and so much more.February 17-19, 2023Buckeye Municipal Airport\n300
 0 South Palo Verde Road\nBuckeye, AZ 85326\nFor any questions, please conta
 ct Tonia Edmundson at&nbsp;This email address is being protected from spamb
 ots. You need JavaScript enabled to view it.
				document.getElementById('c
 loak1db7d56280797b9af09bebd90a9f8335').innerHTML = '';
				var prefix = '&#
 109;a' + 'i&#108;' + '&#116;o';
				var path = 'hr' + 'ef' + '=';
				var a
 ddy1db7d56280797b9af09bebd90a9f8335 = 't&#101;dm&#117;nds&#111;n' + '&#64;'
 ;
				addy1db7d56280797b9af09bebd90a9f8335 = addy1db7d56280797b9af09bebd90a
 9f8335 + 'b&#117;ck&#101;y&#101;&#97;z' + '&#46;' + 'g&#111;v';
				var add
 y_text1db7d56280797b9af09bebd90a9f8335 = 't&#101;dm&#117;nds&#111;n' + '&#6
 4;' + 'b&#117;ck&#101;y&#101;&#97;z' + '&#46;' + 'g&#111;v';document.getEle
 mentById('cloak1db7d56280797b9af09bebd90a9f8335').innerHTML += ''+addy_text
 1db7d56280797b9af09bebd90a9f8335+'';
		&nbsp;| 623-349-6323.\n\n\n&nbsp;\n&
 nbsp;Go to&nbsp;https://www.buckeyeaz.gov/&nbsp;\nfor the details!!!\n\n&nb
 sp;\n
CONTACT:Tonia Edmundson at This email address is being protected from spambots. You need JavaScript enabled to view it.
				document.getElementById('cloak2a3b90958e35e819d298058ea98e2b77').innerHTML = '';
				var prefix = '&#109;a' + 'i&#108;' + '&#116;o';
				var path = 'hr' + 'ef' + '=';
				var addy2a3b90958e35e819d298058ea98e2b77 = 't&#101;dm&#117;nds&#111;n' + '&#64;';
				addy2a3b90958e35e819d298058ea98e2b77 = addy2a3b90958e35e819d298058ea98e2b77 + 'b&#117;ck&#101;y&#101;&#97;z' + '&#46;' + 'g&#111;v';
				var addy_text2a3b90958e35e819d298058ea98e2b77 = 't&#101;dm&#117;nds&#111;n' + '&#64;' + 'b&#117;ck&#101;y&#101;&#97;z' + '&#46;' + 'g&#111;v';document.getElementById('cloak2a3b90958e35e819d298058ea98e2b77').innerHTML += ''+addy_text2a3b90958e35e819d298058ea98e2b77+'';
		 | 623-349-6323
DTSTAMP:20260421T100834Z
DTSTART;TZID=America/Phoenix;VALUE=DATE:20230217
DTEND;TZID=America/Phoenix;VALUE=DATE:20230220
SEQUENCE:0
TRANSP:OPAQUE
END:VEVENT
END:VCALENDAR