BEGIN:VCALENDAR
VERSION:2.0
PRODID:-//jEvents 2.0 for Joomla//EN
CALSCALE:GREGORIAN
METHOD:PUBLISH
BEGIN:VEVENT
UID:32bbec7a46d2324e3c8c3605c3981ba5
CATEGORIES:Other Fly-In
CREATED:20221010T162800
SUMMARY:Falcon Field Pancake Breakfast
LOCATION:Falcon Field WWII Hangar  4626 Fighter Aces Drive  Mesa AZ 85215
DESCRIPTION;ENCODING=QUOTED-PRINTABLE:\n\n\n\n\n&nbsp;\nFalcon Field Pancake Breakfast\n2022-2023\n3rd Saturday o
 f the Month\n\n\n&nbsp;\n\n\nBring your family and friends to see Vintage M
 ilitary Warbirds in a Historic WWII Hangar and enjoy a hot and hearty break
 fast served up by Falcon Warbirds Pilots and the Aviation Explorer Post 352
 !\n\n\n&nbsp;\n7:30 am - 11 am\nFalcon Field WWII Hangar\n4626 Fighter Aces
  Drive\nMesa AZ 85215\n\n\n&nbsp;\nDates20222023October 15\nNovember 19\nDe
 cember 17January 21\nFebruary 18\nMarch 18\nApril 15\nMay 20\n\n&nbsp;\nMen
 u: Pancakes, Scrambled Eggs, Sausage, Orange Juice, Coffee\n&nbsp;$10 sugge
 sted donation\n602-705-4413\n
CONTACT:602-705-4413
X-EXTRAINFO:3rd Saturday of the Month
DTSTAMP:20260421T100834Z
DTSTART;TZID=America/Phoenix:20230218T073000
DTEND;TZID=America/Phoenix:20230218T110000
SEQUENCE:0
TRANSP:OPAQUE
END:VEVENT
END:VCALENDAR