BEGIN:VCALENDAR
VERSION:2.0
PRODID:-//jEvents 2.0 for Joomla//EN
CALSCALE:GREGORIAN
METHOD:PUBLISH
BEGIN:VEVENT
UID:969d781ffadaf2b5ad36e8409efc9944
CATEGORIES:Safety
CREATED:20221222T184324
SUMMARY:The Portable Reduced Oxygen Training Enclosure (PROTE) at Goodyear
LOCATION:LUX Air Jet Center 1658 S Litchfield Rd 110 Goodyear, AZ 85338
DESCRIPTION;ENCODING=QUOTED-PRINTABLE:The Portable Reduced Oxygen Training Enclosure (PROTE) January 11- 14 2023S
 imulated Hypoxia Training Provided by the Civil Aerospace Medical Institute
  (CAMI)Date and Time: Wednesday, January 11, 2023, starting at 08:00 Arizon
 a&nbsp;Speaker(s): FAA CAMI PhysiologistsBrief Description:Experience hypox
 ia symptoms while being safely monitored in the PROTE Chamber.• No-cost, va
 luable hypoxia training opportunity for qualified&nbsp;pilots!&nbsp;*• Dete
 rmine what your hypoxia symptoms are in order to recognize them.• Important
  for pilots flying in the high-altitude environment.* Chamber experience RE
 QUIRES:• Current FAA First Class, Second Class, Third Class Medical, or Bas
 ic Med.• Must be at least 18 yrs old.These will be checked at check-in. We 
 need you to show up 1 hour before your time slot for the chamber. You can p
 lan on a total time commitment of less than 2 hours.Wednesday, January 11th
 , 2023&nbsp;– Saturday, January 14th, 2023.45 minutes slots are available s
 tarting from 8:00&nbsp;AM -&nbsp;3:30&nbsp;PM Wednesday through Friday and 
 8:00 AM&nbsp;to 12:30 PM Saturday in groups of 5 airmen.Click on the link b
 elow to go to the online sign up sheet.https://www.signupgenius.com/go/4090
 F49ADA92EA0FB6-prote&nbsp;\n&nbsp;YOU MUST REGISTER ON BOTH FAASafety.gov A
 ND SIGN UP GENIUS (the above link)\nSelect Number: WP07118143Location of Se
 minar:LUX Air Jet Center\n1658 S Litchfield Rd\n110\nGoodyear, AZ&nbsp;8533
 8Directions to Venue:\n\nFrom Phoenix travel west on I-10 to Litchfield Rd.
 , exit 128. Turn left onto Litchfield Rd. and travel approximately two mile
 s to Goodyear Airport. Turn right at the airport entrance (W. Goodyear Park
 way) and follow the road till just before the air field entrance gate. LUX 
 Air Jet Center is on the left.\nView MapFly-in Seminar?: Yes&nbsp;&nbsp;GYR
 Seating: 180 seats at the facilityRegistration Information:&nbsp;Seminar is
  currently filled. No additional online registrations are accepted.Sponsori
 ng Division: FAASTeamContact Information:Ernest Copeland\nPhone: (480) 284-
 7438\nThis email address is being protected from spambots. You need JavaScr
 ipt enabled to view it.
				document.getElementById('cloak30c4f5936bbf03ed3
 e356ffdcc8b69d4').innerHTML = '';
				var prefix = '&#109;a' + 'i&#108;' + 
 '&#116;o';
				var path = 'hr' + 'ef' + '=';
				var addy30c4f5936bbf03ed3e
 356ffdcc8b69d4 = '&#101;rn&#101;st.r.c&#111;p&#101;l&#97;nd' + '&#64;';
			
 	addy30c4f5936bbf03ed3e356ffdcc8b69d4 = addy30c4f5936bbf03ed3e356ffdcc8b69d
 4 + 'f&#97;&#97;' + '&#46;' + 'g&#111;v';
				var addy_text30c4f5936bbf03ed
 3e356ffdcc8b69d4 = '&#101;rn&#101;st.r.c&#111;p&#101;l&#97;nd' + '&#64;' + 
 'f&#97;&#97;' + '&#46;' + 'g&#111;v';document.getElementById('cloak30c4f593
 6bbf03ed3e356ffdcc8b69d4').innerHTML += ''+addy_text30c4f5936bbf03ed3e356ff
 dcc8b69d4+'';
		Additional Event Information &amp; Acknowledgement of Indus
 try Sponsor(s):The FAASTeam would like to thank LUX Air Jet Centers for hos
 ting&nbsp;this event and CAMI for providing the PROTE and instruction.\nThe
  flight is scheduled in 45 minute increments with five pilots per flight. Y
 ou must show up at least 60 minutes prior to your scheduled flight.\nIf pla
 ns change and you cannot make it, please cancel your reservation for the be
 nefit of others who would like to attend. Any late persons or no shows will
  be replaced with standby personnel.\nThose unable to get a time slot, may 
 come to the event and wait as a standby, but there is no guarantee that you
  will get a flight.\nPrior to attending a safety seminar please review and 
 abide by current CDC, State and Local health guidelines.\nEqual Access Info
 rmation:The FAA Safety Team (FAASTeam) is committed to providing equal acce
 ss to this meeting/event for all participants. If you need alternative form
 ats or services because of a disability, please communicate your request as
  soon as possible with the person in the “Contact Information” area of the 
 meeting/event notice. Note that two weeks is usually required to arrange se
 rvices.Credit Applicability:1 Credit for Basic Knowledge Topic 3
CONTACT:Ernest Copeland Phone: (480) 284-7438 This email address is being protected from spambots. You need JavaScript enabled to view it.
				document.getElementById('cloak49db84d7454f540a80967af00d81f036').innerHTML = '';
				var prefix = '&#109;a' + 'i&#108;' + '&#116;o';
				var path = 'hr' + 'ef' + '=';
				var addy49db84d7454f540a80967af00d81f036 = '&#101;rn&#101;st.r.c&#111;p&#101;l&#97;nd' + '&#64;';
				addy49db84d7454f540a80967af00d81f036 = addy49db84d7454f540a80967af00d81f036 + 'f&#97;&#97;' + '&#46;' + 'g&#111;v';
				var addy_text49db84d7454f540a80967af00d81f036 = '&#101;rn&#101;st.r.c&#111;p&#101;l&#97;nd' + '&#64;' + 'f&#97;&#97;' + '&#46;' + 'g&#111;v';document.getElementById('cloak49db84d7454f540a80967af00d81f036').innerHTML += ''+addy_text49db84d7454f540a80967af00d81f036+'';
		
DTSTAMP:20260421T164852Z
DTSTART;TZID=America/Phoenix:20230111T080000
DTEND;TZID=America/Phoenix:20230114T153000
SEQUENCE:0
TRANSP:OPAQUE
END:VEVENT
END:VCALENDAR