BEGIN:VCALENDAR
VERSION:2.0
PRODID:-//jEvents 2.0 for Joomla//EN
CALSCALE:GREGORIAN
METHOD:PUBLISH
BEGIN:VEVENT
UID:32f539a244a6939fe64bc3f5baa6c93b
CATEGORIES:Other Fly-In
CREATED:20221222T190630
SUMMARY:65th Annual Cactus Fly-in & Hot Rod Show at Casa Grande
LOCATION:Casa Grande Municipal Airport (KCGZ)
DESCRIPTION;ENCODING=QUOTED-PRINTABLE:\n\n\n\n\n&nbsp;\n\n\nThe Classic Airplane Association of Arizona&nbsp;is p
 leased to announce that the 65th&nbsp;Cactus Fly-In is planned for March 3,
 4 2023!\n\n\n&nbsp;\n\n\nIn collaboration with the City of Casa Grande the 
 CAAA invites aircraft owners and pilots to arrive at KCGZ on Friday March 3
 rd, 2023.\n\n\n&nbsp;\n\n\nThe airfield will be open to the drive-in public
  on March 4th, 2023.\n\n\n&nbsp;\n\n\nPlanning for the fly-in continues but
 , as in the recent past, traditional components include:\n\n - Friday eveni
 ng March 3rd&nbsp;welcome venue hospitality at the&nbsp;TCB&nbsp;hangar sou
 th of the airport terminal\n - “Pilot’s Choice” Award for classic and antiq
 ue aircraft\n - Low-pass, single-plane fly-by’s accompanied by an announcer
  describing the aircraft and owner on Saturday between 10:00am and 2:00pm\n
  - Saturday 3:00pm picnic in the&nbsp;TCB&nbsp;hangar for CAAA members, vol
 unteers and “registered” fly-in/drive-in participants\n - Sunday March 5th&
 nbsp;coffee and pastry “send-off” at the airport terminal for departing par
 ticipants\n\n&nbsp;\n\n\nOf course some rooms will be blocked at the Casa G
 rande Ramada Inn (formerly the downtown Holiday Inn) for Friday and Saturda
 y evening.\n\n\n&nbsp;\n\n\nRV parking will be available immediately “outsi
 de” the fence. A dedicated golf-cart driver will help to shuttle RVer’s fro
 m that overnight area to the flight line.\n\n\n&nbsp;\n\n\nThere will be no
  charge for fly-in visitors nor will there be any charge for preregistered 
 “display” autos.&nbsp;However, the CAAA encourages all attendees to conside
 r joining the organization for a mere $20 annually.&nbsp;These membership r
 evenues help to offset the considerable costs associated with staging the e
 vent.\n\n\nPlease indicate on registration forms your desire for a room at 
 the Ramada Inn\n\n\nLook for more email information in the weeks-ahead as t
 he fly-in plans continue to mature.&nbsp;\n\n\n&nbsp;\n\n\nSee you 1st&nbsp
 ;Weekend in March 2023!\n
CONTACT:www.cactusflyin.org
DTSTAMP:20260421T100833Z
DTSTART;TZID=America/Phoenix;VALUE=DATE:20230304
DTEND;TZID=America/Phoenix;VALUE=DATE:20230305
SEQUENCE:0
TRANSP:OPAQUE
END:VEVENT
END:VCALENDAR