BEGIN:VCALENDAR
VERSION:2.0
PRODID:-//jEvents 2.0 for Joomla//EN
CALSCALE:GREGORIAN
METHOD:PUBLISH
BEGIN:VEVENT
UID:7efa7bcdae011c1f8fc602cf5bf289b2
CATEGORIES:Safety
CREATED:20230109T211406
SUMMARY:WINGS Safety Program - Aging Pilot and 2022 Fatal Accident Review at Yuma
LOCATION:Yuma Int'l Airport 2191 E. 32nd St. Board Roon, 2nd floor Yuma, AZ 85365
DESCRIPTION;ENCODING=QUOTED-PRINTABLE:WINGS Safety Program - Aging Pilot and 2022 Fatal Accident ReviewIssues Dir
 ectly Affecting Aging PilotsDate and Time: Saturday, January 28, 2023, star
 ting at 09:00 Arizona&nbsp;Speaker(s): Fred Gibbs APABrief Description:A 3-
 hour program&nbsp;addressing issues directly affecting&nbsp;the aging pilot
 ,&nbsp;and a re-cap of the fatal accidents that occurred in Arizona during 
 2022\nSelect Number:&nbsp;WP07119357Location of Seminar:Yuma Int'l Airport\
 n2191 E. 32nd St.\nBoard Roon, 2nd floor\nYuma, AZ&nbsp;85365Directions to 
 Venue:Driving Directions:\nFrom Interstate 8 going East\nTake Exit 2 onto H
 ighway 95 (16th St) going east, turn right on Pacific Ave. Cross 32nd Stree
 t to enter the Airport Parking Lot.\nFrom Interstate 8 going West\nTake Exi
 t 3, turn south (left) onto Ave 3E. Turn right on 32nd Street. One mile, at
  Pacific Ave, turn left into the Airport Parking Lot.\n&nbsp;\nFlying in:&n
 bsp;&nbsp; &nbsp;Park at Million Air\nFrom the parking lot, turn right on B
 urch Way, right on Gillaspie Place. &nbsp;At the stop sign turn right on Ar
 izona Ave.\nAt the stop light, turn right on 32nd St and right into the air
 port's parking lot.&nbsp;\n&nbsp;\nView Map\nFly-in Seminar?:Yes&nbsp;&nbsp
 ;KNYLSeating: 45 seats at the facilityRegistration Information:&nbsp;Click 
 here to register online now!Sponsoring Division: SDL FSDO FAASTeamContact I
 nformation:FRED L. GIBBS\nPhone: (928) 266-0112\nThis email address is bein
 g protected from spambots. You need JavaScript enabled to view it.
				docu
 ment.getElementById('cloak74845fe12382779d9af5d2a2aac60d08').innerHTML = ''
 ;
				var prefix = '&#109;a' + 'i&#108;' + '&#116;o';
				var path = 'hr' +
  'ef' + '=';
				var addy74845fe12382779d9af5d2a2aac60d08 = 'fr&#101;dg&#10
 5;bbs' + '&#64;';
				addy74845fe12382779d9af5d2a2aac60d08 = addy74845fe123
 82779d9af5d2a2aac60d08 + 'npgc&#97;bl&#101;' + '&#46;' + 'c&#111;m';
				va
 r addy_text74845fe12382779d9af5d2a2aac60d08 = 'fr&#101;dg&#105;bbs' + '&#64
 ;' + 'npgc&#97;bl&#101;' + '&#46;' + 'c&#111;m';document.getElementById('cl
 oak74845fe12382779d9af5d2a2aac60d08').innerHTML += ''+addy_text74845fe12382
 779d9af5d2a2aac60d08+'';
		Additional Event Information &amp; Acknowledgeme
 nt of Industry Sponsor(s):Presented by the Arizona Pilots Association Safet
 y Program, and sponsored and hosted by the Yuma International Airport\nPrio
 r to attending a safety seminar please review and abide by current CDC, Sta
 te and Local health guidelines.\nEqual Access Information:The FAA Safety Te
 am (FAASTeam) is committed to providing equal access to this meeting/event 
 for all participants. If you need alternative formats or services because o
 f a disability, please communicate your request as soon as possible with th
 e person in the “Contact Information” area of the meeting/event notice. Not
 e that two weeks is usually required to arrange services.Credit Applicabili
 ty:1 Credit for Basic Knowledge Topic 31 Credit for Advanced Knowledge Topi
 c 11 Credit for Master Knowledge Topic 1
CONTACT:FRED L. GIBBS Phone: (928) 266-0112 This email address is being protected from spambots. You need JavaScript enabled to view it.
				document.getElementById('cloak431e7e033856b2e17d50f60fda091e28').innerHTML = '';
				var prefix = '&#109;a' + 'i&#108;' + '&#116;o';
				var path = 'hr' + 'ef' + '=';
				var addy431e7e033856b2e17d50f60fda091e28 = 'fr&#101;dg&#105;bbs' + '&#64;';
				addy431e7e033856b2e17d50f60fda091e28 = addy431e7e033856b2e17d50f60fda091e28 + 'npgc&#97;bl&#101;' + '&#46;' + 'c&#111;m';
				var addy_text431e7e033856b2e17d50f60fda091e28 = 'fr&#101;dg&#105;bbs' + '&#64;' + 'npgc&#97;bl&#101;' + '&#46;' + 'c&#111;m';document.getElementById('cloak431e7e033856b2e17d50f60fda091e28').innerHTML += ''+addy_text431e7e033856b2e17d50f60fda091e28+'';
		
DTSTAMP:20260421T100834Z
DTSTART;TZID=America/Phoenix:20230128T090000
SEQUENCE:0
TRANSP:OPAQUE
END:VEVENT
END:VCALENDAR