BEGIN:VCALENDAR
VERSION:2.0
PRODID:-//jEvents 2.0 for Joomla//EN
CALSCALE:GREGORIAN
METHOD:PUBLISH
BEGIN:VEVENT
UID:da05f13ede7742f67a4b211997b5229b
CATEGORIES:Other Fly-In
CREATED:20230112T092940
SUMMARY:Spot Landing Contest at Maricopa
LOCATION:Ak-Chin Regional Airport, 32514 W. Bud Road, Maricopa, AZ 85318
DESCRIPTION;ENCODING=QUOTED-PRINTABLE:\n\n\n\n\n&nbsp;\n\n\nPhoenix Chapter of the Ninety-Nines, Inc.\n\n\nCallin
 g all pilots!\n\n\nSpot Landing COntest\n\n\nImpress your friends! Improve 
 your skills! Meet the 99s!\n\n\nSat. March 11th, 2023\n\n\nAk-Chin Regional
  Airport, A39\n\n\n8:300 am Registration\n\n\nCompetitor Fee: $40 per pilot
 , includes lunch\n\n\nCompetition is open to all pilots\n\n\n*Win Cash Priz
 es, trophies, and bragging rights at this fun event. Come on out and show u
 s your stuff!\n\n\n8 am Registration opens at the airport terminal\n\n\n9 a
 m Pilot Briefing\n\n\n9:30 am Competition Begins\n\n\nDelicious Lunch and A
 wards Ceremony to follow - lunch available for non-competitors (donation re
 quested)\n\n\nQuestions? Contact Karen 760-898-6641 or visit our website: w
 ww.phx99s.org\n\n\nSponsored by the Phoenix 99s and Ak-Chin Regional Airpor
 t.\n\n\nAk-Chin Regional Airport, 32514 W. Bud Road, Maricopa, AZ 85318\n
CONTACT:Karen 760-898-6641 or visit our website: www.phx99s.org
DTSTAMP:20260421T100834Z
DTSTART;TZID=America/Phoenix:20230311T080000
SEQUENCE:0
TRANSP:OPAQUE
END:VEVENT
END:VCALENDAR