BEGIN:VCALENDAR
VERSION:2.0
PRODID:-//jEvents 2.0 for Joomla//EN
CALSCALE:GREGORIAN
METHOD:PUBLISH
BEGIN:VEVENT
UID:7a01002c106eabfb36d908c8654a0be7
CATEGORIES:Other Fly-In
CREATED:20230325T142002
SUMMARY:Fly Out To Bar 10 Ranch - 1Z1 Grand Canyon
LOCATION:Bar 10 Ranch - 1Z1 Grand Canyon
DESCRIPTION;ENCODING=QUOTED-PRINTABLE:&nbsp;Join the New Mexico Pilots Association on the North Rim this October 
 at the Bar 10 RanchReserve your room today, call Sarah&nbsp;to make your re
 servation435-628-4010\n\n&nbsp;\n\n\nArrive Bar Ten Sunday, October 22nd&nb
 sp;- Depart Tuesday the 24th\n&nbsp;\nOptional: Tuacahn Amphitheatre St Geo
 rge, UT. This is an incredible show, and will be Tarzan -&nbsp;October 21st
 &nbsp;\n\n\nYou should purchase tickets in advance, call&nbsp;435-652-3300\
 n\n\n&nbsp;\nLots of good food and fellowship.&nbsp;\n&nbsp;\nFly out to lo
 cal airstrips planned Monday morning, i.e. Grand Gulch backcountry strip\n&
 nbsp;\nSide by Side ride to North Rim on Monday afternoon.\n\n\n&nbsp;\nCon
 tact Sarah at Bar Ten&nbsp;www.bar10.com to make your reservation: 435.628.
 4010\n&nbsp;\nContact Perry Null for more info:&nbsp;This email address is 
 being protected from spambots. You need JavaScript enabled to view it.
				
 document.getElementById('cloak0d814cdcf5ba88ac59a97b0f7c364319').innerHTML 
 = '';
				var prefix = '&#109;a' + 'i&#108;' + '&#116;o';
				var path = 'h
 r' + 'ef' + '=';
				var addy0d814cdcf5ba88ac59a97b0f7c364319 = 'p&#101;rry
 dn&#117;ll' + '&#64;';
				addy0d814cdcf5ba88ac59a97b0f7c364319 = addy0d814
 cdcf5ba88ac59a97b0f7c364319 + 'gm&#97;&#105;l' + '&#46;' + 'c&#111;m';
				
 var addy_text0d814cdcf5ba88ac59a97b0f7c364319 = 'p&#101;rrydn&#117;ll' + '&
 #64;' + 'gm&#97;&#105;l' + '&#46;' + 'c&#111;m';document.getElementById('cl
 oak0d814cdcf5ba88ac59a97b0f7c364319').innerHTML += ''+addy_text0d814cdcf5ba
 88ac59a97b0f7c364319+'';
		&nbsp;505.870.1233\n\n\n&nbsp;\n\n\nMore informa
 tion at New Mexico Pilots Association\n\n\n&nbsp;\n\n\n&nbsp;\n
CONTACT:Perry Null This email address is being protected from spambots. You need JavaScript enabled to view it.
				document.getElementById('cloakca71a0e148d286fd914cc9bb9dcbf9be').innerHTML = '';
				var prefix = '&#109;a' + 'i&#108;' + '&#116;o';
				var path = 'hr' + 'ef' + '=';
				var addyca71a0e148d286fd914cc9bb9dcbf9be = 'p&#101;rrydn&#117;ll' + '&#64;';
				addyca71a0e148d286fd914cc9bb9dcbf9be = addyca71a0e148d286fd914cc9bb9dcbf9be + 'gm&#97;&#105;l' + '&#46;' + 'c&#111;m';
				var addy_textca71a0e148d286fd914cc9bb9dcbf9be = 'p&#101;rrydn&#117;ll' + '&#64;' + 'gm&#97;&#105;l' + '&#46;' + 'c&#111;m';document.getElementById('cloakca71a0e148d286fd914cc9bb9dcbf9be').innerHTML += ''+addy_textca71a0e148d286fd914cc9bb9dcbf9be+'';
		 505.870.1233
DTSTAMP:20260421T223002Z
DTSTART;TZID=America/Phoenix;VALUE=DATE:20231022
DTEND;TZID=America/Phoenix;VALUE=DATE:20231025
SEQUENCE:0
TRANSP:OPAQUE
END:VEVENT
END:VCALENDAR