BEGIN:VCALENDAR
VERSION:2.0
PRODID:-//jEvents 2.0 for Joomla//EN
CALSCALE:GREGORIAN
METHOD:PUBLISH
BEGIN:VEVENT
UID:7dd08d72cca63a8521dfe6aea588a18a
CATEGORIES:Meetings
CREATED:20230406T141418
SUMMARY:APA Annual Meeting in Scottsdale 
LOCATION:7350 E Evans Rd Scottsdale, AZ 85260
DESCRIPTION;ENCODING=QUOTED-PRINTABLE:Annual MeetingWe’re happy to announce that we will be having our\nAnnual Me
 eting on Saturday,&nbsp;May 13,&nbsp;\nCoffee and Donuts at 9:30am\nMeeting
  Starts at 10am\n\nDrive in: 7350 E Evans Rd Scottsdale, AZ 85260\n&nbsp;\n
 Awesome Door Prizes!!!\n&nbsp;\n\n\nLocation: The drive in address is 7350 
 E Evans Rd., Scottsdale, AZ, 85260. Or, if you would like to fly in, find t
 he GA Parking on the north / west side and let us know in advance so we can
  arrange transportation.\n\n\nTime: Arrive early by 9:30am for coffee &amp;
  donuts! Meeting starts at 10:00am.\n\n\nAgenda: Our various committees, su
 ch as backcountry, scholarships, safety, and getaways, will be sharing what
  progress has been made over the last year, and what to look forward to in 
 the coming year. You can visit with the current scholarship recipients and 
 have a chance to win some great door prizes!\n\n\nWe'll you see you there!\
 n\n\n&nbsp;This email address is being protected from spambots. You need Ja
 vaScript enabled to view it.
				document.getElementById('cloak7d0b6f527c35
 3f2f026fe292543c5d89').innerHTML = '';
				var prefix = '&#109;a' + 'i&#108
 ;' + '&#116;o';
				var path = 'hr' + 'ef' + '=';
				var addy7d0b6f527c353
 f2f026fe292543c5d89 = 'c&#111;nt&#97;ct' + '&#64;';
				addy7d0b6f527c353f2
 f026fe292543c5d89 = addy7d0b6f527c353f2f026fe292543c5d89 + '&#97;zp&#105;l&
 #111;ts' + '&#46;' + '&#111;rg?s&#117;bj&#101;ct=APA%20Ann&#117;&#97;l%20M&
 #101;&#101;t&#105;ng';
				var addy_text7d0b6f527c353f2f026fe292543c5d89 = 
 'RSVP t&#111; c&#111;nt&#97;ct@&#97;zp&#105;l&#111;ts.&#111;rg';document.ge
 tElementById('cloak7d0b6f527c353f2f026fe292543c5d89').innerHTML += ''+addy_
 text7d0b6f527c353f2f026fe292543c5d89+'';
		\n\n&nbsp;\n&nbsp;\n\n\n&nbsp;\n
 \n\n\n&nbsp;\n\n\n\n\n\n&nbsp;\n\n\n&nbsp;\n\n\n&nbsp;\n&nbsp;This email ad
 dress is being protected from spambots. You need JavaScript enabled to view
  it.
				document.getElementById('cloak0ecad8bfd644c027d894943afedecb55').i
 nnerHTML = '';
				var prefix = '&#109;a' + 'i&#108;' + '&#116;o';
				var 
 path = 'hr' + 'ef' + '=';
				var addy0ecad8bfd644c027d894943afedecb55 = 'c
 &#111;nt&#97;ct' + '&#64;';
				addy0ecad8bfd644c027d894943afedecb55 = addy
 0ecad8bfd644c027d894943afedecb55 + '&#97;zp&#105;l&#111;ts' + '&#46;' + '&#
 111;rg?s&#117;bj&#101;ct=APA%20Ann&#117;&#97;l%20M&#101;&#101;t&#105;ng';
	
 			var addy_text0ecad8bfd644c027d894943afedecb55 = 'RSVP t&#111; c&#111;nt&
 #97;ct@&#97;zp&#105;l&#111;ts.&#111;rg';document.getElementById('cloak0ecad
 8bfd644c027d894943afedecb55').innerHTML += ''+addy_text0ecad8bfd644c027d894
 943afedecb55+'';
		\n\n&nbsp;\n\n\n&nbsp;\n\n\n&nbsp;\n\n\n&nbsp;\n
CONTACT:This email address is being protected from spambots. You need JavaScript enabled to view it.
				document.getElementById('cloak18919fc779a9c56381953252d6785000').innerHTML = '';
				var prefix = '&#109;a' + 'i&#108;' + '&#116;o';
				var path = 'hr' + 'ef' + '=';
				var addy18919fc779a9c56381953252d6785000 = 'c&#111;nt&#97;ct' + '&#64;';
				addy18919fc779a9c56381953252d6785000 = addy18919fc779a9c56381953252d6785000 + '&#97;zp&#105;l&#111;ts' + '&#46;' + '&#111;rg';
				var addy_text18919fc779a9c56381953252d6785000 = 'c&#111;nt&#97;ct' + '&#64;' + '&#97;zp&#105;l&#111;ts' + '&#46;' + '&#111;rg';document.getElementById('cloak18919fc779a9c56381953252d6785000').innerHTML += ''+addy_text18919fc779a9c56381953252d6785000+'';
		
DTSTAMP:20260422T083009Z
DTSTART;TZID=America/Phoenix;VALUE=DATE:20230513
DTEND;TZID=America/Phoenix;VALUE=DATE:20230514
SEQUENCE:0
TRANSP:OPAQUE
END:VEVENT
END:VCALENDAR