BEGIN:VCALENDAR
VERSION:2.0
PRODID:-//jEvents 2.0 for Joomla//EN
CALSCALE:GREGORIAN
METHOD:PUBLISH
BEGIN:VEVENT
UID:dd1beb6fdd8e28fc2e29bd573d185ff9
CATEGORIES:Safety
CREATED:20230511T111553
SUMMARY:Prescott Regional Airport Local Runway Safety Action Team Meeting
LOCATION:Airport Administrative Office 6630 Airport Avenue  Prescott, AZ 86301
DESCRIPTION;ENCODING=QUOTED-PRINTABLE:Prescott Regional Airport Local Runway Safety Action Team MeetingAirport St
 akeholder Meeting on Local Runway Safety IssuesDate and Time: Wednesday, Ma
 y 17, 2023, starting at 10:00 ArizonaSpeaker(s): Clint Martin, Joe Santoro,
  FAA Safety Team Program ManagersBrief Description:Runway Safety Action Tea
 ms\nRunway Safety Action Teams (RSAT) bring local airport stakeholders toge
 ther at least once a year to identify risks to surface safety at that airpo
 rt and develop plans to mitigate or eliminate those risks. RSATs provide th
 e foundation of the Runway Safety Program at individual airports. The RSAT 
 meetings are the primary forum for pinpointing and addressing airport-speci
 fic risk in the surface environment. The product of an&nbsp;RSAT meeting is
  a Runway Safety Action Plan in which the stakeholders document and agree t
 o pursue specific actions intended to improve surface safety.&nbsp; This me
 eting is scheduled for approximately 2 hours, if necessary.\nSelect Number:
  WP07122057Location of Seminar:Airport Administrative Office\n6630 Airport 
 Avenue\nPrescott, AZ&nbsp;86301Directions to Venue:\n\nThis meeting will be
  a virtual ZOOM meeting, and in-person. While this can be a fly-in/in-perso
 n meeting, attendees will need to secure transportation from the FBO/GA ram
 p to the Airport Administrative office, located on the NW side of the airpo
 rt.&nbsp;&nbsp;\nIf attending in-person&nbsp;Please RSVP with Air Traffic M
 anager (ATM) Clint Martin (contact information below).\n*Prior to attending
  a safety seminar please review and abide by current CDC, State and Local h
 ealth guidelines.\nIf joining virtually, please use the ZOOM link below to 
 attend.&nbsp; If the link does not take you to the Zoom meeting website,&nb
 sp;copy/paste it into a browser.\n\n\nClick to Join:\nhttps://faavideo.zoom
 gov.com/j/16185637544\n• Passcode: 6500\n• If prompted, accept the Zoom app
 lication as instructed.\n\n\nMobile Device:\n• Download the ‘Zoom Cloud Mee
 tings’ App.\n• Select ‘Join a Meeting’ and enter Meeting ID: 161 8563 7544\
 n• Passcode: 6500\nView MapFly-in Seminar?: Yes&nbsp;&nbsp;PRCSeating: Chec
 k Additional event Information below for possible registration requirements
 .Sponsoring Division: Scottsdale FAASTeamContact Information:Clint Martin\n
 Phone: 928-541-3800\nThis email address is being protected from spambots. Y
 ou need JavaScript enabled to view it.
				document.getElementById('cloak6b
 01793d0e0d2a3e07d8a487daac1f83').innerHTML = '';
				var prefix = '&#109;a'
  + 'i&#108;' + '&#116;o';
				var path = 'hr' + 'ef' + '=';
				var addy6b0
 1793d0e0d2a3e07d8a487daac1f83 = 'Cl&#105;nt.D.M&#97;rt&#105;n' + '&#64;';
	
 			addy6b01793d0e0d2a3e07d8a487daac1f83 = addy6b01793d0e0d2a3e07d8a487daac1
 f83 + 'f&#97;&#97;' + '&#46;' + 'g&#111;v';
				var addy_text6b01793d0e0d2a
 3e07d8a487daac1f83 = 'Cl&#105;nt.D.M&#97;rt&#105;n' + '&#64;' + 'f&#97;&#97
 ;' + '&#46;' + 'g&#111;v';document.getElementById('cloak6b01793d0e0d2a3e07d
 8a487daac1f83').innerHTML += ''+addy_text6b01793d0e0d2a3e07d8a487daac1f83+'
 ';
		Additional Event Information &amp; Acknowledgement of Industry Sponsor
 (s):PRC Air Traffic Manager\nFAA Office of Runway Safety\nPRCAirport Manage
 r\nFAASTeam Program Managers\nAviation Safety Advisory Group of AZ\nEqual A
 ccess Information:The FAA Safety Team (FAASTeam) is committed to providing 
 equal access to this meeting/event for all participants. If you need altern
 ative formats or services because of a disability, please communicate your 
 request as soon as possible with the person in the “Contact Information” ar
 ea of the meeting/event notice. Note that two weeks is usually required to 
 arrange services.Credit Applicability:1 Credit for Basic Knowledge Topic 3
CONTACT:Clint Martin Phone: 928-541-3800 This email address is being protected from spambots. You need JavaScript enabled to view it.
				document.getElementById('cloak4aa0ee27e4e3ec575ddd584e90567013').innerHTML = '';
				var prefix = '&#109;a' + 'i&#108;' + '&#116;o';
				var path = 'hr' + 'ef' + '=';
				var addy4aa0ee27e4e3ec575ddd584e90567013 = 'Cl&#105;nt.D.M&#97;rt&#105;n' + '&#64;';
				addy4aa0ee27e4e3ec575ddd584e90567013 = addy4aa0ee27e4e3ec575ddd584e90567013 + 'f&#97;&#97;' + '&#46;' + 'g&#111;v';
				var addy_text4aa0ee27e4e3ec575ddd584e90567013 = 'Cl&#105;nt.D.M&#97;rt&#105;n' + '&#64;' + 'f&#97;&#97;' + '&#46;' + 'g&#111;v';document.getElementById('cloak4aa0ee27e4e3ec575ddd584e90567013').innerHTML += ''+addy_text4aa0ee27e4e3ec575ddd584e90567013+'';
		
DTSTAMP:20260421T152236Z
DTSTART;TZID=America/Phoenix:20230517T100000
SEQUENCE:0
TRANSP:OPAQUE
END:VEVENT
END:VCALENDAR