BEGIN:VCALENDAR
VERSION:2.0
PRODID:-//jEvents 2.0 for Joomla//EN
CALSCALE:GREGORIAN
METHOD:PUBLISH
BEGIN:VEVENT
UID:dabebdfc8b2f08a5d54db01b3c0eca12
CATEGORIES:Safety
CREATED:20230511T112356
SUMMARY:Phoenix TRACON Operation Raincheck
LOCATION:Phoenix TRACON/ATCT 3500 E Sky Harbor Blvd  Phoenix, AZ 85034
DESCRIPTION;ENCODING=QUOTED-PRINTABLE:Phoenix TRACON Operation RaincheckBriefing and Tour of the Phoenix TRACON a
 nd Phoenix Air Traffic Control Tower.Date and Time: Monday, May 22, 2023, s
 tarting at 18:00 ArizonaSpeaker(s): Air Traffic Controllers from TRACON and
  TowerBrief Description:DUE TO SECURITY REQUIREMENTS,&nbsp;ONLY OPEN TO U.S
 . CITIZENS. PHOTO IDENTIFICATION REQUIRED TO ATTEND.\nREGISTRATION DEADLINE
  IS MAY 15TH.\nPlease join us at Phoenix TRACON for Operation Raincheck, pr
 esented by the National Air Traffic Controllers Association (NATCA) and the
  FAA. This program allows controllers and pilots to interact one-on-one wit
 h a short presentation followed by a question and answer session. Discussio
 ns will include best operating practices, review of Phoenix area hot spots,
  Class Bravo transition and general overview of what controllers do at the 
 TRACON. We will conclude with a tour of the TRACON and PHX Tower.\nSelect N
 umber: WP07121663Location of Seminar:Phoenix TRACON/ATCT\n3500 E Sky Harbor
  Blvd\nPhoenix, AZ&nbsp;85034Directions to Venue:\n\nFrom the west valley, 
 take I-10 to the exit for Sky Harbor International Airport (exit 149) and d
 rive to parking in Terminal 3 Parking garage. From the Southeast valley, ta
 ke I-10 to the Hohokam Expressway, AZ-143 (Exit 153A) to E. Sky Harbor Blvd
  (Exit 3B) to the terminal 3 Parking garage. From the East and Northeast va
 lley take AZ-202 to E. Sky Harbor Blvd (Exit 5) to the terminal 3 Parking g
 arage. Park in Terminal 3 garage and walk towards Terminal 4. Guard shack i
 s located on the south side of the terminals between terminal 3 and termina
 l 4.&nbsp;Parking will not be validated, participants will have to pay for 
 parking.&nbsp;Visitors must be US citizens with valid photo ID. All visitor
 s will go through security screening.\nView MapFly-in Seminar?: NoSeating: 
 24 seats at the facilityRegistration Information:&nbsp;Seminar is currently
  filled. No additional online registrations are accepted.Sponsoring Divisio
 n: FAASTeamContact Information:MATTHEW SCHORMAN\nPhone: (480) 227-0600\nThi
 s email address is being protected from spambots. You need JavaScript enabl
 ed to view it.
				document.getElementById('cloak82c6080efb251e13cffb2ecefa
 99c343').innerHTML = '';
				var prefix = '&#109;a' + 'i&#108;' + '&#116;o'
 ;
				var path = 'hr' + 'ef' + '=';
				var addy82c6080efb251e13cffb2ecefa9
 9c343 = 'm&#97;sch&#111;rm&#97;n' + '&#64;';
				addy82c6080efb251e13cffb2e
 cefa99c343 = addy82c6080efb251e13cffb2ecefa99c343 + 'gm&#97;&#105;l' + '&#4
 6;' + 'c&#111;m';
				var addy_text82c6080efb251e13cffb2ecefa99c343 = 'm&#9
 7;sch&#111;rm&#97;n' + '&#64;' + 'gm&#97;&#105;l' + '&#46;' + 'c&#111;m';do
 cument.getElementById('cloak82c6080efb251e13cffb2ecefa99c343').innerHTML +=
  ''+addy_text82c6080efb251e13cffb2ecefa99c343+'';
		Additional Event Inform
 ation &amp; Acknowledgement of Industry Sponsor(s):The FAASTeam would like 
 to thank the Phoenix TRACON and Tower personnel and management for supporti
 ng such an important community enlightening event.\nPrior to attending a sa
 fety seminar, please review and abide by current CDC, State, and Local heal
 th guidelines.&nbsp;\nEqual Access Information:The FAA Safety Team (FAASTea
 m) is committed to providing equal access to this meeting/event for all par
 ticipants. If you need alternative formats or services because of a disabil
 ity, please communicate your request as soon as possible with the person in
  the “Contact Information” area of the meeting/event notice. Note that two 
 weeks is usually required to arrange services.Credit Applicability:1 Credit
  for Basic Knowledge Topic 3
CONTACT:MATTHEW SCHORMAN Phone: (480) 227-0600 This email address is being protected from spambots. You need JavaScript enabled to view it.
				document.getElementById('cloak16b883e58330e783e14354eda2aaf0cd').innerHTML = '';
				var prefix = '&#109;a' + 'i&#108;' + '&#116;o';
				var path = 'hr' + 'ef' + '=';
				var addy16b883e58330e783e14354eda2aaf0cd = 'm&#97;sch&#111;rm&#97;n' + '&#64;';
				addy16b883e58330e783e14354eda2aaf0cd = addy16b883e58330e783e14354eda2aaf0cd + 'gm&#97;&#105;l' + '&#46;' + 'c&#111;m';
				var addy_text16b883e58330e783e14354eda2aaf0cd = 'm&#97;sch&#111;rm&#97;n' + '&#64;' + 'gm&#97;&#105;l' + '&#46;' + 'c&#111;m';document.getElementById('cloak16b883e58330e783e14354eda2aaf0cd').innerHTML += ''+addy_text16b883e58330e783e14354eda2aaf0cd+'';
		
DTSTAMP:20260422T160341Z
DTSTART;TZID=America/Phoenix:20230522T180000
SEQUENCE:0
TRANSP:OPAQUE
END:VEVENT
END:VCALENDAR