BEGIN:VCALENDAR
VERSION:2.0
PRODID:-//jEvents 2.0 for Joomla//EN
CALSCALE:GREGORIAN
METHOD:PUBLISH
BEGIN:VEVENT
UID:5b5c3ef8056fe63a25632dbe12509f76
CATEGORIES:Safety
CREATED:20230511T112836
SUMMARY:YUMA Second Quarter Safety Program
LOCATION:Yuma Int'l Airport 2191 E. 32nd St. Board Room, 2nd floor Yuma, AZ 85365
DESCRIPTION;ENCODING=QUOTED-PRINTABLE:YUMA Second Quarter Safety ProgramRisk Management, ADS-B Performance checks
 , VOR MONS Program, and 'interactive question/answer program'Date and Time:
  Saturday, May 27, 2023, starting at 09:00 ArizonaSpeaker(s): Fred Gibbs, A
 PABrief Description:A 3-hour program covering How to get an FAA performance
  check on your ADS-B/transponder signals, what is happening with the FAA's 
 program to reduce the number of VOR's nation-wide, a risk management sessio
 n, and a question and answer session covering all aspects of the private pi
 lot knowledge requirements.\nSelect Number: WP07121883Location of Seminar:Y
 uma Int'l Airport\n2191 E. 32nd St.\nBoard Room, 2nd floor\nYuma, AZ&nbsp;8
 5365Directions to Venue:\n\nDriving Directions:\nFrom Interstate 8 going Ea
 st\nTake Exit 2 onto Highway 95 (16th St) going east, turn right on Pacific
  Ave. Cross 32nd Street to enter the Airport Parking Lot.\nFrom Interstate 
 8 going West\nTake Exit 3, turn south (left) onto Ave 3E. Turn right on 32n
 d Street. One mile, at Pacific Ave, turn left into the Airport Parking Lot.
 \n&nbsp;\n\n\nFlying in:&nbsp;&nbsp;&nbsp; park at Million Air\nFrom the pa
 rking lot, turn right on Burch Way, right on Gillaspie Place. &nbsp;At the 
 stop sign turn right on Arizona Ave.\nAt the stop light, turn right on 32nd
  St and right into the airport's parking lot.&nbsp;\n\n\nPrior to attending
  a safety seminar, please review and abide by current CDC, State and Local 
 health guidelines.\nView MapFly-in Seminar?: Yes&nbsp;&nbsp;KNYLSeating: 45
  seats at the facilityRegistration Information:&nbsp;Click here to register
  online now!Sponsoring Division: SDL FSDO FAASTeamContact Information:FRED 
 L. GIBBS\nPhone: (928) 266-0112\nThis email address is being protected from
  spambots. You need JavaScript enabled to view it.
				document.getElementB
 yId('cloak319a4c531eda11fc81d2ae11d77be92c').innerHTML = '';
				var prefix
  = '&#109;a' + 'i&#108;' + '&#116;o';
				var path = 'hr' + 'ef' + '=';
			
 	var addy319a4c531eda11fc81d2ae11d77be92c = 'fr&#101;dg&#105;bbs' + '&#64;'
 ;
				addy319a4c531eda11fc81d2ae11d77be92c = addy319a4c531eda11fc81d2ae11d7
 7be92c + 'npgc&#97;bl&#101;' + '&#46;' + 'c&#111;m';
				var addy_text319a4
 c531eda11fc81d2ae11d77be92c = 'fr&#101;dg&#105;bbs' + '&#64;' + 'npgc&#97;b
 l&#101;' + '&#46;' + 'c&#111;m';document.getElementById('cloak319a4c531eda1
 1fc81d2ae11d77be92c').innerHTML += ''+addy_text319a4c531eda11fc81d2ae11d77b
 e92c+'';
		Additional Event Information &amp; Acknowledgement of Industry S
 ponsor(s):presented by the Arizona Pilots Association Safety Program, and s
 ponsored and hosted by the Yuma International Airport\nEqual Access Informa
 tion:The FAA Safety Team (FAASTeam) is committed to providing equal access 
 to this meeting/event for all participants. If you need alternative formats
  or services because of a disability, please communicate your request as so
 on as possible with the person in the “Contact Information” area of the mee
 ting/event notice. Note that two weeks is usually required to arrange servi
 ces.Credit Applicability:1 Credit for Basic Knowledge Topic 31 Credit for A
 dvanced Knowledge Topic 21 Credit for Master Knowledge Topic 2
CONTACT:FRED L. GIBBS Phone: (928) 266-0112 This email address is being protected from spambots. You need JavaScript enabled to view it.
				document.getElementById('cloakf68f753a52fc4b176b1ae0d3bf9c2e20').innerHTML = '';
				var prefix = '&#109;a' + 'i&#108;' + '&#116;o';
				var path = 'hr' + 'ef' + '=';
				var addyf68f753a52fc4b176b1ae0d3bf9c2e20 = 'fr&#101;dg&#105;bbs' + '&#64;';
				addyf68f753a52fc4b176b1ae0d3bf9c2e20 = addyf68f753a52fc4b176b1ae0d3bf9c2e20 + 'npgc&#97;bl&#101;' + '&#46;' + 'c&#111;m';
				var addy_textf68f753a52fc4b176b1ae0d3bf9c2e20 = 'fr&#101;dg&#105;bbs' + '&#64;' + 'npgc&#97;bl&#101;' + '&#46;' + 'c&#111;m';document.getElementById('cloakf68f753a52fc4b176b1ae0d3bf9c2e20').innerHTML += ''+addy_textf68f753a52fc4b176b1ae0d3bf9c2e20+'';
		
DTSTAMP:20260422T173420Z
DTSTART;TZID=America/Phoenix:20230527T090000
SEQUENCE:0
TRANSP:OPAQUE
END:VEVENT
END:VCALENDAR