BEGIN:VCALENDAR
VERSION:2.0
PRODID:-//jEvents 2.0 for Joomla//EN
CALSCALE:GREGORIAN
METHOD:PUBLISH
BEGIN:VEVENT
UID:c0e6849767b070894b32a0d8f8a1445b
CATEGORIES:Safety
CREATED:20230529T091020
SUMMARY:Scottsdale Pilot/Controller Forum
LOCATION:Scottsdale Airport Terminal 15000 N. Airport Dr. Scottsdale, AZ 85260
DESCRIPTION;ENCODING=QUOTED-PRINTABLE:Scottsdale Pilot/Controller ForumOpportunity for Users and Tenants to Meet 
 with Air Traffic Controllers and Airport PersonnelDate and Time: Tuesday, M
 ay 30, 2023, starting at 19:00 ArizonaSpeaker(s): SDL ATC, Airport Administ
 ration, and the FAASTeamBrief Description:This two hour open lecture/discus
 sion is an opportunity for users and tenants to cover air traffic, airspace
 , and airport issues. These items of concern or recommendations will be bro
 ught to the Runway Safety Action Team and, if warranted, turned into airpor
 t action items for resourcing and corrective action. Additionally, their wi
 ll be a presentation on air traffic, airport geometry and construction proj
 ects, general airspace issues including sUAS and lasers as well as a briefi
 ng on runway layout and signage.\nSelect Number: WP07122347Location of Semi
 nar:Scottsdale Airport Terminal\n15000 N. Airport Dr.\nScottsdale, AZ&nbsp;
 85260Directions to Venue:\n\nFrom AZ Loop 101 take the Scottsdale Rd Exit (
 Exit 34). Head south for two and a half miles to E. Butherus Dr. Turn left 
 onto Butherus drive and head half a mile to the terminal parking on the Nor
 thwest corner of Butherus and N. Airport Dr. The meeting is on the second f
 loor conference room next to Volanti Resturant.\nView MapFly-in Seminar?: N
 oSeating: 75 seats at the facilityRegistration Information:&nbsp;Click here
  to register online now!Sponsoring Division: FAASTeamContact Information:Er
 nest Copeland\nPhone: (480) 284-7438\nThis email address is being protected
  from spambots. You need JavaScript enabled to view it.
				document.getEle
 mentById('cloak4b8b70b9ddc6228e2a9777e65e793b80').innerHTML = '';
				var p
 refix = '&#109;a' + 'i&#108;' + '&#116;o';
				var path = 'hr' + 'ef' + '='
 ;
				var addy4b8b70b9ddc6228e2a9777e65e793b80 = '&#101;rn&#101;st.r.c&#111
 ;p&#101;l&#97;nd' + '&#64;';
				addy4b8b70b9ddc6228e2a9777e65e793b80 = add
 y4b8b70b9ddc6228e2a9777e65e793b80 + 'f&#97;&#97;' + '&#46;' + 'g&#111;v';
	
 			var addy_text4b8b70b9ddc6228e2a9777e65e793b80 = '&#101;rn&#101;st.r.c&#1
 11;p&#101;l&#97;nd' + '&#64;' + 'f&#97;&#97;' + '&#46;' + 'g&#111;v';docume
 nt.getElementById('cloak4b8b70b9ddc6228e2a9777e65e793b80').innerHTML += ''+
 addy_text4b8b70b9ddc6228e2a9777e65e793b80+'';
		Additional Event Informatio
 n &amp; Acknowledgement of Industry Sponsor(s):The FAASTeam would like to t
 hank the City of Scottsdale for their support and for the use of their airp
 ort terminal conference room. Additional thanks to the Scottsdale Air Traff
 ic Manager and the air traffic staff.\nPrior to attending a safety seminar,
  please review and abide by current CDC, State, and Local health guidelines
 .&nbsp;\nEqual Access Information:The FAA Safety Team (FAASTeam) is committ
 ed to providing equal access to this meeting/event for all participants. If
  you need alternative formats or services because of a disability, please c
 ommunicate your request as soon as possible with the person in the “Contact
  Information” area of the meeting/event notice. Note that two weeks is usua
 lly required to arrange services.Credit Applicability:1 Credit for Basic Kn
 owledge Topic 11 Credit for Basic Knowledge Topic 2
CONTACT:Ernest Copeland Phone: (480) 284-7438 This email address is being protected from spambots. You need JavaScript enabled to view it.
				document.getElementById('cloakdee7493efba9aec7755111229a23ca69').innerHTML = '';
				var prefix = '&#109;a' + 'i&#108;' + '&#116;o';
				var path = 'hr' + 'ef' + '=';
				var addydee7493efba9aec7755111229a23ca69 = '&#101;rn&#101;st.r.c&#111;p&#101;l&#97;nd' + '&#64;';
				addydee7493efba9aec7755111229a23ca69 = addydee7493efba9aec7755111229a23ca69 + 'f&#97;&#97;' + '&#46;' + 'g&#111;v';
				var addy_textdee7493efba9aec7755111229a23ca69 = '&#101;rn&#101;st.r.c&#111;p&#101;l&#97;nd' + '&#64;' + 'f&#97;&#97;' + '&#46;' + 'g&#111;v';document.getElementById('cloakdee7493efba9aec7755111229a23ca69').innerHTML += ''+addy_textdee7493efba9aec7755111229a23ca69+'';
		
DTSTAMP:20260422T160207Z
DTSTART;TZID=America/Phoenix:20230530T190000
SEQUENCE:0
TRANSP:OPAQUE
END:VEVENT
END:VCALENDAR