BEGIN:VCALENDAR
VERSION:2.0
PRODID:-//jEvents 2.0 for Joomla//EN
CALSCALE:GREGORIAN
METHOD:PUBLISH
BEGIN:VEVENT
UID:a985ca3f3a5851b87768c92b34e7f824
CATEGORIES:Safety
CREATED:20230711T153348
SUMMARY:CFI Open Forum - Third Quarter at Phoenix
LOCATION:AeroGuard Classrooms A & B 530 West Deer Valley Rd AeroGuard Phoenix, AZ 85
 027
DESCRIPTION;ENCODING=QUOTED-PRINTABLE:CFI Open Forum - Third QuarterDeer Valley Airport Management, Presentation 
 from Luke Approach, DVT TowerDate and Time: Monday, July 17, 2023, starting
  at 17:00 ArizonaSpeaker(s): Cary GrantBrief Description:FAASTeam&nbsp;Flig
 ht Instructor&nbsp;Open Forums&nbsp;provide an opportunity for Flight Instr
 uctors, Ground Instructors, Designated Pilot Examiners, and the FAA Safety 
 Team (FAASTeam) to meet and discuss one or more of the&nbsp;Top 10 Causal F
 actors in General Aviation Accidents&nbsp;at each of the Open Forums.&nbsp;
  This forum is scheduled for 2-hours in length.\n*Prior to attending a safe
 ty seminar please review and abide by current CDC, State and Local health g
 uidelines.\nSelect Number: WP07123116Location of Seminar:AeroGuard Classroo
 ms A &amp; B\n530 West Deer Valley Rd\nAeroGuard\nPhoenix, AZ&nbsp;85027Dir
 ections to Venue:\n\nThis seminar will&nbsp;be in&nbsp;the&nbsp;AeroGuard g
 round school&nbsp;building southeast of the main&nbsp;AeroGuard facility.&n
 bsp; If flying in, park in the transient area in front of the terminal.&nbs
 p; Proceed through the terminal to the parking lot.&nbsp; AeroGuard&nbsp;is
  on the southeast side of the parking lot, and the classrooms are the 1-sto
 ry building east of (behind) the main building.\nView MapFly-in Seminar?: Y
 es&nbsp;&nbsp;KDVTSeating: 50 seats at the facilityRegistration Information
 :&nbsp;Click here to register online now!Sponsoring Division: FAA Safety Te
 amContact Information:Jim Anderson\nPhone: (623) 694-7742\nThis email addre
 ss is being protected from spambots. You need JavaScript enabled to view it
 .
				document.getElementById('cloak0dcd879541a16bf3170661b3871855e1').inne
 rHTML = '';
				var prefix = '&#109;a' + 'i&#108;' + '&#116;o';
				var pat
 h = 'hr' + 'ef' + '=';
				var addy0dcd879541a16bf3170661b3871855e1 = 'j&#1
 05;m.&#97;nd&#101;rs&#111;n' + '&#64;';
				addy0dcd879541a16bf3170661b3871
 855e1 = addy0dcd879541a16bf3170661b3871855e1 + 'cvst&#97;rrc&#111;' + '&#46
 ;' + 'c&#111;m';
				var addy_text0dcd879541a16bf3170661b3871855e1 = 'j&#10
 5;m.&#97;nd&#101;rs&#111;n' + '&#64;' + 'cvst&#97;rrc&#111;' + '&#46;' + 'c
 &#111;m';document.getElementById('cloak0dcd879541a16bf3170661b3871855e1').i
 nnerHTML += ''+addy_text0dcd879541a16bf3170661b3871855e1+'';
		Additional E
 vent Information &amp; Acknowledgement of Industry Sponsor(s):"Participatio
 n in this meeting does not result in credit for CFI renewal"&nbsp;\nThis di
 scussion is an opportunity to collaborate and develop best practices, to mi
 tigate the risks identified in the discussion, for both the Instructor and 
 the student. The result can enhance communication and standardization of th
 e pilot training and evaluation processes.\n&nbsp;\nTogether as a Team, the
  Instructors and Designated Pilot Examiners can combine their extensive kno
 wledge and experience with sound judgment to create and provide the most co
 mprehensive and effective pilot training experience, followed by a reliable
  and effective evaluation.\n&nbsp;\nThe FAASTeam would like to thank the So
 ciety of Aviation and Flight Educators (SAFE) for their participation and c
 ontribution to the CFI Open Forum effort, without which we would not have b
 een able to offer this opportunity to the aviation community.\n\n\n&nbsp;\n
 Equal Access Information:The FAA Safety Team (FAASTeam) is committed to pro
 viding equal access to this meeting/event for all participants. If you need
  alternative formats or services because of a disability, please communicat
 e your request as soon as possible with the person in the “Contact Informat
 ion” area of the meeting/event notice. Note that two weeks is usually requi
 red to arrange services.Credit Applicability:1 Credit for Basic Knowledge T
 opic 31 Credit for Master Knowledge Topic 2
CONTACT:Jim Anderson Phone: (623) 694-7742 This email address is being protected from spambots. You need JavaScript enabled to view it.
				document.getElementById('cloakbf741e039829bd19c8350cd529626669').innerHTML = '';
				var prefix = '&#109;a' + 'i&#108;' + '&#116;o';
				var path = 'hr' + 'ef' + '=';
				var addybf741e039829bd19c8350cd529626669 = 'j&#105;m.&#97;nd&#101;rs&#111;n' + '&#64;';
				addybf741e039829bd19c8350cd529626669 = addybf741e039829bd19c8350cd529626669 + 'cvst&#97;rrc&#111;' + '&#46;' + 'c&#111;m';
				var addy_textbf741e039829bd19c8350cd529626669 = 'j&#105;m.&#97;nd&#101;rs&#111;n' + '&#64;' + 'cvst&#97;rrc&#111;' + '&#46;' + 'c&#111;m';document.getElementById('cloakbf741e039829bd19c8350cd529626669').innerHTML += ''+addy_textbf741e039829bd19c8350cd529626669+'';
		
DTSTAMP:20260422T160305Z
DTSTART;TZID=America/Phoenix:20230717T170000
SEQUENCE:0
TRANSP:OPAQUE
END:VEVENT
END:VCALENDAR