BEGIN:VCALENDAR
VERSION:2.0
PRODID:-//jEvents 2.0 for Joomla//EN
CALSCALE:GREGORIAN
METHOD:PUBLISH
BEGIN:VEVENT
UID:01221a366fab239c33a1e70f3fb04a16
CATEGORIES:Safety
CREATED:20230711T153756
SUMMARY:Medicals and Mid-Air Collision Avoidance at Flagstaff
LOCATION:Wiseman Aviation Maintenance Hangar 2650 W. Shamrell Blvd. Flagstaff, AZ 86
 005
DESCRIPTION;ENCODING=QUOTED-PRINTABLE:Medicals and Mid-Air Collision AvoidanceFAA Medical Issues and Mid-Air Coll
 ision AvoidanceDate and Time: Saturday, July 22, 2023, starting at 09:00 Ar
 izonaSpeaker(s): Capt Cody “Lock” Malone Chief, 56 FW/Safety Officer, &amp;
  Dr. Jane Dill, AMEBrief Description:A 3-hour program that includes the Luk
 e AFB Safety program on mid-air collision avoidance with military jet traff
 ic, &nbsp;Dr. Jane Dill talking about FAA medical issues, Flagstaff air tra
 ffic control tower on airport operations and airport Ops folks on airport c
 ondition updates.\n*Prior to attending a safety seminar please review and a
 bide by current CDC, State and Local health guidelines.\nSelect Number: WP0
 7123025Location of Seminar:Wiseman Aviation Maintenance Hangar\n2650 W. Sha
 mrell Blvd.\nFlagstaff, AZ&nbsp;86005Directions to Venue:I-17 exit 337 towa
 rds airport, Turn right on Shamrell Blvd by Swift gas station, turn onto 2n
 d&nbsp;LEFT turn onto Grumman st., bear right into our parking lot.&nbsp; F
 ollow signs to hangar entrance.\nFly-in Seminar?: Yes&nbsp;&nbsp;KFLGSeatin
 g: 60 seats at the facilityRegistration Information:&nbsp;Click here to reg
 ister online now!Sponsoring Division: Scottsdale FSDOContact Information:FR
 ED L. GIBBS\nPhone: (410) 206-3753\nThis email address is being protected f
 rom spambots. You need JavaScript enabled to view it.
				document.getEleme
 ntById('cloak1e89d91cef8581bb12a9fa2ede211c7f').innerHTML = '';
				var pre
 fix = '&#109;a' + 'i&#108;' + '&#116;o';
				var path = 'hr' + 'ef' + '=';

 				var addy1e89d91cef8581bb12a9fa2ede211c7f = 'fr&#101;dg&#105;bbs' + '&#6
 4;';
				addy1e89d91cef8581bb12a9fa2ede211c7f = addy1e89d91cef8581bb12a9fa2
 ede211c7f + 'npgc&#97;bl&#101;' + '&#46;' + 'c&#111;m';
				var addy_text1e
 89d91cef8581bb12a9fa2ede211c7f = 'fr&#101;dg&#105;bbs' + '&#64;' + 'npgc&#9
 7;bl&#101;' + '&#46;' + 'c&#111;m';document.getElementById('cloak1e89d91cef
 8581bb12a9fa2ede211c7f').innerHTML += ''+addy_text1e89d91cef8581bb12a9fa2ed
 e211c7f+'';
		Additional Event Information &amp; Acknowledgement of Industr
 y Sponsor(s):An Arizona Pilots Association safety program, sponsored by Wis
 eman Aviation and supported by local EAA chapter 856 and the Flagstaff airp
 ort.\nEqual Access Information:The FAA Safety Team (FAASTeam) is committed 
 to providing equal access to this meeting/event for all participants. If yo
 u need alternative formats or services because of a disability, please comm
 unicate your request as soon as possible with the person in the “Contact In
 formation” area of the meeting/event notice. Note that two weeks is usually
  required to arrange services.Credit Applicability:1 Credit for Basic Knowl
 edge Topic 31 Credit for Advanced Knowledge Topic 11 Credit for Master Know
 ledge Topic 1
CONTACT:FRED L. GIBBS Phone: (410) 206-3753 This email address is being protected from spambots. You need JavaScript enabled to view it.
				document.getElementById('cloak2b77201719ce2117256a74a3874d92af').innerHTML = '';
				var prefix = '&#109;a' + 'i&#108;' + '&#116;o';
				var path = 'hr' + 'ef' + '=';
				var addy2b77201719ce2117256a74a3874d92af = 'fr&#101;dg&#105;bbs' + '&#64;';
				addy2b77201719ce2117256a74a3874d92af = addy2b77201719ce2117256a74a3874d92af + 'npgc&#97;bl&#101;' + '&#46;' + 'c&#111;m';
				var addy_text2b77201719ce2117256a74a3874d92af = 'fr&#101;dg&#105;bbs' + '&#64;' + 'npgc&#97;bl&#101;' + '&#46;' + 'c&#111;m';document.getElementById('cloak2b77201719ce2117256a74a3874d92af').innerHTML += ''+addy_text2b77201719ce2117256a74a3874d92af+'';
		
DTSTAMP:20260422T160300Z
DTSTART;TZID=America/Phoenix:20230722T080000
SEQUENCE:0
TRANSP:OPAQUE
END:VEVENT
END:VCALENDAR